{"text_format":"1","workbook":"xlsx","n_sheets":14,"sheets":["基本設定","表紙①","細1-1","細1-2","細1-3","細1-4","細1-5","細1-6","細1-7","細1-8","細1-9","細1-10","細1-11","細1-12"],"not_rendered":{"charts":0,"images":0,"macros":1,"external_links":0,"defined_names":32,"comments":1,"pivot_tables":0},"unopened":[],"bounds":{"document_bytes":16777216,"sheet_cells":100000,"rows_first":2000,"rows_last":500,"rows_between":2000,"halvings":0,"cell_chars":16384,"cell_head_chars":4096},"cells_cut":0,"cells_raw":0,"read":"whole","date_system":"1900"}

{"sheet":"基本設定","index":0,"n_rows":70,"n_cols":9,"rows_kept":70,"cut":false,"hidden":false,"merged":[[15,1,15,2],[6,6,6,8],[0,6,0,8],[7,7,7,8]]}
[null,"注:赤字項目は必須","【基本情報】",null,"【入力例】",null,"【消費税情報】"]
[]
[null,"社名",null,null,"(株)種村建設",null,"標準税率",10]
[null,"住所",null,null,"新潟県南魚沼市水尾４１７",null,"軽減税率",8,"軽"]
[null,"代表者",null,null,"代表取締役 種村成徳",null,"経過措置旧税率",8.1,"旧"]
[null,"電話",null,null,"025-779-2311",null,"非不課税",0,"非"]
[]
[null,"銀行名",null,null,"第四北越銀行",null,"ﾊﾞｰｼﾞｮﾝ","Ver.4.1.2"]
[null,"支店名",null,null,"六日町中央支店"]
[null,"口座名義",null,null,"カ.タネムラケンセツ"]
[null,"口座種別",null,null,"2.当座"]
[null,"口座番号",null,null,121813]
[null,"ｲﾝﾎﾞｲｽ登録番号",null,null,"T41100102634"]
[]
[]
[null,"【利用方法】"]
[null,"０．変更箇所"]
[null,"　　今回のバージョンから、消費税のインボイス制度に対応しました。"]
[]
[null,"１．基本情報の入力"]
[null,"　　まず、基本情報を入力してください。各書式に反映します。"]
[null,"　　赤字の所は必須項目なので、入力しないと印刷できません。"]
[null,"　　ｲﾝﾎﾞｲｽ登録番号取得前に、このﾊﾞｰｼﾞｮﾝを使用する場合は、法人番号を登録番号入力欄に入力して下さい。"]
[]
[null,"２．消費税情報"]
[null,"　　①今回から消費税は、明細書毎に税率を入力して下さい。従って、表紙は、日付だけの入力となりました。"]
[]
[null,"　　②調整消費税額"]
[null,"　　　特にコンピューター処理されている場合、入力が必要になる場合があります。"]
[null,"　　　ソフトによっては、商品1ヶ毎に消費税を掛けている場合がありますので、"]
[null,"　　　このような場合、消費税額が合わなくなります。そろぞれの明細書の[税調]欄に、貴社の消費税額の"]
[null,"　　　差額を入力してください。差額分が＋－されて反映されます。"]
[]
[null,"　　③消費税率"]
[null,"　　　各明細書の税率欄に、消費税率を入力して下さい。"]
[null,"　　　税率は、現在[10][8][8.1][0]の4種類に対応しています。"]
[null,"　　　それぞれの明細書(現場)毎に消費税を計算しますので、１件の明細書(現場)で、複数の消費税が発生する"]
[null,"　　　場合は、面倒でも消費税毎に明細書(現場)を分けて下さい。"]
[null,"　　　尚、[8]は、軽減税率8%を、[8.1]は、経過措置旧税率8%を、[0]は、非不課税を意味します。"]
[null,"　　　便宜上、経過措置旧税率8%を、[8.1]と入力しますが、消費税額は、金額(税抜)*8%での計算となります。"]
[null,"　　　また、消費税率が変更若しくは追加になった場合は、この書式を変更しますので追って連絡します。"]
[]
[null,"　　④端数処理"]
[null,"　　　消費税計算と明細表の税抜金額計算時の小数点以下の処理は、四捨五入です。"]
[]
[null,"　　⑤インボイス制度"]
[null,"　　　上記制度に対応するため、それぞれの税率に対する消費税額及び対象額を表示する仕様にしました。"]
[]
[null,"３．書式情報"]
[null,"　　　①表紙の入力"]
[null,"　　　　「日付欄(必須)」と、必要に応じて「備考･通信欄」だけ入力して下さい。"]
[null,"　　　　その他、「工事番号」「工事名」「税抜金額」「税率」「消費税」等は、"]
[null,"　　　　明細書を参照しています。入力不要です。"]
[null,"　　　　こちらも同じく、表紙(貴社控･現場控)は、入力不要です。"]
[]
[null,"　　　②明細書の入力"]
[null,"　　　　明細書での入力項目は、「工事番号」,「工事名」,「品名･内訳」,「数量」,「単位」,「単価」,「税率」"]
[null,"　　　　です。必要に応じて、「税調」(消費税調整用)欄に入力して下さい。"]
[]
[null,"　　　表紙は、１枚用意してあります(１２現場分)。"]
[null,"　　　・表紙①に対応する明細書は、細1-1～細1-12。"]
[]
[]
[null,"４．その他"]
[null,"　　①各シートは、念のため保護されています。"]
[null,"　　　従って、必要に応じて保護を解除し、訂正してください。"]
[null,"　　　パスワードは、設定していません。"]
[null,"　　②簡単なマクロが設定されていますが、こちらもパスワードは設定していません。"]
[null,"　　　適宜変更して、使用してください。"]
[null,"　　　シートのタブ名は変更しないでください。マクロを修正しないとエラーが発生します。"]

{"sheet":"表紙①","index":1,"n_rows":269,"n_cols":41,"rows_kept":269,"cut":false,"hidden":false,"merged":[[83,0,86,0],[87,0,90,0],[91,0,94,0],[47,0,50,0],[51,0,54,0],[55,0,58,0],[59,0,62,0],[63,0,66,0],[67,0,70,0],[71,0,74,0],[75,0,78,0],[79,0,82,0],[256,16,257,19],[258,16,259,19],[260,16,261,19],[262,16,263,19],[262,20,263,24],[262,25,263,29],[262,30,263,34],[268,33,269,36],[256,20,257,24],[256,25,257,29],[256,30,257,34],[258,20,259,24],[258,25,259,29],[258,30,259,34],[260,20,261,24],[260,25,261,29],[260,30,261,34],[236,1,237,34],[238,1,239,34],[240,1,250,34],[252,20,253,24],[252,25,253,29],[252,30,253,34],[254,20,255,24],[254,25,255,29],[254,30,255,34],[254,16,255,19],[252,16,253,19],[227,1,230,4],[227,5,230,16],[227,17,230,24],[227,25,230,26],[227,27,230,27],[227,28,230,28],[227,29,230,34],[231,1,234,16],[231,17,234,24],[231,29,234,34],[219,1,222,4],[219,5,222,16],[219,17,222,24],[219,25,222,26],[219,27,222,27],[219,28,222,28],[219,29,222,34],[223,1,226,4],[223,5,226,16],[223,17,226,24],[223,25,226,26],[223,27,226,27],[223,28,226,28],[223,29,226,34],[211,1,214,4],[211,5,214,16],[211,17,214,24],[211,25,214,26],[211,27,214,27],[211,28,214,28],[211,29,214,34],[215,1,218,4],[215,5,218,16],[215,17,218,24],[215,25,218,26],[215,27,218,27],[215,28,218,28],[215,29,218,34],[203,1,206,4],[203,5,206,16],[203,17,206,24],[203,25,206,26],[203,27,206,27],[203,28,206,28],[203,29,206,34],[207,1,210,4],[207,5,210,16],[207,17,210,24],[207,25,210,26],[207,27,210,27],[207,28,210,28],[207,29,210,34],[195,1,198,4],[195,5,198,16],[195,17,198,24],[195,25,198,26],[195,27,198,27],[195,28,198,28],[195,29,198,34],[199,1,202,4],[199,5,202,16],[199,17,202,24],[199,25,202,26],[199,27,202,27],[199,28,202,28],[199,29,202,34],[187,1,190,4],[187,5,190,16],[187,17,190,24],[187,25,190,26],[187,27,190,27],[187,28,190,28],[187,29,190,34],[191,1,194,4],[191,5,194,16],[191,17,194,24],[191,25,194,26],[191,27,194,27],[191,28,194,28],[191,29,194,34],[179,1,182,4],[179,5,182,16],[179,17,182,24],[179,25,182,27],[179,28,182,28],[179,29,182,34],[183,1,186,4],[183,5,186,16],[183,17,186,24],[183,25,186,26],[183,27,186,27],[183,28,186,28],[183,29,186,34],[156,32,161,34],[158,18,160,31],[161,1,164,6],[161,7,164,16],[161,18,163,31],[165,1,168,6],[165,7,168,16],[165,18,167,21],[165,22,167,27],[165,28,167,34],[168,18,170,21],[168,22,170,34],[169,1,172,6],[169,7,172,16],[171,18,173,21],[171,22,173,26],[171,27,173,34],[173,1,176,6],[173,7,176,16],[174,18,176,21],[174,22,176,34],[155,18,157,31],[156,1,159,6],[156,7,159,16],[132,33,133,36],[137,11,140,24],[139,33,140,34],[145,21,147,25],[145,26,147,28],[145,29,147,31],[145,32,147,34],[147,1,150,12],[147,13,150,14],[150,18,151,34],[120,25,121,29],[120,30,121,34],[122,20,123,24],[122,25,123,29],[122,30,123,34],[124,20,125,24],[124,25,125,29],[124,30,125,34],[126,20,127,24],[126,25,127,29],[126,30,127,34],[95,29,98,34],[100,1,101,34],[102,1,103,34],[104,1,114,34],[116,20,117,24],[116,25,117,29],[116,30,117,34],[118,20,119,24],[118,25,119,29],[118,30,119,34],[87,25,90,26],[87,27,90,27],[87,28,90,28],[87,29,90,34],[91,1,94,4],[91,5,94,16],[91,17,94,24],[91,25,94,26],[91,27,94,27],[91,28,94,28],[91,29,94,34],[79,25,82,26],[79,27,82,27],[79,28,82,28],[79,29,82,34],[83,1,86,4],[83,5,86,16],[83,17,86,24],[83,25,86,26],[83,27,86,27],[83,28,86,28],[83,29,86,34],[71,27,74,27],[71,28,74,28],[71,29,74,34],[75,1,78,4],[75,5,78,16],[75,17,78,24],[75,25,78,26],[75,27,78,27],[75,28,78,28],[75,29,78,34],[47,39,50,39],[51,1,54,4],[51,5,54,16],[51,17,54,24],[51,25,54,26],[51,27,54,27],[51,28,54,28],[51,29,54,34],[55,1,58,4],[55,5,58,16],[55,17,58,24],[55,25,58,26],[55,27,58,27],[55,28,58,28],[55,29,58,34],[47,27,50,27],[47,28,50,28],[47,29,50,34],[35,40,38,43],[35,44,38,52],[35,53,38,62],[37,1,40,6],[37,7,40,16],[38,18,40,21],[38,22,40,34],[42,40,45,43],[42,44,45,62],[43,1,46,4],[43,5,46,16],[43,17,46,24],[43,25,46,27],[43,28,46,28],[43,29,46,34],[46,40,49,43],[46,44,49,46],[46,47,49,51],[46,52,49,55],[46,56,49,62],[47,1,50,4],[47,5,50,16],[47,17,50,24],[47,25,50,26],[29,1,32,6],[29,7,32,16],[29,18,31,21],[29,22,31,27],[29,28,31,34],[32,18,34,21],[32,22,34,34],[33,1,36,6],[33,7,36,16],[35,18,37,21],[35,22,37,26],[35,27,37,34],[9,40,11,43],[11,1,14,12],[11,13,14,14],[14,18,15,34],[16,1,17,12],[16,18,18,31],[19,18,21,31],[20,1,23,6],[20,7,23,16],[20,32,25,34],[22,18,24,31],[25,1,28,6],[25,7,28,16],[25,18,27,31],[59,25,62,26],[59,27,62,27],[59,28,62,28],[59,29,62,34],[63,17,66,24],[63,25,66,26],[63,27,66,27],[152,18,154,31],[1,12,4,23],[3,33,4,34],[9,21,11,25],[9,26,11,28],[9,29,11,31],[9,32,11,34],[63,28,66,28],[63,29,66,34],[67,5,70,16],[67,17,70,24],[67,25,70,26],[67,27,70,27],[67,28,70,28],[67,29,70,34],[71,17,74,24],[71,25,74,26],[59,1,62,4],[59,5,62,16],[63,1,66,4],[63,5,66,16],[152,1,153,12],[71,1,74,4],[71,5,74,16],[118,16,119,19],[120,16,121,19],[122,16,123,19],[124,16,125,19],[126,16,127,19],[116,16,117,19],[59,17,62,24],[67,1,70,4],[79,1,82,4],[79,5,82,16],[79,17,82,24],[87,1,90,4],[87,5,90,16],[87,17,90,24],[95,1,98,16],[95,17,98,24],[120,20,121,24]]}
[]
[null,null,null,null,null,null,null,null,null,null,null,null,"請　求　書 (正)"]
[]
[]
[]
[]
[]
[]
[]
[null,null,null,null,null,null,null,null,null,null,null,null,null,null,null,null,null,null,null,null,null,"請求年月日",null,null,null,null,null,null,null,null,null,null,null,null,null,null,null,null,null,null,"明細付表紙"]
[]
[null,"株 式 会 社  小 田 道 路",null,null,null,null,null,null,null,null,null,null,null,"御中"]
[]
[]
[null,null,null,null,null,null,null,null,null,null,null,null,null,null,null,null,null,null,"住所･社名･電話"]
[]
[null,"　下記の通りご請求します。",null,null,null,null,null,null,null,null,null,null,null,null,null,null,null,null,{"$f":"IF(住所=\"\",\"\",住所)","v":""}]
[]
[]
[null,null,null,null,null,null,null,null,null,null,null,null,null,null,null,null,null,null,{"$f":"IF(社名=\"\",\"\",社名)","v":""}]
[null,"御請求金額",null,null,null,null,null,{"$f":"H26+H38","v":0},null,null,null,null,null,null,null,null,null,null,null,null,null,null,null,null,null,null,null,null,null,null,null,null,"印"]
[]
[null,null,null,null,null,null,null,null,null,null,null,null,null,null,null,null,null,null,{"$f":"IF(代表者=\"\",\"\",代表者)","v":""}]
[]
[]
[null,"前月繰越額",null,null,null,null,null,0,null,null,null,null,null,null,null,null,null,null,{"$f":"IF(電話=\"\",\"\",電話)","v":""}]
[]
[]
[]
[null,"当月請求額",null,null,null,null,null,{"$f":"IF(R96=0,0,R96)","v":0},null,null,null,null,null,null,null,null,null,null,"取引銀行",null,null,null,{"$f":"IF(銀行名=\"\",\"\",銀行名)","v":""},null,null,null,null,null,{"$f":"IF(支店名=\"\",\"\",支店名)","v":""}]
[]
[]
[null,null,null,null,null,null,null,null,null,null,null,null,null,null,null,null,null,null,"口座名義",null,null,null,{"$f":"IF(口座名義=\"\",\"\",口座名義)","v":""}]
[null,"消費税額",null,null,null,null,null,{"$f":"IF(AD96=0,0,AD96)","v":0}]
[]
[null,null,null,null,null,null,null,null,null,null,null,null,null,null,null,null,null,null,"口座番号",null,null,null,{"$f":"IF(口座種別=\"\",\"\",口座種別)","v":""},null,null,null,null,{"$f":"IF(口座番号=\"\",\"\",口座番号)","v":""}]
[]
[null,"今回請求額",null,null,null,null,null,{"$f":"H30+H34","v":0}]
[null,null,null,null,null,null,null,null,null,null,null,null,null,null,null,null,null,null,"登録番号",null,null,null,{"$f":"IF(登録番号=\"\",\"\",登録番号)","v":""}]
[]
[]
[]
[]
[null,"工事番号",null,null,null,"工事名",null,null,null,null,null,null,null,null,null,null,null,"金額(税抜)",null,null,null,null,null,null,null,"税率",null,null,"税調","消費税"]
[]
[]
[]
[1,{"$f":"IF('細1-1'!F$25=\"\",\"\",'細1-1'!F$25)","v":""},null,null,null,{"$f":"IF('細1-1'!N$25=\"\",\"\",'細1-1'!N$25)","v":""},null,null,null,{"$f":"IF('細1-1'!N$25=\"\",\"\",'細1-1'!N$25)","v":""},null,null,null,{"$f":"IF('細1-1'!R$25=\"\",\"\",'細1-1'!R$25)","v":""},null,null,null,{"$f":"IF('細1-1'!AF$110=\"\",\"\",'細1-1'!AF$110)","v":""},null,null,null,{"$f":"IF('細1-1'!Z$25=\"\",\"\",'細1-1'!Z$25)","v":""},null,null,null,{"$f":"IF('細1-1'!AA$117=\"\",\"\",'細1-1'!AA$117)","v":""},null,{"$f":"IF('細1-1'!AC$117=\"\",\"\",'細1-1'!AC$117)","v":""},{"$f":"IF('細1-1'!AD$117=\"\",\"\",'細1-1'!AD$117)","v":""},{"$f":"IF('細1-1'!AF$115=\"\",\"\",'細1-1'!AF$115)","v":""}]
[]
[]
[]
[2,{"$f":"IF('細1-2'!F$25=\"\",\"\",'細1-2'!F$25)","v":""},null,null,null,{"$f":"IF('細1-2'!N$25=\"\",\"\",'細1-2'!N$25)","v":""},null,null,null,{"$f":"IF('細1-1'!N$25=\"\",\"\",'細1-1'!N$25)","v":""},null,null,null,{"$f":"IF('細1-1'!R$25=\"\",\"\",'細1-1'!R$25)","v":""},null,null,null,{"$f":"IF('細1-2'!AF$110=\"\",\"\",'細1-2'!AF$110)","v":""},null,null,null,{"$f":"IF('細1-1'!Z$25=\"\",\"\",'細1-1'!Z$25)","v":""},null,null,null,{"$f":"IF('細1-2'!AA$117=\"\",\"\",'細1-2'!AA$117)","v":""},null,{"$f":"IF('細1-2'!AC$117=\"\",\"\",'細1-2'!AC$117)","v":""},{"$f":"IF('細1-2'!AD$117=\"\",\"\",'細1-2'!AD$117)","v":""},{"$f":"IF('細1-2'!AF$115=\"\",\"\",'細1-2'!AF$115)","v":""}]
[]
[]
[]
[3,{"$f":"IF('細1-3'!F$25=\"\",\"\",'細1-3'!F$25)","v":""},null,null,null,{"$f":"IF('細1-3'!N$25=\"\",\"\",'細1-3'!N$25)","v":""},null,null,null,{"$f":"IF('細1-1'!N$25=\"\",\"\",'細1-1'!N$25)","v":""},null,null,null,{"$f":"IF('細1-1'!R$25=\"\",\"\",'細1-1'!R$25)","v":""},null,null,null,{"$f":"IF('細1-3'!AF$110=\"\",\"\",'細1-3'!AF$110)","v":""},null,null,null,{"$f":"IF('細1-1'!Z$25=\"\",\"\",'細1-1'!Z$25)","v":""},null,null,null,{"$f":"IF('細1-3'!AA$117=\"\",\"\",'細1-3'!AA$117)","v":""},null,{"$f":"IF('細1-3'!AC$117=\"\",\"\",'細1-3'!AC$117)","v":""},{"$f":"IF('細1-3'!AD$117=\"\",\"\",'細1-3'!AD$117)","v":""},{"$f":"IF('細1-3'!AF$115=\"\",\"\",'細1-3'!AF$115)","v":""}]
[]
[]
[]
[4,{"$f":"IF('細1-4'!F$25=\"\",\"\",'細1-4'!F$25)","v":""},null,null,null,{"$f":"IF('細1-4'!N$25=\"\",\"\",'細1-4'!N$25)","v":""},null,null,null,{"$f":"IF('細1-1'!N$25=\"\",\"\",'細1-1'!N$25)","v":""},null,null,null,{"$f":"IF('細1-1'!R$25=\"\",\"\",'細1-1'!R$25)","v":""},null,null,null,{"$f":"IF('細1-4'!AF$110=\"\",\"\",'細1-4'!AF$110)","v":""},null,null,null,{"$f":"IF('細1-1'!Z$25=\"\",\"\",'細1-1'!Z$25)","v":""},null,null,null,{"$f":"IF('細1-4'!AA$117=\"\",\"\",'細1-4'!AA$117)","v":""},null,{"$f":"IF('細1-4'!AC$117=\"\",\"\",'細1-4'!AC$117)","v":""},{"$f":"IF('細1-4'!AD$117=\"\",\"\",'細1-4'!AD$117)","v":""},{"$f":"IF('細1-4'!AF$115=\"\",\"\",'細1-4'!AF$115)","v":""}]
[]
[]
[]
[5,{"$f":"IF('細1-5'!F$25=\"\",\"\",'細1-5'!F$25)","v":""},null,null,null,{"$f":"IF('細1-5'!N$25=\"\",\"\",'細1-5'!N$25)","v":""},null,null,null,{"$f":"IF('細1-1'!N$25=\"\",\"\",'細1-1'!N$25)","v":""},null,null,null,{"$f":"IF('細1-1'!R$25=\"\",\"\",'細1-1'!R$25)","v":""},null,null,null,{"$f":"IF('細1-5'!AF$110=\"\",\"\",'細1-5'!AF$110)","v":""},null,null,null,{"$f":"IF('細1-1'!Z$25=\"\",\"\",'細1-1'!Z$25)","v":""},null,null,null,{"$f":"IF('細1-5'!AA$117=\"\",\"\",'細1-5'!AA$117)","v":""},null,{"$f":"IF('細1-5'!AC$117=\"\",\"\",'細1-5'!AC$117)","v":""},{"$f":"IF('細1-5'!AD$117=\"\",\"\",'細1-5'!AD$117)","v":""},{"$f":"IF('細1-5'!AF$115=\"\",\"\",'細1-5'!AF$115)","v":""}]
[]
[]
[]
[6,{"$f":"IF('細1-6'!F$25=\"\",\"\",'細1-6'!F$25)","v":""},null,null,null,{"$f":"IF('細1-6'!N$25=\"\",\"\",'細1-6'!N$25)","v":""},null,null,null,{"$f":"IF('細1-1'!N$25=\"\",\"\",'細1-1'!N$25)","v":""},null,null,null,{"$f":"IF('細1-1'!R$25=\"\",\"\",'細1-1'!R$25)","v":""},null,null,null,{"$f":"IF('細1-6'!AF$110=\"\",\"\",'細1-6'!AF$110)","v":""},null,null,null,{"$f":"IF('細1-1'!Z$25=\"\",\"\",'細1-1'!Z$25)","v":""},null,null,null,{"$f":"IF('細1-6'!AA$117=\"\",\"\",'細1-6'!AA$117)","v":""},null,{"$f":"IF('細1-6'!AC$117=\"\",\"\",'細1-6'!AC$117)","v":""},{"$f":"IF('細1-6'!AD$117=\"\",\"\",'細1-6'!AD$117)","v":""},{"$f":"IF('細1-6'!AF$115=\"\",\"\",'細1-6'!AF$115)","v":""}]
[]
[]
[]
[7,{"$f":"IF('細1-7'!F$25=\"\",\"\",'細1-7'!F$25)","v":""},null,null,null,{"$f":"IF('細1-7'!N$25=\"\",\"\",'細1-7'!N$25)","v":""},null,null,null,{"$f":"IF('細1-1'!N$25=\"\",\"\",'細1-1'!N$25)","v":""},null,null,null,{"$f":"IF('細1-1'!R$25=\"\",\"\",'細1-1'!R$25)","v":""},null,null,null,{"$f":"IF('細1-7'!AF$110=\"\",\"\",'細1-7'!AF$110)","v":""},null,null,null,{"$f":"IF('細1-1'!Z$25=\"\",\"\",'細1-1'!Z$25)","v":""},null,null,null,{"$f":"IF('細1-7'!AA$117=\"\",\"\",'細1-7'!AA$117)","v":""},null,{"$f":"IF('細1-7'!AC$117=\"\",\"\",'細1-7'!AC$117)","v":""},{"$f":"IF('細1-7'!AD$117=\"\",\"\",'細1-7'!AD$117)","v":""},{"$f":"IF('細1-7'!AF$115=\"\",\"\",'細1-7'!AF$115)","v":""}]
[]
[]
[]
[8,{"$f":"IF('細1-8'!F$25=\"\",\"\",'細1-8'!F$25)","v":""},null,null,null,{"$f":"IF('細1-8'!N$25=\"\",\"\",'細1-8'!N$25)","v":""},null,null,null,{"$f":"IF('細1-1'!N$25=\"\",\"\",'細1-1'!N$25)","v":""},null,null,null,{"$f":"IF('細1-1'!R$25=\"\",\"\",'細1-1'!R$25)","v":""},null,null,null,{"$f":"IF('細1-8'!AF$110=\"\",\"\",'細1-8'!AF$110)","v":""},null,null,null,{"$f":"IF('細1-1'!Z$25=\"\",\"\",'細1-1'!Z$25)","v":""},null,null,null,{"$f":"IF('細1-8'!AA$117=\"\",\"\",'細1-8'!AA$117)","v":""},null,{"$f":"IF('細1-8'!AC$117=\"\",\"\",'細1-8'!AC$117)","v":""},{"$f":"IF('細1-8'!AD$117=\"\",\"\",'細1-8'!AD$117)","v":""},{"$f":"IF('細1-8'!AF$115=\"\",\"\",'細1-8'!AF$115)","v":""}]
[]
[]
[]
[9,{"$f":"IF('細1-9'!F$25=\"\",\"\",'細1-9'!F$25)","v":""},null,null,null,{"$f":"IF('細1-9'!N$25=\"\",\"\",'細1-9'!N$25)","v":""},null,null,null,{"$f":"IF('細1-1'!N$25=\"\",\"\",'細1-1'!N$25)","v":""},null,null,null,{"$f":"IF('細1-1'!R$25=\"\",\"\",'細1-1'!R$25)","v":""},null,null,null,{"$f":"IF('細1-9'!AF$110=\"\",\"\",'細1-9'!AF$110)","v":""},null,null,null,{"$f":"IF('細1-1'!Z$25=\"\",\"\",'細1-1'!Z$25)","v":""},null,null,null,{"$f":"IF('細1-9'!AA$117=\"\",\"\",'細1-9'!AA$117)","v":""},null,{"$f":"IF('細1-9'!AC$117=\"\",\"\",'細1-9'!AC$117)","v":""},{"$f":"IF('細1-9'!AD$117=\"\",\"\",'細1-9'!AD$117)","v":""},{"$f":"IF('細1-9'!AF$115=\"\",\"\",'細1-9'!AF$115)","v":""}]
[]
[]
[]
[10,{"$f":"IF('細1-10'!F$25=\"\",\"\",'細1-10'!F$25)","v":""},null,null,null,{"$f":"IF('細1-10'!N$25=\"\",\"\",'細1-10'!N$25)","v":""},null,null,null,{"$f":"IF('細1-1'!N$25=\"\",\"\",'細1-1'!N$25)","v":""},null,null,null,{"$f":"IF('細1-1'!R$25=\"\",\"\",'細1-1'!R$25)","v":""},null,null,null,{"$f":"IF('細1-10'!AF$110=\"\",\"\",'細1-10'!AF$110)","v":""},null,null,null,{"$f":"IF('細1-1'!Z$25=\"\",\"\",'細1-1'!Z$25)","v":""},null,null,null,{"$f":"IF('細1-10'!AA$117=\"\",\"\",'細1-10'!AA$117)","v":""},null,{"$f":"IF('細1-10'!AC$117=\"\",\"\",'細1-10'!AC$117)","v":""},{"$f":"IF('細1-10'!AD$117=\"\",\"\",'細1-10'!AD$117)","v":""},{"$f":"IF('細1-10'!AF$115=\"\",\"\",'細1-10'!AF$115)","v":""}]
[]
[]
[]
[11,{"$f":"IF('細1-11'!F$25=\"\",\"\",'細1-11'!F$25)","v":""},null,null,null,{"$f":"IF('細1-11'!N$25=\"\",\"\",'細1-11'!N$25)","v":""},null,null,null,{"$f":"IF('細1-1'!N$25=\"\",\"\",'細1-1'!N$25)","v":""},null,null,null,{"$f":"IF('細1-1'!R$25=\"\",\"\",'細1-1'!R$25)","v":""},null,null,null,{"$f":"IF('細1-11'!AF$110=\"\",\"\",'細1-11'!AF$110)","v":""},null,null,null,{"$f":"IF('細1-1'!Z$25=\"\",\"\",'細1-1'!Z$25)","v":""},null,null,null,{"$f":"IF('細1-11'!AA$117=\"\",\"\",'細1-11'!AA$117)","v":""},null,{"$f":"IF('細1-11'!AC$117=\"\",\"\",'細1-11'!AC$117)","v":""},{"$f":"IF('細1-11'!AD$117=\"\",\"\",'細1-11'!AD$117)","v":""},{"$f":"IF('細1-11'!AF$115=\"\",\"\",'細1-11'!AF$115)","v":""}]
[]
[]
[]
[12,{"$f":"IF('細1-12'!F$25=\"\",\"\",'細1-12'!F$25)","v":""},null,null,null,{"$f":"IF('細1-12'!N$25=\"\",\"\",'細1-12'!N$25)","v":""},null,null,null,{"$f":"IF('細1-1'!N$25=\"\",\"\",'細1-1'!N$25)","v":""},null,null,null,{"$f":"IF('細1-1'!R$25=\"\",\"\",'細1-1'!R$25)","v":""},null,null,null,{"$f":"IF('細1-12'!AF$110=\"\",\"\",'細1-12'!AF$110)","v":""},null,null,null,{"$f":"IF('細1-1'!Z$25=\"\",\"\",'細1-1'!Z$25)","v":""},null,null,null,{"$f":"IF('細1-12'!AA$117=\"\",\"\",'細1-12'!AA$117)","v":""},null,{"$f":"IF('細1-12'!AC$117=\"\",\"\",'細1-12'!AC$117)","v":""},{"$f":"IF('細1-12'!AD$117=\"\",\"\",'細1-12'!AD$117)","v":""},{"$f":"IF('細1-12'!AF$115=\"\",\"\",'細1-12'!AF$115)","v":""}]
[]
[]
[]
[null,"合　　　　計",null,null,null,null,null,null,null,null,null,null,null,null,null,null,null,{"$f":"SUM(R48:R92)","v":0},null,null,null,null,null,null,null,null,null,null,null,{"$f":"SUM(AD48:AD95)","v":0}]
[]
[]
[]
[]
[null,"備     考 ・ 通  信  欄"]
[]
[null,"※軽:8%軽減税率、旧:8%経過措置旧税率、非:非課税、不課税を表します。"]
[]
[]
[]
[]
[]
[]
[]
[]
[]
[]
[]
[]
[]
[null,null,null,null,null,null,null,null,null,null,null,null,null,null,null,null,null,null,null,null,"税抜金額",null,null,null,null,"消費税額",null,null,null,null,"今回請求額"]
[]
[null,null,null,null,null,null,null,null,null,null,null,null,null,null,null,null,"10%対象額",null,null,null,{"$f":"SUMIF($Z$48:$Z$92,\"=10\",$R$48:$R$92)","v":0},null,null,null,null,{"$f":"SUMIF($Z$48:$AD$95,\"=10\",$AD$48:$AD$95)","v":0},null,null,null,null,{"$f":"IF(U119=\"\",\"\",U119+Z119)","v":0}]
[]
[null,null,null,null,null,null,null,null,null,null,null,null,null,null,null,null,"8%軽対象額",null,null,null,{"$f":"SUMIF($Z$48:$Z$92,\"=8\",$R$48:$R$92)","v":0},null,null,null,null,{"$f":"SUMIF($Z$48:$AD$95,\"=8\",$AD$48:$AD$95)","v":0},null,null,null,null,{"$f":"IF(U121=\"\",\"\",U121+Z121)","v":0}]
[]
[null,null,null,null,null,null,null,null,null,null,null,null,null,null,null,null,"8%旧対象額",null,null,null,{"$f":"SUMIF($Z$48:$Z$92,\"=8.1\",$R$48:$R$92)","v":0},null,null,null,null,{"$f":"SUMIF($Z$48:$AD$95,\"=8.1\",$AD$48:$AD$95)","v":0},null,null,null,null,{"$f":"IF(U123=\"\",\"\",U123+Z123)","v":0}]
[]
[null,null,null,null,null,null,null,null,null,null,null,null,null,null,null,null,"非不課税額",null,null,null,{"$f":"SUMIF($Z$48:$Z$92,\"=0\",$R$48:$R$92)","v":0},null,null,null,null,null,null,null,null,null,{"$f":"U125","v":0}]
[]
[null,null,null,null,null,null,null,null,null,null,null,null,null,null,null,null,"合計額",null,null,null,{"$f":"SUM(U119:Y126)","v":0},null,null,null,null,{"$f":"SUM(Z119:AD126)","v":0},null,null,null,null,{"$f":"IF(U127=\"\",\"\",U127+Z127)","v":0}]
[]
[]
[]
[]
[]
[null,null,null,null,null,null,null,null,null,null,null,null,null,null,null,null,null,null,null,null,null,null,null,null,null,null,null,null,null,null,null,null,null,{"$f":"ﾊﾞｰｼﾞｮﾝ","v":"Ver.4.1.2"}]
[]
[]
[]
[]
[null,null,null,null,null,null,null,null,null,null,null,"請 求 書(貴社控)"]
[]
[]
[]
[]
[]
[]
[]
[null,null,null,null,null,null,null,null,null,null,null,null,null,null,null,null,null,null,null,null,null,"請求年月日",null,null,null,null,{"$f":"IF(年=\"\",\"\",年)","v":""},null,null,{"$f":"IF(月=\"\",\"\",月)","v":""},null,null,{"$f":"IF(日=\"\",\"\",日)","v":""}]
[]
[null,"株 式 会 社  小 田 道 路",null,null,null,null,null,null,null,null,null,null,null,"御中"]
[]
[]
[null,null,null,null,null,null,null,null,null,null,null,null,null,null,null,null,null,null,"住所･社名･電話"]
[]
[null,"　下記の通りご請求します。",null,null,null,null,null,null,null,null,null,null,null,null,null,null,null,null,{"$f":"IF(住所=\"\",\"\",住所)","v":""}]
[]
[]
[null,null,null,null,null,null,null,null,null,null,null,null,null,null,null,null,null,null,{"$f":"IF(社名=\"\",\"\",社名)","v":""}]
[null,"御請求金額",null,null,null,null,null,{"$f":"H21","v":0},null,null,null,null,null,null,null,null,null,null,null,null,null,null,null,null,null,null,null,null,null,null,null,null,"印"]
[]
[null,null,null,null,null,null,null,null,null,null,null,null,null,null,null,null,null,null,{"$f":"IF(代表者=\"\",\"\",代表者)","v":""}]
[]
[]
[null,"前月繰越額",null,null,null,null,null,{"$f":"H26","v":0},null,null,null,null,null,null,null,null,null,null,{"$f":"IF(電話=\"\",\"\",電話)","v":""}]
[]
[]
[]
[null,"当月請求額",null,null,null,null,null,{"$f":"H30","v":0},null,null,null,null,null,null,null,null,null,null,"取引銀行",null,null,null,{"$f":"IF(銀行名=\"\",\"\",銀行名)","v":""},null,null,null,null,null,{"$f":"IF(支店名=\"\",\"\",支店名)","v":""}]
[]
[]
[null,null,null,null,null,null,null,null,null,null,null,null,null,null,null,null,null,null,"口座名義",null,null,null,{"$f":"IF(口座名義=\"\",\"\",口座名義)","v":""}]
[null,"諸費税額",null,null,null,null,null,{"$f":"H34","v":0}]
[]
[null,null,null,null,null,null,null,null,null,null,null,null,null,null,null,null,null,null,"口座番号",null,null,null,{"$f":"IF(口座種別=\"\",\"\",口座種別)","v":""},null,null,null,null,{"$f":"IF(口座番号=\"\",\"\",口座番号)","v":""}]
[]
[null,"今回請求額",null,null,null,null,null,{"$f":"H38","v":0}]
[null,null,null,null,null,null,null,null,null,null,null,null,null,null,null,null,null,null,"登録番号",null,null,null,{"$f":"IF(登録番号=\"\",\"\",登録番号)","v":""}]
[]
[]
[]
[]
[null,"工事番号",null,null,null,"工事名",null,null,null,null,null,null,null,null,null,null,null,"金額(税抜)",null,null,null,null,null,null,null,"税率",null,null,"税調","消費税"]
[]
[]
[]
[null,{"$f":"IF(B48=\"\",\"\",B48)","v":""},null,null,null,{"$f":"IF(F48=\"\",\"\",F48)","v":""},null,null,null,{"$f":"IF(J48=\"\",\"\",J48)","v":""},null,null,null,{"$f":"IF(N48=\"\",\"\",N48)","v":""},null,null,null,{"$f":"IF(R48=\"\",\"\",R48)","v":""},null,null,null,{"$f":"IF(V48=\"\",\"\",V48)","v":""},null,null,null,{"$f":"IF(Z48=\"\",\"\",Z48)","v":""},null,{"$f":"IF(AB48=\"\",\"\",AB48)","v":""},{"$f":"IF(AC48=\"\",\"\",AC48)","v":""},{"$f":"IF(AD48=\"\",\"\",AD48)","v":""},null,{"$f":"AF48","v":0},null,{"$f":"AH48","v":0}]
[]
[]
[]
[null,{"$f":"IF(B52=\"\",\"\",B52)","v":""},null,null,null,{"$f":"IF(F52=\"\",\"\",F52)","v":""},null,null,null,{"$f":"IF(J52=\"\",\"\",J52)","v":""},null,null,null,{"$f":"IF(N52=\"\",\"\",N52)","v":""},null,null,null,{"$f":"IF(R52=\"\",\"\",R52)","v":""},null,null,null,{"$f":"IF(V52=\"\",\"\",V52)","v":""},null,null,null,{"$f":"IF(Z52=\"\",\"\",Z52)","v":""},null,{"$f":"IF(AB52=\"\",\"\",AB52)","v":""},{"$f":"IF(AC52=\"\",\"\",AC52)","v":""},{"$f":"IF(AD52=\"\",\"\",AD52)","v":""},null,{"$f":"AF52","v":0},null,{"$f":"AH52","v":0}]
[]
[]
[]
[null,{"$f":"IF(B56=\"\",\"\",B56)","v":""},null,null,null,{"$f":"IF(F56=\"\",\"\",F56)","v":""},null,null,null,{"$f":"IF(J56=\"\",\"\",J56)","v":""},null,null,null,{"$f":"IF(N56=\"\",\"\",N56)","v":""},null,null,null,{"$f":"IF(R56=\"\",\"\",R56)","v":""},null,null,null,{"$f":"IF(V56=\"\",\"\",V56)","v":""},null,null,null,{"$f":"IF(Z56=\"\",\"\",Z56)","v":""},null,{"$f":"IF(AB56=\"\",\"\",AB56)","v":""},{"$f":"IF(AC56=\"\",\"\",AC56)","v":""},{"$f":"IF(AD56=\"\",\"\",AD56)","v":""},null,{"$f":"AF56","v":0},null,{"$f":"AH56","v":0}]
[]
[]
[]
[null,{"$f":"IF(B60=\"\",\"\",B60)","v":""},null,null,null,{"$f":"IF(F60=\"\",\"\",F60)","v":""},null,null,null,{"$f":"IF(J60=\"\",\"\",J60)","v":""},null,null,null,{"$f":"IF(N60=\"\",\"\",N60)","v":""},null,null,null,{"$f":"IF(R60=\"\",\"\",R60)","v":""},null,null,null,{"$f":"IF(V60=\"\",\"\",V60)","v":""},null,null,null,{"$f":"IF(Z60=\"\",\"\",Z60)","v":""},null,{"$f":"IF(AB60=\"\",\"\",AB60)","v":""},null,{"$f":"IF(AD60=\"\",\"\",AD60)","v":""},null,{"$f":"AF60","v":0},null,{"$f":"AH60","v":0}]
[]
[]
[]
[null,{"$f":"IF(B64=\"\",\"\",B64)","v":""},null,null,null,{"$f":"IF(F64=\"\",\"\",F64)","v":""},null,null,null,{"$f":"IF(J64=\"\",\"\",J64)","v":""},null,null,null,{"$f":"IF(N64=\"\",\"\",N64)","v":""},null,null,null,{"$f":"IF(R64=\"\",\"\",R64)","v":""},null,null,null,{"$f":"IF(V64=\"\",\"\",V64)","v":""},null,null,null,{"$f":"IF(Z64=\"\",\"\",Z64)","v":""},null,{"$f":"IF(AB64=\"\",\"\",AB64)","v":""},null,{"$f":"IF(AD64=\"\",\"\",AD64)","v":""},null,{"$f":"AF64","v":0},null,{"$f":"AH64","v":0}]
[]
[]
[]
[null,{"$f":"IF(B68=\"\",\"\",B68)","v":""},null,null,null,{"$f":"IF(F68=\"\",\"\",F68)","v":""},null,null,null,{"$f":"IF(J68=\"\",\"\",J68)","v":""},null,null,null,{"$f":"IF(N68=\"\",\"\",N68)","v":""},null,null,null,{"$f":"IF(R68=\"\",\"\",R68)","v":""},null,null,null,{"$f":"IF(V68=\"\",\"\",V68)","v":""},null,null,null,{"$f":"IF(Z68=\"\",\"\",Z68)","v":""},null,{"$f":"IF(AB68=\"\",\"\",AB68)","v":""},null,{"$f":"IF(AD68=\"\",\"\",AD68)","v":""},null,{"$f":"AF68","v":0},null,{"$f":"AH68","v":0}]
[]
[]
[]
[null,{"$f":"IF(B72=\"\",\"\",B72)","v":""},null,null,null,{"$f":"IF(F72=\"\",\"\",F72)","v":""},null,null,null,{"$f":"IF(J72=\"\",\"\",J72)","v":""},null,null,null,{"$f":"IF(N72=\"\",\"\",N72)","v":""},null,null,null,{"$f":"IF(R72=\"\",\"\",R72)","v":""},null,null,null,{"$f":"IF(V72=\"\",\"\",V72)","v":""},null,null,null,{"$f":"IF(Z72=\"\",\"\",Z72)","v":""},null,{"$f":"IF(AB72=\"\",\"\",AB72)","v":""},null,{"$f":"IF(AD72=\"\",\"\",AD72)","v":""},null,{"$f":"AF72","v":0},null,{"$f":"AH72","v":0}]
[]
[]
[]
[null,{"$f":"IF(B76=\"\",\"\",B76)","v":""},null,null,null,{"$f":"IF(F76=\"\",\"\",F76)","v":""},null,null,null,{"$f":"IF(J76=\"\",\"\",J76)","v":""},null,null,null,{"$f":"IF(N76=\"\",\"\",N76)","v":""},null,null,null,{"$f":"IF(R76=\"\",\"\",R76)","v":""},null,null,null,{"$f":"IF(V76=\"\",\"\",V76)","v":""},null,null,null,{"$f":"IF(Z76=\"\",\"\",Z76)","v":""},null,{"$f":"IF(AB76=\"\",\"\",AB76)","v":""},null,{"$f":"IF(AD76=\"\",\"\",AD76)","v":""},null,{"$f":"AF76","v":0},null,{"$f":"AH76","v":0}]
[]
[]
[]
[null,{"$f":"IF(B80=\"\",\"\",B80)","v":""},null,null,null,{"$f":"IF(F80=\"\",\"\",F80)","v":""},null,null,null,{"$f":"IF(J80=\"\",\"\",J80)","v":""},null,null,null,{"$f":"IF(N80=\"\",\"\",N80)","v":""},null,null,null,{"$f":"IF(R80=\"\",\"\",R80)","v":""},null,null,null,{"$f":"IF(V80=\"\",\"\",V80)","v":""},null,null,null,{"$f":"IF(Z80=\"\",\"\",Z80)","v":""},null,{"$f":"IF(AB80=\"\",\"\",AB80)","v":""},null,{"$f":"IF(AD80=\"\",\"\",AD80)","v":""},null,{"$f":"AF80","v":0},null,{"$f":"AH80","v":0}]
[]
[]
[]
[null,{"$f":"IF(B84=\"\",\"\",B84)","v":""},null,null,null,{"$f":"IF(F84=\"\",\"\",F84)","v":""},null,null,null,{"$f":"IF(J84=\"\",\"\",J84)","v":""},null,null,null,{"$f":"IF(N84=\"\",\"\",N84)","v":""},null,null,null,{"$f":"IF(R84=\"\",\"\",R84)","v":""},null,null,null,{"$f":"IF(V84=\"\",\"\",V84)","v":""},null,null,null,{"$f":"IF(Z84=\"\",\"\",Z84)","v":""},null,{"$f":"IF(AB84=\"\",\"\",AB84)","v":""},null,{"$f":"IF(AD84=\"\",\"\",AD84)","v":""},null,{"$f":"AF84","v":0},null,{"$f":"AH84","v":0}]
[]
[]
[]
[null,{"$f":"IF(B88=\"\",\"\",B88)","v":""},null,null,null,{"$f":"IF(F88=\"\",\"\",F88)","v":""},null,null,null,{"$f":"IF(J88=\"\",\"\",J88)","v":""},null,null,null,{"$f":"IF(N88=\"\",\"\",N88)","v":""},null,null,null,{"$f":"IF(R88=\"\",\"\",R88)","v":""},null,null,null,{"$f":"IF(V88=\"\",\"\",V88)","v":""},null,null,null,{"$f":"IF(Z88=\"\",\"\",Z88)","v":""},null,{"$f":"IF(AB88=\"\",\"\",AB88)","v":""},null,{"$f":"IF(AD88=\"\",\"\",AD88)","v":""},null,{"$f":"AF88","v":0},null,{"$f":"AH88","v":0}]
[]
[]
[]
[null,{"$f":"IF(B92=\"\",\"\",B92)","v":""},null,null,null,{"$f":"IF(F92=\"\",\"\",F92)","v":""},null,null,null,{"$f":"IF(J92=\"\",\"\",J92)","v":""},null,null,null,{"$f":"IF(N92=\"\",\"\",N92)","v":""},null,null,null,{"$f":"IF(R92=\"\",\"\",R92)","v":""},null,null,null,{"$f":"IF(V92=\"\",\"\",V92)","v":""},null,null,null,{"$f":"IF(Z92=\"\",\"\",Z92)","v":""},null,{"$f":"IF(AB92=\"\",\"\",AB92)","v":""},null,{"$f":"IF(AD92=\"\",\"\",AD92)","v":""},null,{"$f":"AF92","v":0},null,{"$f":"AH92","v":0}]
[]
[]
[]
[null,"合　　　　　計",null,null,null,null,null,null,null,null,null,null,null,null,null,null,null,{"$f":"IF(R96=\"\",\"\",R96)","v":0},null,null,null,null,null,null,null,null,null,null,null,{"$f":"IF(AD96=\"\",\"\",AD96)","v":0}]
[]
[]
[]
[]
[null,"備     考 ・ 通  信  欄"]
[]
[null,{"$f":"IF(B103=\"\",\"\",B103)","v":"※軽:8%軽減税率、旧:8%経過措置旧税率、非:非課税、不課税を表します。"}]
[]
[null,{"$f":"IF(B105=\"\",\"\",B105)","v":""}]
[]
[]
[]
[]
[]
[]
[]
[]
[]
[]
[]
[null,null,null,null,null,null,null,null,null,null,null,null,null,null,null,null,null,null,null,null,"税抜金額",null,null,null,null,"消費税額",null,null,null,null,"今回請求額"]
[]
[null,null,null,null,null,null,null,null,null,null,null,null,null,null,null,null,"10%対象額",null,null,null,{"$f":"U119","v":0},null,null,null,null,{"$f":"Z119","v":0},null,null,null,null,{"$f":"AE119","v":0}]
[]
[null,null,null,null,null,null,null,null,null,null,null,null,null,null,null,null,"8%軽対象額",null,null,null,{"$f":"U121","v":0},null,null,null,null,{"$f":"Z121","v":0},null,null,null,null,{"$f":"AE121","v":0}]
[]
[null,null,null,null,null,null,null,null,null,null,null,null,null,null,null,null,"8%旧対象額",null,null,null,{"$f":"U123","v":0},null,null,null,null,{"$f":"Z123","v":0},null,null,null,null,{"$f":"AE123","v":0}]
[]
[null,null,null,null,null,null,null,null,null,null,null,null,null,null,null,null,"非不課税額",null,null,null,{"$f":"U125","v":0},null,null,null,null,null,null,null,null,null,{"$f":"U261","v":0}]
[]
[null,null,null,null,null,null,null,null,null,null,null,null,null,null,null,null,"合計額",null,null,null,{"$f":"U127","v":0},null,null,null,null,{"$f":"Z127","v":0},null,null,null,null,{"$f":"AE127","v":0}]
[]
[]
[]
[]
[]
[null,null,null,null,null,null,null,null,null,null,null,null,null,null,null,null,null,null,null,null,null,null,null,null,null,null,null,null,null,null,null,null,null,{"$f":"ﾊﾞｰｼﾞｮﾝ","v":"Ver.4.1.2"}]

{"sheet":"細1-1","index":2,"n_rows":259,"n_cols":35,"rows_kept":259,"cut":false,"hidden":false,"merged":[[258,1,275,2],[248,20,251,30],[248,31,251,36],[253,20,256,25],[253,26,254,28],[253,29,254,30],[253,31,256,36],[255,26,256,27],[255,28,256,28],[255,29,256,30],[240,1,243,2],[240,3,243,4],[240,5,243,19],[240,20,243,22],[240,23,243,25],[240,26,243,30],[240,31,243,36],[244,1,247,2],[244,3,247,4],[244,5,247,19],[244,20,247,22],[244,23,247,25],[244,26,247,30],[244,31,247,36],[232,1,235,2],[232,3,235,4],[232,5,235,19],[232,20,235,22],[232,23,235,25],[232,26,235,30],[232,31,235,36],[236,1,239,2],[236,3,239,4],[236,5,239,19],[236,20,239,22],[236,23,239,25],[236,26,239,30],[236,31,239,36],[224,1,227,2],[224,3,227,4],[224,5,227,19],[224,20,227,22],[224,23,227,25],[224,26,227,30],[224,31,227,36],[228,1,231,2],[228,3,231,4],[228,5,231,19],[228,20,231,22],[228,23,231,25],[228,26,231,30],[228,31,231,36],[216,1,219,2],[216,3,219,4],[216,5,219,19],[216,20,219,22],[216,23,219,25],[216,26,219,30],[216,31,219,36],[220,1,223,2],[220,3,223,4],[220,5,223,19],[220,20,223,22],[220,23,223,25],[220,26,223,30],[220,31,223,36],[208,1,211,2],[208,3,211,4],[208,5,211,19],[208,20,211,22],[208,23,211,25],[208,26,211,30],[208,31,211,36],[212,1,215,2],[212,3,215,4],[212,5,215,19],[212,20,215,22],[212,23,215,25],[212,26,215,30],[212,31,215,36],[200,1,203,2],[200,3,203,4],[200,5,203,19],[200,20,203,22],[200,23,203,25],[200,26,203,30],[200,31,203,36],[204,1,207,2],[204,3,207,4],[204,5,207,19],[204,20,207,22],[204,23,207,25],[204,26,207,30],[204,31,207,36],[192,1,195,2],[192,3,195,4],[192,5,195,19],[192,20,195,22],[192,23,195,25],[192,26,195,30],[192,31,195,36],[196,1,199,2],[196,3,199,4],[196,5,199,19],[196,20,199,22],[196,23,199,25],[196,26,199,30],[196,31,199,36],[184,1,187,2],[184,3,187,4],[184,5,187,19],[184,20,187,22],[184,23,187,25],[184,26,187,30],[184,31,187,36],[188,1,191,2],[188,3,191,4],[188,5,191,19],[188,20,191,22],[188,23,191,25],[188,26,191,30],[188,31,191,36],[176,1,179,2],[176,3,179,4],[176,5,179,19],[176,20,179,22],[176,23,179,25],[176,26,179,30],[176,31,179,36],[180,1,183,2],[180,3,183,4],[180,5,183,19],[180,20,183,22],[180,23,183,25],[180,26,183,30],[180,31,183,36],[163,1,166,4],[163,5,166,8],[163,9,166,12],[163,13,166,36],[168,1,171,4],[168,5,171,19],[168,20,171,22],[168,23,171,25],[168,26,171,30],[168,31,171,36],[2,12,5,25],[17,5,20,17],[10,13,13,14],[11,31,13,33],[11,34,13,36],[17,1,20,4],[11,22,13,26],[11,27,13,30],[89,1,92,2],[89,3,92,4],[89,5,92,19],[89,20,92,22],[89,23,92,25],[89,26,92,30],[89,31,92,36],[53,3,56,4],[53,5,56,19],[53,20,56,22],[49,3,52,4],[49,5,52,19],[49,20,52,22],[49,23,52,25],[49,26,52,30],[49,31,52,36],[101,26,104,30],[101,31,104,36],[93,1,96,2],[85,3,88,4],[93,3,96,4],[57,5,60,19],[57,20,60,22],[45,5,48,19],[45,20,48,22],[53,26,56,30],[53,31,56,36],[45,31,48,36],[57,23,60,25],[57,26,60,30],[57,31,60,36],[53,23,56,25],[45,23,48,25],[45,26,48,30],[77,23,80,25],[97,23,100,25],[73,23,76,25],[73,26,76,30],[73,31,76,36],[81,31,84,36],[37,31,40,36],[41,1,44,2],[41,3,44,4],[41,5,44,19],[41,20,44,22],[41,23,44,25],[41,26,44,30],[41,31,44,36],[69,5,72,19],[61,20,64,22],[61,23,64,25],[69,20,72,22],[69,23,72,25],[65,31,68,36],[61,26,64,30],[61,31,64,36],[65,23,68,25],[65,20,68,22],[69,31,72,36],[45,1,48,2],[57,1,60,2],[49,1,52,2],[53,1,56,2],[45,3,48,4],[77,31,80,36],[81,23,84,25],[97,20,100,22],[97,31,100,36],[97,26,100,30],[61,5,64,19],[69,1,72,2],[69,3,72,4],[65,1,68,2],[65,3,68,4],[65,5,68,19],[85,1,88,2],[105,1,108,2],[105,3,108,4],[105,5,108,19],[101,3,104,4],[101,5,104,19],[97,1,100,2],[97,3,100,4],[97,5,100,19],[101,1,104,2],[24,1,27,4],[24,9,27,12],[24,13,27,36],[10,1,13,12],[24,5,27,8],[29,5,32,19],[33,3,36,4],[33,5,36,19],[37,1,40,2],[37,3,40,4],[37,5,40,19],[33,1,36,2],[29,1,32,4],[29,26,32,30],[29,31,32,36],[33,20,36,22],[33,23,36,25],[33,26,36,30],[33,31,36,36],[29,23,32,25],[29,20,32,22],[37,20,40,22],[37,23,40,25],[37,26,40,30],[57,3,60,4],[65,26,68,30],[81,26,84,30],[77,1,80,2],[77,3,80,4],[69,26,72,30],[73,1,76,2],[73,3,76,4],[73,5,76,19],[73,20,76,22],[77,26,80,30],[77,5,80,19],[77,20,80,22],[81,1,84,2],[81,3,84,4],[81,5,84,19],[81,20,84,22],[61,1,64,2],[61,3,64,4],[172,1,175,2],[172,3,175,4],[172,5,175,19],[172,20,175,22],[172,23,175,25],[172,26,175,30],[172,31,175,36],[116,26,117,27],[116,28,117,28],[116,29,117,30],[156,1,159,4],[156,5,159,17],[112,1,117,8],[112,14,117,18],[141,12,144,25],[149,1,152,12],[149,13,152,14],[150,22,152,26],[150,27,152,30],[150,31,152,33],[150,34,152,36],[119,1,136,2],[114,20,117,25],[114,26,115,28],[110,9,111,13],[112,9,117,13],[109,20,112,30],[109,31,112,36],[85,5,88,19],[93,5,96,19],[85,20,88,22],[93,20,96,22],[85,23,88,25],[85,26,88,30],[85,31,88,36],[93,23,96,25],[93,26,96,30],[93,31,96,36],[110,1,111,8],[110,14,111,18],[105,20,108,22],[105,23,108,25],[101,20,104,22],[105,26,108,30],[105,31,108,36],[101,23,104,25],[114,29,115,30],[114,31,117,36]]}
[]
[]
[null,null,null,null,null,null,null,null,null,null,null,null,"請求明細書 (正)"]
[]
[]
[]
[]
[]
[]
[]
[null,"株 式 会 社 小 田 道 路",null,null,null,null,null,null,null,null,null,null,null,"御中"]
[null,null,null,null,null,null,null,null,null,null,null,null,null,null,null,null,null,null,null,null,null,null,"請求年月日",null,null,null,null,{"$f":"IF(年=\"\",\"\",年)","v":""},null,null,null,{"$f":"IF(月=\"\",\"\",月)","v":""},null,null,{"$f":"IF(日=\"\",\"\",日)","v":""}]
[]
[]
[]
[]
[]
[null,"業者名",null,null,null,{"$f":"IF(社名=\"\",\"\",社名)","v":""}]
[]
[]
[]
[]
[]
[]
[null,"工事番号",null,null,null,null,null,null,null,"工事名"]
[]
[]
[]
[]
[null,"月 日",null,null,null,"品 名・内 訳",null,null,null,null,null,null,null,null,null,null,null,null,null,null,"数 量",null,null,"単位",null,null,"単価",null,null,null,null,"金額(税抜)"]
[]
[]
[]
[null,null,null,null,null,null,null,null,null,null,null,null,null,null,null,null,null,null,null,null,null,null,null,null,null,null,null,null,null,null,null,{"$f":"IF(F34=\"\",\"\",ROUND(U34*AA34,0))","v":""}]
[]
[]
[]
[null,null,null,null,null,null,null,null,null,null,null,null,null,null,null,null,null,null,null,null,null,null,null,null,null,null,null,null,null,null,null,{"$f":"IF(F38=\"\",\"\",ROUND(U38*AA38,0))","v":""}]
[]
[]
[]
[null,null,null,null,null,null,null,null,null,null,null,null,null,null,null,null,null,null,null,null,null,null,null,null,null,null,null,null,null,null,null,{"$f":"IF(F42=\"\",\"\",ROUND(U42*AA42,0))","v":""}]
[]
[]
[]
[null,null,null,null,null,null,null,null,null,null,null,null,null,null,null,null,null,null,null,null,null,null,null,null,null,null,null,null,null,null,null,{"$f":"IF(F46=\"\",\"\",ROUND(U46*AA46,0))","v":""}]
[]
[]
[]
[null,null,null,null,null,null,null,null,null,null,null,null,null,null,null,null,null,null,null,null,null,null,null,null,null,null,null,null,null,null,null,{"$f":"IF(F50=\"\",\"\",ROUND(U50*AA50,0))","v":""}]
[]
[]
[]
[null,null,null,null,null,null,null,null,null,null,null,null,null,null,null,null,null,null,null,null,null,null,null,null,null,null,null,null,null,null,null,{"$f":"IF(F54=\"\",\"\",ROUND(U54*AA54,0))","v":""}]
[]
[]
[]
[null,null,null,null,null,null,null,null,null,null,null,null,null,null,null,null,null,null,null,null,null,null,null,null,null,null,null,null,null,null,null,{"$f":"IF(F58=\"\",\"\",ROUND(U58*AA58,0))","v":""}]
[]
[]
[]
[null,null,null,null,null,null,null,null,null,null,null,null,null,null,null,null,null,null,null,null,null,null,null,null,null,null,null,null,null,null,null,{"$f":"IF(F62=\"\",\"\",ROUND(U62*AA62,0))","v":""}]
[]
[]
[]
[null,null,null,null,null,null,null,null,null,null,null,null,null,null,null,null,null,null,null,null,null,null,null,null,null,null,null,null,null,null,null,{"$f":"IF(F66=\"\",\"\",ROUND(U66*AA66,0))","v":""}]
[]
[]
[]
[null,null,null,null,null,null,null,null,null,null,null,null,null,null,null,null,null,null,null,null,null,null,null,null,null,null,null,null,null,null,null,{"$f":"IF(F70=\"\",\"\",ROUND(U70*AA70,0))","v":""}]
[]
[]
[]
[null,null,null,null,null,null,null,null,null,null,null,null,null,null,null,null,null,null,null,null,null,null,null,null,null,null,null,null,null,null,null,{"$f":"IF(F74=\"\",\"\",ROUND(U74*AA74,0))","v":""}]
[]
[]
[]
[null,null,null,null,null,null,null,null,null,null,null,null,null,null,null,null,null,null,null,null,null,null,null,null,null,null,null,null,null,null,null,{"$f":"IF(F78=\"\",\"\",ROUND(U78*AA78,0))","v":""}]
[]
[]
[]
[null,null,null,null,null,null,null,null,null,null,null,null,null,null,null,null,null,null,null,null,null,null,null,null,null,null,null,null,null,null,null,{"$f":"IF(F82=\"\",\"\",ROUND(U82*AA82,0))","v":""}]
[]
[]
[]
[null,null,null,null,null,null,null,null,null,null,null,null,null,null,null,null,null,null,null,null,null,null,null,null,null,null,null,null,null,null,null,{"$f":"IF(F86=\"\",\"\",ROUND(U86*AA86,0))","v":""}]
[]
[]
[]
[null,null,null,null,null,null,null,null,null,null,null,null,null,null,null,null,null,null,null,null,null,null,null,null,null,null,null,null,null,null,null,{"$f":"IF(F90=\"\",\"\",ROUND(U90*AA90,0))","v":""}]
[]
[]
[]
[null,null,null,null,null,null,null,null,null,null,null,null,null,null,null,null,null,null,null,null,null,null,null,null,null,null,null,null,null,null,null,{"$f":"IF(F94=\"\",\"\",ROUND(U94*AA94,0))","v":""}]
[]
[]
[]
[null,null,null,null,null,null,null,null,null,null,null,null,null,null,null,null,null,null,null,null,null,null,null,null,null,null,null,null,null,null,null,{"$f":"IF(F98=\"\",\"\",ROUND(U98*AA98,0))","v":""}]
[]
[]
[]
[null,null,null,null,null,null,null,null,null,null,null,null,null,null,null,null,null,null,null,null,null,null,null,null,null,null,null,null,null,null,null,{"$f":"IF(F102=\"\",\"\",ROUND(U102*AA102,0))","v":""}]
[]
[]
[]
[null,null,null,null,null,null,null,null,null,null,null,null,null,null,null,null,null,null,null,null,null,null,null,null,null,null,null,null,null,null,null,{"$f":"IF(F106=\"\",\"\",ROUND(U106*AA106,0))","v":""}]
[]
[]
[]
[null,null,null,null,null,null,null,null,null,null,null,null,null,null,null,null,null,null,null,null,"金額(税抜)",null,null,null,null,null,null,null,null,null,null,{"$f":"IF(AF34=\"\",\"\",SUM(AF34:AF106))","v":""}]
[null,"部長",null,null,null,null,null,null,null,"担当者",null,null,null,null,"受付"]
[]
[]
[]
[null,null,null,null,null,null,null,null,null,null,null,null,null,null,null,null,null,null,null,null,"消費税",null,null,null,null,null,"税率",null,null,"税調",null,{"$f":"IF(AF110=\"\",\"\",IF(AA117=\"\",\"\",IF(AA117=8.1,ROUND(AF110*8/100,0)+AD117,ROUND(AF110*AA117/100,0)+AD117)))","v":""}]
[]
[null,null,null,null,null,null,null,null,null,null,null,null,null,null,null,null,null,null,null,null,null,null,null,null,null,null,null,null,{"$f":"IF(AA117=\"\",\"\",IF(AA117=8.1,\"旧\",IF(AA117=8,\"軽\",IF(AA117=0,\"非\",\"\"))))","v":""}]
[]
[]
[null,"備考・通信欄"]
[]
[]
[]
[]
[]
[]
[]
[]
[]
[]
[]
[]
[]
[]
[]
[]
[]
[]
[]
[]
[]
[null,null,null,null,null,null,null,null,null,null,null,null,"請求明細書 (貴社控)"]
[]
[]
[]
[]
[]
[]
[]
[null,"株 式 会 社 小 田 道 路",null,null,null,null,null,null,null,null,null,null,null,"御中"]
[null,null,null,null,null,null,null,null,null,null,null,null,null,null,null,null,null,null,null,null,null,null,"請求年月日",null,null,null,null,{"$f":"IF(年=\"\",\"\",年)","v":""},null,null,null,{"$f":"IF(月=\"\",\"\",月)","v":""},null,null,{"$f":"IF(日=\"\",\"\",日)","v":""}]
[]
[]
[]
[]
[]
[null,"業者名",null,null,null,{"$f":"IF(社名=\"\",\"\",社名)","v":""}]
[]
[]
[]
[]
[]
[]
[null,"工事番号",null,null,null,{"$f":"IF(F25=\"\",\"\",F25)","v":""},null,null,null,"工事名",null,null,null,{"$f":"IF(N25=\"\",\"\",N25)","v":""}]
[]
[]
[]
[]
[null,"月　日",null,null,null,"摘要･品名",null,null,null,null,null,null,null,null,null,null,null,null,null,null,"数 量",null,null,"単位",null,null,"単価",null,null,null,null,"金額(税抜)"]
[]
[]
[]
[null,{"$f":"IF(B34=\"\",\"\",B34)","v":""},null,{"$f":"IF(D34=\"\",\"\",D34)","v":""},null,{"$f":"IF(F34=\"\",\"\",F34)","v":""},null,null,null,null,null,null,null,null,null,null,null,null,null,null,{"$f":"IF(U34=\"\",\"\",U34)","v":""},null,null,{"$f":"IF(X34=\"\",\"\",X34)","v":""},null,null,{"$f":"IF(AA34=\"\",\"\",AA34)","v":""},null,null,null,null,{"$f":"IF(F173=\"\",\"\",U173*AA173)","v":""}]
[]
[]
[]
[null,{"$f":"IF(B38=\"\",\"\",B38)","v":""},null,{"$f":"IF(D38=\"\",\"\",D38)","v":""},null,{"$f":"IF(F38=\"\",\"\",F38)","v":""},null,null,null,null,null,null,null,null,null,null,null,null,null,null,{"$f":"IF(U38=\"\",\"\",U38)","v":""},null,null,{"$f":"IF(X38=\"\",\"\",X38)","v":""},null,null,{"$f":"IF(AA38=\"\",\"\",AA38)","v":""},null,null,null,null,{"$f":"IF(F177=\"\",\"\",U177*AA177)","v":""}]
[]
[]
[]
[null,{"$f":"IF(B42=\"\",\"\",B42)","v":""},null,{"$f":"IF(D42=\"\",\"\",D42)","v":""},null,{"$f":"IF(F42=\"\",\"\",F42)","v":""},null,null,null,null,null,null,null,null,null,null,null,null,null,null,{"$f":"IF(U42=\"\",\"\",U42)","v":""},null,null,{"$f":"IF(X42=\"\",\"\",X42)","v":""},null,null,{"$f":"IF(AA42=\"\",\"\",AA42)","v":""},null,null,null,null,{"$f":"IF(F181=\"\",\"\",U181*AA181)","v":""}]
[]
[]
[]
[null,{"$f":"IF(B46=\"\",\"\",B46)","v":""},null,{"$f":"IF(D46=\"\",\"\",D46)","v":""},null,{"$f":"IF(F46=\"\",\"\",F46)","v":""},null,null,null,null,null,null,null,null,null,null,null,null,null,null,{"$f":"IF(U46=\"\",\"\",U46)","v":""},null,null,{"$f":"IF(X46=\"\",\"\",X46)","v":""},null,null,{"$f":"IF(AA46=\"\",\"\",AA46)","v":""},null,null,null,null,{"$f":"IF(F185=\"\",\"\",U185*AA185)","v":""}]
[]
[]
[]
[null,{"$f":"IF(B50=\"\",\"\",B50)","v":""},null,{"$f":"IF(D50=\"\",\"\",D50)","v":""},null,{"$f":"IF(F50=\"\",\"\",F50)","v":""},null,null,null,null,null,null,null,null,null,null,null,null,null,null,{"$f":"IF(U50=\"\",\"\",U50)","v":""},null,null,{"$f":"IF(X50=\"\",\"\",X50)","v":""},null,null,{"$f":"IF(AA50=\"\",\"\",AA50)","v":""},null,null,null,null,{"$f":"IF(F189=\"\",\"\",U189*AA189)","v":""}]
[]
[]
[]
[null,{"$f":"IF(B54=\"\",\"\",B54)","v":""},null,{"$f":"IF(D54=\"\",\"\",D54)","v":""},null,{"$f":"IF(F54=\"\",\"\",F54)","v":""},null,null,null,null,null,null,null,null,null,null,null,null,null,null,{"$f":"IF(U54=\"\",\"\",U54)","v":""},null,null,{"$f":"IF(X54=\"\",\"\",X54)","v":""},null,null,{"$f":"IF(AA54=\"\",\"\",AA54)","v":""},null,null,null,null,{"$f":"IF(F193=\"\",\"\",U193*AA193)","v":""}]
[]
[]
[]
[null,{"$f":"IF(B58=\"\",\"\",B58)","v":""},null,{"$f":"IF(D58=\"\",\"\",D58)","v":""},null,{"$f":"IF(F58=\"\",\"\",F58)","v":""},null,null,null,null,null,null,null,null,null,null,null,null,null,null,{"$f":"IF(U58=\"\",\"\",U58)","v":""},null,null,{"$f":"IF(X58=\"\",\"\",X58)","v":""},null,null,{"$f":"IF(AA58=\"\",\"\",AA58)","v":""},null,null,null,null,{"$f":"IF(F197=\"\",\"\",U197*AA197)","v":""}]
[]
[]
[]
[null,{"$f":"IF(B62=\"\",\"\",B62)","v":""},null,{"$f":"IF(D62=\"\",\"\",D62)","v":""},null,{"$f":"IF(F62=\"\",\"\",F62)","v":""},null,null,null,null,null,null,null,null,null,null,null,null,null,null,{"$f":"IF(U62=\"\",\"\",U62)","v":""},null,null,{"$f":"IF(X62=\"\",\"\",X62)","v":""},null,null,{"$f":"IF(AA62=\"\",\"\",AA62)","v":""},null,null,null,null,{"$f":"IF(F201=\"\",\"\",U201*AA201)","v":""}]
[]
[]
[]
[null,{"$f":"IF(B66=\"\",\"\",B66)","v":""},null,{"$f":"IF(D66=\"\",\"\",D66)","v":""},null,{"$f":"IF(F66=\"\",\"\",F66)","v":""},null,null,null,null,null,null,null,null,null,null,null,null,null,null,{"$f":"IF(U66=\"\",\"\",U66)","v":""},null,null,{"$f":"IF(X66=\"\",\"\",X66)","v":""},null,null,{"$f":"IF(AA66=\"\",\"\",AA66)","v":""},null,null,null,null,{"$f":"IF(F205=\"\",\"\",U205*AA205)","v":""}]
[]
[]
[]
[null,{"$f":"IF(B70=\"\",\"\",B70)","v":""},null,{"$f":"IF(D70=\"\",\"\",D70)","v":""},null,{"$f":"IF(F70=\"\",\"\",F70)","v":""},null,null,null,null,null,null,null,null,null,null,null,null,null,null,{"$f":"IF(U70=\"\",\"\",U70)","v":""},null,null,{"$f":"IF(X70=\"\",\"\",X70)","v":""},null,null,{"$f":"IF(AA70=\"\",\"\",AA70)","v":""},null,null,null,null,{"$f":"IF(F209=\"\",\"\",U209*AA209)","v":""}]
[]
[]
[]
[null,{"$f":"IF(B74=\"\",\"\",B74)","v":""},null,{"$f":"IF(D74=\"\",\"\",D74)","v":""},null,{"$f":"IF(F74=\"\",\"\",F74)","v":""},null,null,null,null,null,null,null,null,null,null,null,null,null,null,{"$f":"IF(U74=\"\",\"\",U74)","v":""},null,null,{"$f":"IF(X74=\"\",\"\",X74)","v":""},null,null,{"$f":"IF(AA74=\"\",\"\",AA74)","v":""},null,null,null,null,{"$f":"IF(F213=\"\",\"\",U213*AA213)","v":""}]
[]
[]
[]
[null,{"$f":"IF(B78=\"\",\"\",B78)","v":""},null,{"$f":"IF(D78=\"\",\"\",D78)","v":""},null,{"$f":"IF(F78=\"\",\"\",F78)","v":""},null,null,null,null,null,null,null,null,null,null,null,null,null,null,{"$f":"IF(U78=\"\",\"\",U78)","v":""},null,null,{"$f":"IF(X78=\"\",\"\",X78)","v":""},null,null,{"$f":"IF(AA78=\"\",\"\",AA78)","v":""},null,null,null,null,{"$f":"IF(F217=\"\",\"\",U217*AA217)","v":""}]
[]
[]
[]
[null,{"$f":"IF(B82=\"\",\"\",B82)","v":""},null,{"$f":"IF(D82=\"\",\"\",D82)","v":""},null,{"$f":"IF(F82=\"\",\"\",F82)","v":""},null,null,null,null,null,null,null,null,null,null,null,null,null,null,{"$f":"IF(U82=\"\",\"\",U82)","v":""},null,null,{"$f":"IF(X82=\"\",\"\",X82)","v":""},null,null,{"$f":"IF(AA82=\"\",\"\",AA82)","v":""},null,null,null,null,{"$f":"IF(F221=\"\",\"\",U221*AA221)","v":""}]
[]
[]
[]
[null,{"$f":"IF(B86=\"\",\"\",B86)","v":""},null,{"$f":"IF(D86=\"\",\"\",D86)","v":""},null,{"$f":"IF(F86=\"\",\"\",F86)","v":""},null,null,null,null,null,null,null,null,null,null,null,null,null,null,{"$f":"IF(U86=\"\",\"\",U86)","v":""},null,null,{"$f":"IF(X86=\"\",\"\",X86)","v":""},null,null,{"$f":"IF(AA86=\"\",\"\",AA86)","v":""},null,null,null,null,{"$f":"IF(F225=\"\",\"\",U225*AA225)","v":""}]
[]
[]
[]
[null,{"$f":"IF(B90=\"\",\"\",B90)","v":""},null,{"$f":"IF(D90=\"\",\"\",D90)","v":""},null,{"$f":"IF(F90=\"\",\"\",F90)","v":""},null,null,null,null,null,null,null,null,null,null,null,null,null,null,{"$f":"IF(U90=\"\",\"\",U90)","v":""},null,null,{"$f":"IF(X90=\"\",\"\",X90)","v":""},null,null,{"$f":"IF(AA90=\"\",\"\",AA90)","v":""},null,null,null,null,{"$f":"IF(F229=\"\",\"\",U229*AA229)","v":""}]
[]
[]
[]
[null,{"$f":"IF(B94=\"\",\"\",B94)","v":""},null,{"$f":"IF(D94=\"\",\"\",D94)","v":""},null,{"$f":"IF(F94=\"\",\"\",F94)","v":""},null,null,null,null,null,null,null,null,null,null,null,null,null,null,{"$f":"IF(U94=\"\",\"\",U94)","v":""},null,null,{"$f":"IF(X94=\"\",\"\",X94)","v":""},null,null,{"$f":"IF(AA94=\"\",\"\",AA94)","v":""},null,null,null,null,{"$f":"IF(F233=\"\",\"\",U233*AA233)","v":""}]
[]
[]
[]
[null,{"$f":"IF(B98=\"\",\"\",B98)","v":""},null,{"$f":"IF(D98=\"\",\"\",D98)","v":""},null,{"$f":"IF(F98=\"\",\"\",F98)","v":""},null,null,null,null,null,null,null,null,null,null,null,null,null,null,{"$f":"IF(U98=\"\",\"\",U98)","v":""},null,null,{"$f":"IF(X98=\"\",\"\",X98)","v":""},null,null,{"$f":"IF(AA98=\"\",\"\",AA98)","v":""},null,null,null,null,{"$f":"IF(F237=\"\",\"\",U237*AA237)","v":""}]
[]
[]
[]
[null,{"$f":"IF(B102=\"\",\"\",B102)","v":""},null,{"$f":"IF(D102=\"\",\"\",D102)","v":""},null,{"$f":"IF(F102=\"\",\"\",F102)","v":""},null,null,null,null,null,null,null,null,null,null,null,null,null,null,{"$f":"IF(U102=\"\",\"\",U102)","v":""},null,null,{"$f":"IF(X102=\"\",\"\",X102)","v":""},null,null,{"$f":"IF(AA102=\"\",\"\",AA102)","v":""},null,null,null,null,{"$f":"IF(F241=\"\",\"\",U241*AA241)","v":""}]
[]
[]
[]
[null,{"$f":"IF(B106=\"\",\"\",B106)","v":""},null,{"$f":"IF(D106=\"\",\"\",D106)","v":""},null,{"$f":"IF(F106=\"\",\"\",F106)","v":""},null,null,null,null,null,null,null,null,null,null,null,null,null,null,{"$f":"IF(U106=\"\",\"\",U106)","v":""},null,null,{"$f":"IF(X106=\"\",\"\",X106)","v":""},null,null,{"$f":"IF(AA106=\"\",\"\",AA106)","v":""},null,null,null,null,{"$f":"IF(F245=\"\",\"\",U245*AA245)","v":""}]
[]
[]
[]
[null,null,null,null,null,null,null,null,null,null,null,null,null,null,null,null,null,null,null,null,"金額(税抜)",null,null,null,null,null,null,null,null,null,null,{"$f":"IF(AF173=\"\",\"\",SUM(AF173:AF245))","v":""}]
[]
[]
[]
[]
[null,null,null,null,null,null,null,null,null,null,null,null,null,null,null,null,null,null,null,null,"消費税",null,null,null,null,null,"税率",null,null,"税調",null,{"$f":"IF(AF115=\"\",\"\",AF115)","v":""}]
[]
[null,null,null,null,null,null,null,null,null,null,null,null,null,null,null,null,null,null,null,null,null,null,null,null,null,null,{"$f":"IF(AA117=\"\",\"\",AA117)","v":""},null,{"$f":"IF(AC117=\"\",\"\",AC117)","v":""},{"$f":"IF(AD117=\"\",\"\",AD117)","v":""}]
[]
[]
[null,"備考・通信欄"]

{"sheet":"細1-2","index":3,"n_rows":259,"n_cols":35,"rows_kept":259,"cut":false,"hidden":false,"merged":[[258,1,275,2],[253,20,256,25],[253,26,254,28],[248,20,251,30],[244,1,247,2],[244,3,247,4],[244,5,247,19],[244,20,247,22],[244,23,247,25],[244,26,247,30],[244,31,247,36],[253,31,256,36],[255,26,256,27],[255,28,256,28],[255,29,256,30],[253,29,254,30],[248,31,251,36],[236,1,239,2],[236,3,239,4],[236,5,239,19],[236,20,239,22],[236,23,239,25],[236,26,239,30],[236,31,239,36],[240,1,243,2],[240,3,243,4],[240,5,243,19],[240,20,243,22],[240,23,243,25],[240,26,243,30],[240,31,243,36],[228,1,231,2],[228,3,231,4],[228,5,231,19],[228,20,231,22],[228,23,231,25],[228,26,231,30],[228,31,231,36],[232,1,235,2],[232,3,235,4],[232,5,235,19],[232,20,235,22],[232,23,235,25],[232,26,235,30],[232,31,235,36],[220,1,223,2],[220,3,223,4],[220,5,223,19],[220,20,223,22],[220,23,223,25],[220,26,223,30],[220,31,223,36],[224,1,227,2],[224,3,227,4],[224,5,227,19],[224,20,227,22],[224,23,227,25],[224,26,227,30],[224,31,227,36],[188,1,191,2],[188,3,191,4],[188,5,191,19],[188,20,191,22],[188,23,191,25],[188,26,191,30],[188,31,191,36],[212,31,215,36],[216,1,219,2],[216,3,219,4],[216,5,219,19],[216,20,219,22],[216,23,219,25],[216,26,219,30],[216,31,219,36],[200,1,203,2],[200,3,203,4],[200,5,203,19],[200,20,203,22],[200,23,203,25],[200,26,203,30],[200,31,203,36],[204,1,207,2],[204,3,207,4],[180,1,183,2],[180,3,183,4],[180,5,183,19],[180,20,183,22],[180,23,183,25],[180,26,183,30],[180,31,183,36],[184,1,187,2],[184,3,187,4],[184,5,187,19],[184,20,187,22],[184,23,187,25],[184,26,187,30],[184,31,187,36],[172,1,175,2],[172,3,175,4],[172,5,175,19],[172,20,175,22],[172,23,175,25],[172,26,175,30],[172,31,175,36],[176,1,179,2],[176,3,179,4],[176,5,179,19],[176,20,179,22],[176,23,179,25],[176,26,179,30],[176,31,179,36],[163,1,166,4],[163,5,166,8],[163,9,166,12],[163,13,166,36],[168,1,171,4],[168,5,171,19],[168,20,171,22],[168,23,171,25],[168,26,171,30],[168,31,171,36],[105,1,108,2],[105,3,108,4],[105,5,108,19],[105,20,108,22],[105,23,108,25],[105,26,108,30],[105,31,108,36],[101,1,104,2],[101,3,104,4],[101,5,104,19],[81,1,84,2],[81,3,84,4],[81,5,84,19],[81,20,84,22],[81,23,84,25],[81,26,84,30],[81,31,84,36],[101,20,104,22],[101,23,104,25],[101,26,104,30],[101,31,104,36],[93,1,96,2],[93,3,96,4],[93,5,96,19],[93,20,96,22],[93,23,96,25],[93,26,96,30],[93,31,96,36],[97,1,100,2],[97,3,100,4],[97,5,100,19],[97,20,100,22],[97,23,100,25],[97,26,100,30],[73,1,76,2],[73,3,76,4],[73,5,76,19],[73,20,76,22],[73,23,76,25],[73,26,76,30],[73,31,76,36],[77,1,80,2],[77,3,80,4],[77,5,80,19],[77,20,80,22],[77,23,80,25],[77,26,80,30],[77,31,80,36],[65,1,68,2],[65,3,68,4],[65,5,68,19],[65,20,68,22],[65,23,68,25],[65,26,68,30],[65,31,68,36],[69,1,72,2],[69,3,72,4],[69,5,72,19],[69,20,72,22],[69,23,72,25],[69,26,72,30],[69,31,72,36],[57,1,60,2],[57,3,60,4],[57,5,60,19],[57,20,60,22],[57,23,60,25],[57,26,60,30],[57,31,60,36],[61,1,64,2],[61,3,64,4],[61,5,64,19],[61,20,64,22],[61,23,64,25],[61,26,64,30],[61,31,64,36],[49,1,52,2],[49,3,52,4],[49,5,52,19],[49,20,52,22],[49,23,52,25],[49,26,52,30],[49,31,52,36],[53,1,56,2],[53,3,56,4],[53,5,56,19],[53,20,56,22],[53,23,56,25],[53,26,56,30],[53,31,56,36],[41,1,44,2],[41,3,44,4],[41,5,44,19],[41,20,44,22],[41,23,44,25],[41,26,44,30],[41,31,44,36],[45,1,48,2],[45,3,48,4],[45,5,48,19],[45,20,48,22],[45,23,48,25],[45,26,48,30],[45,31,48,36],[33,1,36,2],[33,3,36,4],[33,5,36,19],[33,20,36,22],[33,23,36,25],[33,26,36,30],[33,31,36,36],[37,1,40,2],[37,3,40,4],[37,5,40,19],[37,20,40,22],[37,23,40,25],[37,26,40,30],[37,31,40,36],[24,5,27,8],[24,9,27,12],[24,13,27,36],[29,1,32,4],[29,5,32,19],[29,20,32,22],[29,23,32,25],[29,26,32,30],[29,31,32,36],[2,12,5,25],[10,1,13,12],[85,5,88,19],[85,20,88,22],[85,23,88,25],[85,26,88,30],[85,31,88,36],[89,5,92,19],[89,20,92,22],[89,23,92,25],[89,26,92,30],[85,1,88,2],[85,3,88,4],[89,1,92,2],[89,3,92,4],[89,31,92,36],[10,13,13,14],[11,22,13,26],[11,27,13,30],[11,31,13,33],[11,34,13,36],[17,1,20,4],[17,5,20,17],[24,1,27,4],[149,1,152,12],[149,13,152,14],[150,22,152,26],[150,27,152,30],[150,31,152,33],[150,34,152,36],[156,1,159,4],[156,5,159,17],[97,31,100,36],[109,20,112,30],[109,31,112,36],[110,1,111,8],[110,9,111,13],[110,14,111,18],[112,1,117,8],[112,9,117,13],[112,14,117,18],[114,20,117,25],[114,26,115,28],[114,29,115,30],[114,31,117,36],[116,26,117,27],[116,28,117,28],[116,29,117,30],[204,31,207,36],[208,1,211,2],[208,3,211,4],[208,5,211,19],[208,20,211,22],[208,23,211,25],[208,26,211,30],[208,31,211,36],[119,1,136,2],[141,12,144,25],[196,1,199,2],[196,3,199,4],[196,5,199,19],[196,20,199,22],[196,23,199,25],[196,26,199,30],[196,31,199,36],[192,1,195,2],[192,3,195,4],[192,5,195,19],[192,20,195,22],[192,23,195,25],[192,26,195,30],[192,31,195,36],[212,1,215,2],[212,3,215,4],[212,5,215,19],[212,20,215,22],[212,23,215,25],[212,26,215,30],[204,5,207,19],[204,20,207,22],[204,23,207,25],[204,26,207,30]]}
[]
[]
[null,null,null,null,null,null,null,null,null,null,null,null,"請求明細書 (正)"]
[]
[]
[]
[]
[]
[]
[]
[null,"株 式 会 社 小 田 道 路",null,null,null,null,null,null,null,null,null,null,null,"御中"]
[null,null,null,null,null,null,null,null,null,null,null,null,null,null,null,null,null,null,null,null,null,null,"請求年月日",null,null,null,null,{"$f":"IF(年=\"\",\"\",年)","v":""},null,null,null,{"$f":"IF(月=\"\",\"\",月)","v":""},null,null,{"$f":"IF(日=\"\",\"\",日)","v":""}]
[]
[]
[]
[]
[]
[null,"業者名",null,null,null,{"$f":"IF(社名=\"\",\"\",社名)","v":""}]
[]
[]
[]
[]
[]
[]
[null,"工事番号",null,null,null,null,null,null,null,"工事名"]
[]
[]
[]
[]
[null,"月 日",null,null,null,"品 名・内 訳",null,null,null,null,null,null,null,null,null,null,null,null,null,null,"数 量",null,null,"単位",null,null,"単価",null,null,null,null,"金額(税抜)"]
[]
[]
[]
[null,null,null,null,null,null,null,null,null,null,null,null,null,null,null,null,null,null,null,null,null,null,null,null,null,null,null,null,null,null,null,{"$f":"IF(F34=\"\",\"\",ROUND(U34*AA34,0))","v":""}]
[]
[]
[]
[null,null,null,null,null,null,null,null,null,null,null,null,null,null,null,null,null,null,null,null,null,null,null,null,null,null,null,null,null,null,null,{"$f":"IF(F38=\"\",\"\",ROUND(U38*AA38,0))","v":""}]
[]
[]
[]
[null,null,null,null,null,null,null,null,null,null,null,null,null,null,null,null,null,null,null,null,null,null,null,null,null,null,null,null,null,null,null,{"$f":"IF(F42=\"\",\"\",ROUND(U42*AA42,0))","v":""}]
[]
[]
[]
[null,null,null,null,null,null,null,null,null,null,null,null,null,null,null,null,null,null,null,null,null,null,null,null,null,null,null,null,null,null,null,{"$f":"IF(F46=\"\",\"\",ROUND(U46*AA46,0))","v":""}]
[]
[]
[]
[null,null,null,null,null,null,null,null,null,null,null,null,null,null,null,null,null,null,null,null,null,null,null,null,null,null,null,null,null,null,null,{"$f":"IF(F50=\"\",\"\",ROUND(U50*AA50,0))","v":""}]
[]
[]
[]
[null,null,null,null,null,null,null,null,null,null,null,null,null,null,null,null,null,null,null,null,null,null,null,null,null,null,null,null,null,null,null,{"$f":"IF(F54=\"\",\"\",ROUND(U54*AA54,0))","v":""}]
[]
[]
[]
[null,null,null,null,null,null,null,null,null,null,null,null,null,null,null,null,null,null,null,null,null,null,null,null,null,null,null,null,null,null,null,{"$f":"IF(F58=\"\",\"\",ROUND(U58*AA58,0))","v":""}]
[]
[]
[]
[null,null,null,null,null,null,null,null,null,null,null,null,null,null,null,null,null,null,null,null,null,null,null,null,null,null,null,null,null,null,null,{"$f":"IF(F62=\"\",\"\",ROUND(U62*AA62,0))","v":""}]
[]
[]
[]
[null,null,null,null,null,null,null,null,null,null,null,null,null,null,null,null,null,null,null,null,null,null,null,null,null,null,null,null,null,null,null,{"$f":"IF(F66=\"\",\"\",ROUND(U66*AA66,0))","v":""}]
[]
[]
[]
[null,null,null,null,null,null,null,null,null,null,null,null,null,null,null,null,null,null,null,null,null,null,null,null,null,null,null,null,null,null,null,{"$f":"IF(F70=\"\",\"\",ROUND(U70*AA70,0))","v":""}]
[]
[]
[]
[null,null,null,null,null,null,null,null,null,null,null,null,null,null,null,null,null,null,null,null,null,null,null,null,null,null,null,null,null,null,null,{"$f":"IF(F74=\"\",\"\",ROUND(U74*AA74,0))","v":""}]
[]
[]
[]
[null,null,null,null,null,null,null,null,null,null,null,null,null,null,null,null,null,null,null,null,null,null,null,null,null,null,null,null,null,null,null,{"$f":"IF(F78=\"\",\"\",ROUND(U78*AA78,0))","v":""}]
[]
[]
[]
[null,null,null,null,null,null,null,null,null,null,null,null,null,null,null,null,null,null,null,null,null,null,null,null,null,null,null,null,null,null,null,{"$f":"IF(F82=\"\",\"\",ROUND(U82*AA82,0))","v":""}]
[]
[]
[]
[null,null,null,null,null,null,null,null,null,null,null,null,null,null,null,null,null,null,null,null,null,null,null,null,null,null,null,null,null,null,null,{"$f":"IF(F86=\"\",\"\",ROUND(U86*AA86,0))","v":""}]
[]
[]
[]
[null,null,null,null,null,null,null,null,null,null,null,null,null,null,null,null,null,null,null,null,null,null,null,null,null,null,null,null,null,null,null,{"$f":"IF(F90=\"\",\"\",ROUND(U90*AA90,0))","v":""}]
[]
[]
[]
[null,null,null,null,null,null,null,null,null,null,null,null,null,null,null,null,null,null,null,null,null,null,null,null,null,null,null,null,null,null,null,{"$f":"IF(F94=\"\",\"\",ROUND(U94*AA94,0))","v":""}]
[]
[]
[]
[null,null,null,null,null,null,null,null,null,null,null,null,null,null,null,null,null,null,null,null,null,null,null,null,null,null,null,null,null,null,null,{"$f":"IF(F98=\"\",\"\",ROUND(U98*AA98,0))","v":""}]
[]
[]
[]
[null,null,null,null,null,null,null,null,null,null,null,null,null,null,null,null,null,null,null,null,null,null,null,null,null,null,null,null,null,null,null,{"$f":"IF(F102=\"\",\"\",ROUND(U102*AA102,0))","v":""}]
[]
[]
[]
[null,null,null,null,null,null,null,null,null,null,null,null,null,null,null,null,null,null,null,null,null,null,null,null,null,null,null,null,null,null,null,{"$f":"IF(F106=\"\",\"\",ROUND(U106*AA106,0))","v":""}]
[]
[]
[]
[null,null,null,null,null,null,null,null,null,null,null,null,null,null,null,null,null,null,null,null,"金額(税抜)",null,null,null,null,null,null,null,null,null,null,{"$f":"IF(AF34=\"\",\"\",SUM(AF34:AF106))","v":""}]
[null,"部長",null,null,null,null,null,null,null,"担当者",null,null,null,null,"受付"]
[]
[]
[]
[null,null,null,null,null,null,null,null,null,null,null,null,null,null,null,null,null,null,null,null,"消費税",null,null,null,null,null,"税率",null,null,"税調",null,{"$f":"IF(AF110=\"\",\"\",IF(AA117=\"\",\"\",IF(AA117=8.1,ROUND(AF110*8/100,0)+AD117,ROUND(AF110*AA117/100,0)+AD117)))","v":""}]
[]
[null,null,null,null,null,null,null,null,null,null,null,null,null,null,null,null,null,null,null,null,null,null,null,null,null,null,null,null,{"$f":"IF(AA117=\"\",\"\",IF(AA117=8.1,\"旧\",IF(AA117=8,\"軽\",IF(AA117=0,\"非\",\"\"))))","v":""}]
[]
[]
[null,"備考・通信欄"]
[]
[]
[]
[]
[]
[]
[]
[]
[]
[]
[]
[]
[]
[]
[]
[]
[]
[]
[]
[]
[]
[null,null,null,null,null,null,null,null,null,null,null,null,"請求明細書 (貴社控)"]
[]
[]
[]
[]
[]
[]
[]
[null,"株 式 会 社 小 田 道 路",null,null,null,null,null,null,null,null,null,null,null,"御中"]
[null,null,null,null,null,null,null,null,null,null,null,null,null,null,null,null,null,null,null,null,null,null,"請求年月日",null,null,null,null,{"$f":"IF(年=\"\",\"\",年)","v":""},null,null,null,{"$f":"IF(月=\"\",\"\",月)","v":""},null,null,{"$f":"IF(日=\"\",\"\",日)","v":""}]
[]
[]
[]
[]
[]
[null,"業者名",null,null,null,{"$f":"IF(社名=\"\",\"\",社名)","v":""}]
[]
[]
[]
[]
[]
[]
[null,"工事番号",null,null,null,{"$f":"IF(F25=\"\",\"\",F25)","v":""},null,null,null,"工事名",null,null,null,{"$f":"IF(N25=\"\",\"\",N25)","v":""}]
[]
[]
[]
[]
[null,"月　日",null,null,null,"摘要･品名",null,null,null,null,null,null,null,null,null,null,null,null,null,null,"数 量",null,null,"単位",null,null,"単価",null,null,null,null,"金額(税抜)"]
[]
[]
[]
[null,{"$f":"IF(B34=\"\",\"\",B34)","v":""},null,{"$f":"IF(D34=\"\",\"\",D34)","v":""},null,{"$f":"IF(F34=\"\",\"\",F34)","v":""},null,null,null,null,null,null,null,null,null,null,null,null,null,null,{"$f":"IF(U34=\"\",\"\",U34)","v":""},null,null,{"$f":"IF(X34=\"\",\"\",X34)","v":""},null,null,{"$f":"IF(AA34=\"\",\"\",AA34)","v":""},null,null,null,null,{"$f":"IF(F173=\"\",\"\",U173*AA173)","v":""}]
[]
[]
[]
[null,{"$f":"IF(B38=\"\",\"\",B38)","v":""},null,{"$f":"IF(D38=\"\",\"\",D38)","v":""},null,{"$f":"IF(F38=\"\",\"\",F38)","v":""},null,null,null,null,null,null,null,null,null,null,null,null,null,null,{"$f":"IF(U38=\"\",\"\",U38)","v":""},null,null,{"$f":"IF(X38=\"\",\"\",X38)","v":""},null,null,{"$f":"IF(AA38=\"\",\"\",AA38)","v":""},null,null,null,null,{"$f":"IF(F177=\"\",\"\",U177*AA177)","v":""}]
[]
[]
[]
[null,{"$f":"IF(B42=\"\",\"\",B42)","v":""},null,{"$f":"IF(D42=\"\",\"\",D42)","v":""},null,{"$f":"IF(F42=\"\",\"\",F42)","v":""},null,null,null,null,null,null,null,null,null,null,null,null,null,null,{"$f":"IF(U42=\"\",\"\",U42)","v":""},null,null,{"$f":"IF(X42=\"\",\"\",X42)","v":""},null,null,{"$f":"IF(AA42=\"\",\"\",AA42)","v":""},null,null,null,null,{"$f":"IF(F181=\"\",\"\",U181*AA181)","v":""}]
[]
[]
[]
[null,{"$f":"IF(B46=\"\",\"\",B46)","v":""},null,{"$f":"IF(D46=\"\",\"\",D46)","v":""},null,{"$f":"IF(F46=\"\",\"\",F46)","v":""},null,null,null,null,null,null,null,null,null,null,null,null,null,null,{"$f":"IF(U46=\"\",\"\",U46)","v":""},null,null,{"$f":"IF(X46=\"\",\"\",X46)","v":""},null,null,{"$f":"IF(AA46=\"\",\"\",AA46)","v":""},null,null,null,null,{"$f":"IF(F185=\"\",\"\",U185*AA185)","v":""}]
[]
[]
[]
[null,{"$f":"IF(B50=\"\",\"\",B50)","v":""},null,{"$f":"IF(D50=\"\",\"\",D50)","v":""},null,{"$f":"IF(F50=\"\",\"\",F50)","v":""},null,null,null,null,null,null,null,null,null,null,null,null,null,null,{"$f":"IF(U50=\"\",\"\",U50)","v":""},null,null,{"$f":"IF(X50=\"\",\"\",X50)","v":""},null,null,{"$f":"IF(AA50=\"\",\"\",AA50)","v":""},null,null,null,null,{"$f":"IF(F189=\"\",\"\",U189*AA189)","v":""}]
[]
[]
[]
[null,{"$f":"IF(B54=\"\",\"\",B54)","v":""},null,{"$f":"IF(D54=\"\",\"\",D54)","v":""},null,{"$f":"IF(F54=\"\",\"\",F54)","v":""},null,null,null,null,null,null,null,null,null,null,null,null,null,null,{"$f":"IF(U54=\"\",\"\",U54)","v":""},null,null,{"$f":"IF(X54=\"\",\"\",X54)","v":""},null,null,{"$f":"IF(AA54=\"\",\"\",AA54)","v":""},null,null,null,null,{"$f":"IF(F193=\"\",\"\",U193*AA193)","v":""}]
[]
[]
[]
[null,{"$f":"IF(B58=\"\",\"\",B58)","v":""},null,{"$f":"IF(D58=\"\",\"\",D58)","v":""},null,{"$f":"IF(F58=\"\",\"\",F58)","v":""},null,null,null,null,null,null,null,null,null,null,null,null,null,null,{"$f":"IF(U58=\"\",\"\",U58)","v":""},null,null,{"$f":"IF(X58=\"\",\"\",X58)","v":""},null,null,{"$f":"IF(AA58=\"\",\"\",AA58)","v":""},null,null,null,null,{"$f":"IF(F197=\"\",\"\",U197*AA197)","v":""}]
[]
[]
[]
[null,{"$f":"IF(B62=\"\",\"\",B62)","v":""},null,{"$f":"IF(D62=\"\",\"\",D62)","v":""},null,{"$f":"IF(F62=\"\",\"\",F62)","v":""},null,null,null,null,null,null,null,null,null,null,null,null,null,null,{"$f":"IF(U62=\"\",\"\",U62)","v":""},null,null,{"$f":"IF(X62=\"\",\"\",X62)","v":""},null,null,{"$f":"IF(AA62=\"\",\"\",AA62)","v":""},null,null,null,null,{"$f":"IF(F201=\"\",\"\",U201*AA201)","v":""}]
[]
[]
[]
[null,{"$f":"IF(B66=\"\",\"\",B66)","v":""},null,{"$f":"IF(D66=\"\",\"\",D66)","v":""},null,{"$f":"IF(F66=\"\",\"\",F66)","v":""},null,null,null,null,null,null,null,null,null,null,null,null,null,null,{"$f":"IF(U66=\"\",\"\",U66)","v":""},null,null,{"$f":"IF(X66=\"\",\"\",X66)","v":""},null,null,{"$f":"IF(AA66=\"\",\"\",AA66)","v":""},null,null,null,null,{"$f":"IF(F205=\"\",\"\",U205*AA205)","v":""}]
[]
[]
[]
[null,{"$f":"IF(B70=\"\",\"\",B70)","v":""},null,{"$f":"IF(D70=\"\",\"\",D70)","v":""},null,{"$f":"IF(F70=\"\",\"\",F70)","v":""},null,null,null,null,null,null,null,null,null,null,null,null,null,null,{"$f":"IF(U70=\"\",\"\",U70)","v":""},null,null,{"$f":"IF(X70=\"\",\"\",X70)","v":""},null,null,{"$f":"IF(AA70=\"\",\"\",AA70)","v":""},null,null,null,null,{"$f":"IF(F209=\"\",\"\",U209*AA209)","v":""}]
[]
[]
[]
[null,{"$f":"IF(B74=\"\",\"\",B74)","v":""},null,{"$f":"IF(D74=\"\",\"\",D74)","v":""},null,{"$f":"IF(F74=\"\",\"\",F74)","v":""},null,null,null,null,null,null,null,null,null,null,null,null,null,null,{"$f":"IF(U74=\"\",\"\",U74)","v":""},null,null,{"$f":"IF(X74=\"\",\"\",X74)","v":""},null,null,{"$f":"IF(AA74=\"\",\"\",AA74)","v":""},null,null,null,null,{"$f":"IF(F213=\"\",\"\",U213*AA213)","v":""}]
[]
[]
[]
[null,{"$f":"IF(B78=\"\",\"\",B78)","v":""},null,{"$f":"IF(D78=\"\",\"\",D78)","v":""},null,{"$f":"IF(F78=\"\",\"\",F78)","v":""},null,null,null,null,null,null,null,null,null,null,null,null,null,null,{"$f":"IF(U78=\"\",\"\",U78)","v":""},null,null,{"$f":"IF(X78=\"\",\"\",X78)","v":""},null,null,{"$f":"IF(AA78=\"\",\"\",AA78)","v":""},null,null,null,null,{"$f":"IF(F217=\"\",\"\",U217*AA217)","v":""}]
[]
[]
[]
[null,{"$f":"IF(B82=\"\",\"\",B82)","v":""},null,{"$f":"IF(D82=\"\",\"\",D82)","v":""},null,{"$f":"IF(F82=\"\",\"\",F82)","v":""},null,null,null,null,null,null,null,null,null,null,null,null,null,null,{"$f":"IF(U82=\"\",\"\",U82)","v":""},null,null,{"$f":"IF(X82=\"\",\"\",X82)","v":""},null,null,{"$f":"IF(AA82=\"\",\"\",AA82)","v":""},null,null,null,null,{"$f":"IF(F221=\"\",\"\",U221*AA221)","v":""}]
[]
[]
[]
[null,{"$f":"IF(B86=\"\",\"\",B86)","v":""},null,{"$f":"IF(D86=\"\",\"\",D86)","v":""},null,{"$f":"IF(F86=\"\",\"\",F86)","v":""},null,null,null,null,null,null,null,null,null,null,null,null,null,null,{"$f":"IF(U86=\"\",\"\",U86)","v":""},null,null,{"$f":"IF(X86=\"\",\"\",X86)","v":""},null,null,{"$f":"IF(AA86=\"\",\"\",AA86)","v":""},null,null,null,null,{"$f":"IF(F225=\"\",\"\",U225*AA225)","v":""}]
[]
[]
[]
[null,{"$f":"IF(B90=\"\",\"\",B90)","v":""},null,{"$f":"IF(D90=\"\",\"\",D90)","v":""},null,{"$f":"IF(F90=\"\",\"\",F90)","v":""},null,null,null,null,null,null,null,null,null,null,null,null,null,null,{"$f":"IF(U90=\"\",\"\",U90)","v":""},null,null,{"$f":"IF(X90=\"\",\"\",X90)","v":""},null,null,{"$f":"IF(AA90=\"\",\"\",AA90)","v":""},null,null,null,null,{"$f":"IF(F229=\"\",\"\",U229*AA229)","v":""}]
[]
[]
[]
[null,{"$f":"IF(B94=\"\",\"\",B94)","v":""},null,{"$f":"IF(D94=\"\",\"\",D94)","v":""},null,{"$f":"IF(F94=\"\",\"\",F94)","v":""},null,null,null,null,null,null,null,null,null,null,null,null,null,null,{"$f":"IF(U94=\"\",\"\",U94)","v":""},null,null,{"$f":"IF(X94=\"\",\"\",X94)","v":""},null,null,{"$f":"IF(AA94=\"\",\"\",AA94)","v":""},null,null,null,null,{"$f":"IF(F233=\"\",\"\",U233*AA233)","v":""}]
[]
[]
[]
[null,{"$f":"IF(B98=\"\",\"\",B98)","v":""},null,{"$f":"IF(D98=\"\",\"\",D98)","v":""},null,{"$f":"IF(F98=\"\",\"\",F98)","v":""},null,null,null,null,null,null,null,null,null,null,null,null,null,null,{"$f":"IF(U98=\"\",\"\",U98)","v":""},null,null,{"$f":"IF(X98=\"\",\"\",X98)","v":""},null,null,{"$f":"IF(AA98=\"\",\"\",AA98)","v":""},null,null,null,null,{"$f":"IF(F237=\"\",\"\",U237*AA237)","v":""}]
[]
[]
[]
[null,{"$f":"IF(B102=\"\",\"\",B102)","v":""},null,{"$f":"IF(D102=\"\",\"\",D102)","v":""},null,{"$f":"IF(F102=\"\",\"\",F102)","v":""},null,null,null,null,null,null,null,null,null,null,null,null,null,null,{"$f":"IF(U102=\"\",\"\",U102)","v":""},null,null,{"$f":"IF(X102=\"\",\"\",X102)","v":""},null,null,{"$f":"IF(AA102=\"\",\"\",AA102)","v":""},null,null,null,null,{"$f":"IF(F241=\"\",\"\",U241*AA241)","v":""}]
[]
[]
[]
[null,{"$f":"IF(B106=\"\",\"\",B106)","v":""},null,{"$f":"IF(D106=\"\",\"\",D106)","v":""},null,{"$f":"IF(F106=\"\",\"\",F106)","v":""},null,null,null,null,null,null,null,null,null,null,null,null,null,null,{"$f":"IF(U106=\"\",\"\",U106)","v":""},null,null,{"$f":"IF(X106=\"\",\"\",X106)","v":""},null,null,{"$f":"IF(AA106=\"\",\"\",AA106)","v":""},null,null,null,null,{"$f":"IF(F245=\"\",\"\",U245*AA245)","v":""}]
[]
[]
[]
[null,null,null,null,null,null,null,null,null,null,null,null,null,null,null,null,null,null,null,null,"金額(税抜)",null,null,null,null,null,null,null,null,null,null,{"$f":"IF(AF173=\"\",\"\",SUM(AF173:AF245))","v":""}]
[]
[]
[]
[]
[null,null,null,null,null,null,null,null,null,null,null,null,null,null,null,null,null,null,null,null,"消費税",null,null,null,null,null,"税率",null,null,"税調",null,{"$f":"IF(AF115=\"\",\"\",AF115)","v":""}]
[]
[null,null,null,null,null,null,null,null,null,null,null,null,null,null,null,null,null,null,null,null,null,null,null,null,null,null,{"$f":"IF(AA117=\"\",\"\",AA117)","v":""},null,{"$f":"IF(AC117=\"\",\"\",AC117)","v":""},{"$f":"IF(AD117=\"\",\"\",AD117)","v":""}]
[]
[]
[null,"備考・通信欄"]

{"sheet":"細1-3","index":4,"n_rows":259,"n_cols":35,"rows_kept":259,"cut":false,"hidden":false,"merged":[[258,1,275,2],[253,20,256,25],[253,26,254,28],[248,20,251,30],[244,1,247,2],[244,3,247,4],[244,5,247,19],[244,20,247,22],[244,23,247,25],[244,26,247,30],[244,31,247,36],[253,31,256,36],[255,26,256,27],[255,28,256,28],[255,29,256,30],[253,29,254,30],[248,31,251,36],[236,1,239,2],[236,3,239,4],[236,5,239,19],[236,20,239,22],[236,23,239,25],[236,26,239,30],[236,31,239,36],[240,1,243,2],[240,3,243,4],[240,5,243,19],[240,20,243,22],[240,23,243,25],[240,26,243,30],[240,31,243,36],[228,1,231,2],[228,3,231,4],[228,5,231,19],[228,20,231,22],[228,23,231,25],[228,26,231,30],[228,31,231,36],[232,1,235,2],[232,3,235,4],[232,5,235,19],[232,20,235,22],[232,23,235,25],[232,26,235,30],[232,31,235,36],[220,1,223,2],[220,3,223,4],[220,5,223,19],[220,20,223,22],[220,23,223,25],[220,26,223,30],[220,31,223,36],[224,1,227,2],[224,3,227,4],[224,5,227,19],[224,20,227,22],[224,23,227,25],[224,26,227,30],[224,31,227,36],[188,1,191,2],[188,3,191,4],[188,5,191,19],[188,20,191,22],[188,23,191,25],[188,26,191,30],[188,31,191,36],[212,31,215,36],[216,1,219,2],[216,3,219,4],[216,5,219,19],[216,20,219,22],[216,23,219,25],[216,26,219,30],[216,31,219,36],[200,1,203,2],[200,3,203,4],[200,5,203,19],[200,20,203,22],[200,23,203,25],[200,26,203,30],[200,31,203,36],[204,1,207,2],[204,3,207,4],[180,1,183,2],[180,3,183,4],[180,5,183,19],[180,20,183,22],[180,23,183,25],[180,26,183,30],[180,31,183,36],[184,1,187,2],[184,3,187,4],[184,5,187,19],[184,20,187,22],[184,23,187,25],[184,26,187,30],[184,31,187,36],[172,1,175,2],[172,3,175,4],[172,5,175,19],[172,20,175,22],[172,23,175,25],[172,26,175,30],[172,31,175,36],[176,1,179,2],[176,3,179,4],[176,5,179,19],[176,20,179,22],[176,23,179,25],[176,26,179,30],[176,31,179,36],[163,1,166,4],[163,5,166,8],[163,9,166,12],[163,13,166,36],[168,1,171,4],[168,5,171,19],[168,20,171,22],[168,23,171,25],[168,26,171,30],[168,31,171,36],[105,1,108,2],[105,3,108,4],[105,5,108,19],[105,20,108,22],[105,23,108,25],[105,26,108,30],[105,31,108,36],[101,1,104,2],[101,3,104,4],[101,5,104,19],[81,1,84,2],[81,3,84,4],[81,5,84,19],[81,20,84,22],[81,23,84,25],[81,26,84,30],[81,31,84,36],[101,20,104,22],[101,23,104,25],[101,26,104,30],[101,31,104,36],[93,1,96,2],[93,3,96,4],[93,5,96,19],[93,20,96,22],[93,23,96,25],[93,26,96,30],[93,31,96,36],[97,1,100,2],[97,3,100,4],[97,5,100,19],[97,20,100,22],[97,23,100,25],[97,26,100,30],[73,1,76,2],[73,3,76,4],[73,5,76,19],[73,20,76,22],[73,23,76,25],[73,26,76,30],[73,31,76,36],[77,1,80,2],[77,3,80,4],[77,5,80,19],[77,20,80,22],[77,23,80,25],[77,26,80,30],[77,31,80,36],[65,1,68,2],[65,3,68,4],[65,5,68,19],[65,20,68,22],[65,23,68,25],[65,26,68,30],[65,31,68,36],[69,1,72,2],[69,3,72,4],[69,5,72,19],[69,20,72,22],[69,23,72,25],[69,26,72,30],[69,31,72,36],[57,1,60,2],[57,3,60,4],[57,5,60,19],[57,20,60,22],[57,23,60,25],[57,26,60,30],[57,31,60,36],[61,1,64,2],[61,3,64,4],[61,5,64,19],[61,20,64,22],[61,23,64,25],[61,26,64,30],[61,31,64,36],[49,1,52,2],[49,3,52,4],[49,5,52,19],[49,20,52,22],[49,23,52,25],[49,26,52,30],[49,31,52,36],[53,1,56,2],[53,3,56,4],[53,5,56,19],[53,20,56,22],[53,23,56,25],[53,26,56,30],[53,31,56,36],[41,1,44,2],[41,3,44,4],[41,5,44,19],[41,20,44,22],[41,23,44,25],[41,26,44,30],[41,31,44,36],[45,1,48,2],[45,3,48,4],[45,5,48,19],[45,20,48,22],[45,23,48,25],[45,26,48,30],[45,31,48,36],[33,1,36,2],[33,3,36,4],[33,5,36,19],[33,20,36,22],[33,23,36,25],[33,26,36,30],[33,31,36,36],[37,1,40,2],[37,3,40,4],[37,5,40,19],[37,20,40,22],[37,23,40,25],[37,26,40,30],[37,31,40,36],[24,5,27,8],[24,9,27,12],[24,13,27,36],[29,1,32,4],[29,5,32,19],[29,20,32,22],[29,23,32,25],[29,26,32,30],[29,31,32,36],[2,12,5,25],[10,1,13,12],[85,5,88,19],[85,20,88,22],[85,23,88,25],[85,26,88,30],[85,31,88,36],[89,5,92,19],[89,20,92,22],[89,23,92,25],[89,26,92,30],[85,1,88,2],[85,3,88,4],[89,1,92,2],[89,3,92,4],[89,31,92,36],[10,13,13,14],[11,22,13,26],[11,27,13,30],[11,31,13,33],[11,34,13,36],[17,1,20,4],[17,5,20,17],[24,1,27,4],[149,1,152,12],[149,13,152,14],[150,22,152,26],[150,27,152,30],[150,31,152,33],[150,34,152,36],[156,1,159,4],[156,5,159,17],[97,31,100,36],[109,20,112,30],[109,31,112,36],[110,1,111,8],[110,9,111,13],[110,14,111,18],[112,1,117,8],[112,9,117,13],[112,14,117,18],[114,20,117,25],[114,26,115,28],[114,29,115,30],[114,31,117,36],[116,26,117,27],[116,28,117,28],[116,29,117,30],[204,31,207,36],[208,1,211,2],[208,3,211,4],[208,5,211,19],[208,20,211,22],[208,23,211,25],[208,26,211,30],[208,31,211,36],[119,1,136,2],[141,12,144,25],[196,1,199,2],[196,3,199,4],[196,5,199,19],[196,20,199,22],[196,23,199,25],[196,26,199,30],[196,31,199,36],[192,1,195,2],[192,3,195,4],[192,5,195,19],[192,20,195,22],[192,23,195,25],[192,26,195,30],[192,31,195,36],[212,1,215,2],[212,3,215,4],[212,5,215,19],[212,20,215,22],[212,23,215,25],[212,26,215,30],[204,5,207,19],[204,20,207,22],[204,23,207,25],[204,26,207,30]]}
[]
[]
[null,null,null,null,null,null,null,null,null,null,null,null,"請求明細書 (正)"]
[]
[]
[]
[]
[]
[]
[]
[null,"株 式 会 社 小 田 道 路",null,null,null,null,null,null,null,null,null,null,null,"御中"]
[null,null,null,null,null,null,null,null,null,null,null,null,null,null,null,null,null,null,null,null,null,null,"請求年月日",null,null,null,null,{"$f":"IF(年=\"\",\"\",年)","v":""},null,null,null,{"$f":"IF(月=\"\",\"\",月)","v":""},null,null,{"$f":"IF(日=\"\",\"\",日)","v":""}]
[]
[]
[]
[]
[]
[null,"業者名",null,null,null,{"$f":"IF(社名=\"\",\"\",社名)","v":""}]
[]
[]
[]
[]
[]
[]
[null,"工事番号",null,null,null,null,null,null,null,"工事名"]
[]
[]
[]
[]
[null,"月 日",null,null,null,"品 名・内 訳",null,null,null,null,null,null,null,null,null,null,null,null,null,null,"数 量",null,null,"単位",null,null,"単価",null,null,null,null,"金額(税抜)"]
[]
[]
[]
[null,null,null,null,null,null,null,null,null,null,null,null,null,null,null,null,null,null,null,null,null,null,null,null,null,null,null,null,null,null,null,{"$f":"IF(F34=\"\",\"\",ROUND(U34*AA34,0))","v":""}]
[]
[]
[]
[null,null,null,null,null,null,null,null,null,null,null,null,null,null,null,null,null,null,null,null,null,null,null,null,null,null,null,null,null,null,null,{"$f":"IF(F38=\"\",\"\",ROUND(U38*AA38,0))","v":""}]
[]
[]
[]
[null,null,null,null,null,null,null,null,null,null,null,null,null,null,null,null,null,null,null,null,null,null,null,null,null,null,null,null,null,null,null,{"$f":"IF(F42=\"\",\"\",ROUND(U42*AA42,0))","v":""}]
[]
[]
[]
[null,null,null,null,null,null,null,null,null,null,null,null,null,null,null,null,null,null,null,null,null,null,null,null,null,null,null,null,null,null,null,{"$f":"IF(F46=\"\",\"\",ROUND(U46*AA46,0))","v":""}]
[]
[]
[]
[null,null,null,null,null,null,null,null,null,null,null,null,null,null,null,null,null,null,null,null,null,null,null,null,null,null,null,null,null,null,null,{"$f":"IF(F50=\"\",\"\",ROUND(U50*AA50,0))","v":""}]
[]
[]
[]
[null,null,null,null,null,null,null,null,null,null,null,null,null,null,null,null,null,null,null,null,null,null,null,null,null,null,null,null,null,null,null,{"$f":"IF(F54=\"\",\"\",ROUND(U54*AA54,0))","v":""}]
[]
[]
[]
[null,null,null,null,null,null,null,null,null,null,null,null,null,null,null,null,null,null,null,null,null,null,null,null,null,null,null,null,null,null,null,{"$f":"IF(F58=\"\",\"\",ROUND(U58*AA58,0))","v":""}]
[]
[]
[]
[null,null,null,null,null,null,null,null,null,null,null,null,null,null,null,null,null,null,null,null,null,null,null,null,null,null,null,null,null,null,null,{"$f":"IF(F62=\"\",\"\",ROUND(U62*AA62,0))","v":""}]
[]
[]
[]
[null,null,null,null,null,null,null,null,null,null,null,null,null,null,null,null,null,null,null,null,null,null,null,null,null,null,null,null,null,null,null,{"$f":"IF(F66=\"\",\"\",ROUND(U66*AA66,0))","v":""}]
[]
[]
[]
[null,null,null,null,null,null,null,null,null,null,null,null,null,null,null,null,null,null,null,null,null,null,null,null,null,null,null,null,null,null,null,{"$f":"IF(F70=\"\",\"\",ROUND(U70*AA70,0))","v":""}]
[]
[]
[]
[null,null,null,null,null,null,null,null,null,null,null,null,null,null,null,null,null,null,null,null,null,null,null,null,null,null,null,null,null,null,null,{"$f":"IF(F74=\"\",\"\",ROUND(U74*AA74,0))","v":""}]
[]
[]
[]
[null,null,null,null,null,null,null,null,null,null,null,null,null,null,null,null,null,null,null,null,null,null,null,null,null,null,null,null,null,null,null,{"$f":"IF(F78=\"\",\"\",ROUND(U78*AA78,0))","v":""}]
[]
[]
[]
[null,null,null,null,null,null,null,null,null,null,null,null,null,null,null,null,null,null,null,null,null,null,null,null,null,null,null,null,null,null,null,{"$f":"IF(F82=\"\",\"\",ROUND(U82*AA82,0))","v":""}]
[]
[]
[]
[null,null,null,null,null,null,null,null,null,null,null,null,null,null,null,null,null,null,null,null,null,null,null,null,null,null,null,null,null,null,null,{"$f":"IF(F86=\"\",\"\",ROUND(U86*AA86,0))","v":""}]
[]
[]
[]
[null,null,null,null,null,null,null,null,null,null,null,null,null,null,null,null,null,null,null,null,null,null,null,null,null,null,null,null,null,null,null,{"$f":"IF(F90=\"\",\"\",ROUND(U90*AA90,0))","v":""}]
[]
[]
[]
[null,null,null,null,null,null,null,null,null,null,null,null,null,null,null,null,null,null,null,null,null,null,null,null,null,null,null,null,null,null,null,{"$f":"IF(F94=\"\",\"\",ROUND(U94*AA94,0))","v":""}]
[]
[]
[]
[null,null,null,null,null,null,null,null,null,null,null,null,null,null,null,null,null,null,null,null,null,null,null,null,null,null,null,null,null,null,null,{"$f":"IF(F98=\"\",\"\",ROUND(U98*AA98,0))","v":""}]
[]
[]
[]
[null,null,null,null,null,null,null,null,null,null,null,null,null,null,null,null,null,null,null,null,null,null,null,null,null,null,null,null,null,null,null,{"$f":"IF(F102=\"\",\"\",ROUND(U102*AA102,0))","v":""}]
[]
[]
[]
[null,null,null,null,null,null,null,null,null,null,null,null,null,null,null,null,null,null,null,null,null,null,null,null,null,null,null,null,null,null,null,{"$f":"IF(F106=\"\",\"\",ROUND(U106*AA106,0))","v":""}]
[]
[]
[]
[null,null,null,null,null,null,null,null,null,null,null,null,null,null,null,null,null,null,null,null,"金額(税抜)",null,null,null,null,null,null,null,null,null,null,{"$f":"IF(AF34=\"\",\"\",SUM(AF34:AF106))","v":""}]
[null,"部長",null,null,null,null,null,null,null,"担当者",null,null,null,null,"受付"]
[]
[]
[]
[null,null,null,null,null,null,null,null,null,null,null,null,null,null,null,null,null,null,null,null,"消費税",null,null,null,null,null,"税率",null,null,"税調",null,{"$f":"IF(AF110=\"\",\"\",IF(AA117=\"\",\"\",IF(AA117=8.1,ROUND(AF110*8/100,0)+AD117,ROUND(AF110*AA117/100,0)+AD117)))","v":""}]
[]
[null,null,null,null,null,null,null,null,null,null,null,null,null,null,null,null,null,null,null,null,null,null,null,null,null,null,null,null,{"$f":"IF(AA117=\"\",\"\",IF(AA117=8.1,\"旧\",IF(AA117=8,\"軽\",IF(AA117=0,\"非\",\"\"))))","v":""}]
[]
[]
[null,"備考・通信欄"]
[]
[]
[]
[]
[]
[]
[]
[]
[]
[]
[]
[]
[]
[]
[]
[]
[]
[]
[]
[]
[]
[null,null,null,null,null,null,null,null,null,null,null,null,"請求明細書 (貴社控)"]
[]
[]
[]
[]
[]
[]
[]
[null,"株 式 会 社 小 田 道 路",null,null,null,null,null,null,null,null,null,null,null,"御中"]
[null,null,null,null,null,null,null,null,null,null,null,null,null,null,null,null,null,null,null,null,null,null,"請求年月日",null,null,null,null,{"$f":"IF(年=\"\",\"\",年)","v":""},null,null,null,{"$f":"IF(月=\"\",\"\",月)","v":""},null,null,{"$f":"IF(日=\"\",\"\",日)","v":""}]
[]
[]
[]
[]
[]
[null,"業者名",null,null,null,{"$f":"IF(社名=\"\",\"\",社名)","v":""}]
[]
[]
[]
[]
[]
[]
[null,"工事番号",null,null,null,{"$f":"IF(F25=\"\",\"\",F25)","v":""},null,null,null,"工事名",null,null,null,{"$f":"IF(N25=\"\",\"\",N25)","v":""}]
[]
[]
[]
[]
[null,"月　日",null,null,null,"摘要･品名",null,null,null,null,null,null,null,null,null,null,null,null,null,null,"数 量",null,null,"単位",null,null,"単価",null,null,null,null,"金額(税抜)"]
[]
[]
[]
[null,{"$f":"IF(B34=\"\",\"\",B34)","v":""},null,{"$f":"IF(D34=\"\",\"\",D34)","v":""},null,{"$f":"IF(F34=\"\",\"\",F34)","v":""},null,null,null,null,null,null,null,null,null,null,null,null,null,null,{"$f":"IF(U34=\"\",\"\",U34)","v":""},null,null,{"$f":"IF(X34=\"\",\"\",X34)","v":""},null,null,{"$f":"IF(AA34=\"\",\"\",AA34)","v":""},null,null,null,null,{"$f":"IF(F173=\"\",\"\",U173*AA173)","v":""}]
[]
[]
[]
[null,{"$f":"IF(B38=\"\",\"\",B38)","v":""},null,{"$f":"IF(D38=\"\",\"\",D38)","v":""},null,{"$f":"IF(F38=\"\",\"\",F38)","v":""},null,null,null,null,null,null,null,null,null,null,null,null,null,null,{"$f":"IF(U38=\"\",\"\",U38)","v":""},null,null,{"$f":"IF(X38=\"\",\"\",X38)","v":""},null,null,{"$f":"IF(AA38=\"\",\"\",AA38)","v":""},null,null,null,null,{"$f":"IF(F177=\"\",\"\",U177*AA177)","v":""}]
[]
[]
[]
[null,{"$f":"IF(B42=\"\",\"\",B42)","v":""},null,{"$f":"IF(D42=\"\",\"\",D42)","v":""},null,{"$f":"IF(F42=\"\",\"\",F42)","v":""},null,null,null,null,null,null,null,null,null,null,null,null,null,null,{"$f":"IF(U42=\"\",\"\",U42)","v":""},null,null,{"$f":"IF(X42=\"\",\"\",X42)","v":""},null,null,{"$f":"IF(AA42=\"\",\"\",AA42)","v":""},null,null,null,null,{"$f":"IF(F181=\"\",\"\",U181*AA181)","v":""}]
[]
[]
[]
[null,{"$f":"IF(B46=\"\",\"\",B46)","v":""},null,{"$f":"IF(D46=\"\",\"\",D46)","v":""},null,{"$f":"IF(F46=\"\",\"\",F46)","v":""},null,null,null,null,null,null,null,null,null,null,null,null,null,null,{"$f":"IF(U46=\"\",\"\",U46)","v":""},null,null,{"$f":"IF(X46=\"\",\"\",X46)","v":""},null,null,{"$f":"IF(AA46=\"\",\"\",AA46)","v":""},null,null,null,null,{"$f":"IF(F185=\"\",\"\",U185*AA185)","v":""}]
[]
[]
[]
[null,{"$f":"IF(B50=\"\",\"\",B50)","v":""},null,{"$f":"IF(D50=\"\",\"\",D50)","v":""},null,{"$f":"IF(F50=\"\",\"\",F50)","v":""},null,null,null,null,null,null,null,null,null,null,null,null,null,null,{"$f":"IF(U50=\"\",\"\",U50)","v":""},null,null,{"$f":"IF(X50=\"\",\"\",X50)","v":""},null,null,{"$f":"IF(AA50=\"\",\"\",AA50)","v":""},null,null,null,null,{"$f":"IF(F189=\"\",\"\",U189*AA189)","v":""}]
[]
[]
[]
[null,{"$f":"IF(B54=\"\",\"\",B54)","v":""},null,{"$f":"IF(D54=\"\",\"\",D54)","v":""},null,{"$f":"IF(F54=\"\",\"\",F54)","v":""},null,null,null,null,null,null,null,null,null,null,null,null,null,null,{"$f":"IF(U54=\"\",\"\",U54)","v":""},null,null,{"$f":"IF(X54=\"\",\"\",X54)","v":""},null,null,{"$f":"IF(AA54=\"\",\"\",AA54)","v":""},null,null,null,null,{"$f":"IF(F193=\"\",\"\",U193*AA193)","v":""}]
[]
[]
[]
[null,{"$f":"IF(B58=\"\",\"\",B58)","v":""},null,{"$f":"IF(D58=\"\",\"\",D58)","v":""},null,{"$f":"IF(F58=\"\",\"\",F58)","v":""},null,null,null,null,null,null,null,null,null,null,null,null,null,null,{"$f":"IF(U58=\"\",\"\",U58)","v":""},null,null,{"$f":"IF(X58=\"\",\"\",X58)","v":""},null,null,{"$f":"IF(AA58=\"\",\"\",AA58)","v":""},null,null,null,null,{"$f":"IF(F197=\"\",\"\",U197*AA197)","v":""}]
[]
[]
[]
[null,{"$f":"IF(B62=\"\",\"\",B62)","v":""},null,{"$f":"IF(D62=\"\",\"\",D62)","v":""},null,{"$f":"IF(F62=\"\",\"\",F62)","v":""},null,null,null,null,null,null,null,null,null,null,null,null,null,null,{"$f":"IF(U62=\"\",\"\",U62)","v":""},null,null,{"$f":"IF(X62=\"\",\"\",X62)","v":""},null,null,{"$f":"IF(AA62=\"\",\"\",AA62)","v":""},null,null,null,null,{"$f":"IF(F201=\"\",\"\",U201*AA201)","v":""}]
[]
[]
[]
[null,{"$f":"IF(B66=\"\",\"\",B66)","v":""},null,{"$f":"IF(D66=\"\",\"\",D66)","v":""},null,{"$f":"IF(F66=\"\",\"\",F66)","v":""},null,null,null,null,null,null,null,null,null,null,null,null,null,null,{"$f":"IF(U66=\"\",\"\",U66)","v":""},null,null,{"$f":"IF(X66=\"\",\"\",X66)","v":""},null,null,{"$f":"IF(AA66=\"\",\"\",AA66)","v":""},null,null,null,null,{"$f":"IF(F205=\"\",\"\",U205*AA205)","v":""}]
[]
[]
[]
[null,{"$f":"IF(B70=\"\",\"\",B70)","v":""},null,{"$f":"IF(D70=\"\",\"\",D70)","v":""},null,{"$f":"IF(F70=\"\",\"\",F70)","v":""},null,null,null,null,null,null,null,null,null,null,null,null,null,null,{"$f":"IF(U70=\"\",\"\",U70)","v":""},null,null,{"$f":"IF(X70=\"\",\"\",X70)","v":""},null,null,{"$f":"IF(AA70=\"\",\"\",AA70)","v":""},null,null,null,null,{"$f":"IF(F209=\"\",\"\",U209*AA209)","v":""}]
[]
[]
[]
[null,{"$f":"IF(B74=\"\",\"\",B74)","v":""},null,{"$f":"IF(D74=\"\",\"\",D74)","v":""},null,{"$f":"IF(F74=\"\",\"\",F74)","v":""},null,null,null,null,null,null,null,null,null,null,null,null,null,null,{"$f":"IF(U74=\"\",\"\",U74)","v":""},null,null,{"$f":"IF(X74=\"\",\"\",X74)","v":""},null,null,{"$f":"IF(AA74=\"\",\"\",AA74)","v":""},null,null,null,null,{"$f":"IF(F213=\"\",\"\",U213*AA213)","v":""}]
[]
[]
[]
[null,{"$f":"IF(B78=\"\",\"\",B78)","v":""},null,{"$f":"IF(D78=\"\",\"\",D78)","v":""},null,{"$f":"IF(F78=\"\",\"\",F78)","v":""},null,null,null,null,null,null,null,null,null,null,null,null,null,null,{"$f":"IF(U78=\"\",\"\",U78)","v":""},null,null,{"$f":"IF(X78=\"\",\"\",X78)","v":""},null,null,{"$f":"IF(AA78=\"\",\"\",AA78)","v":""},null,null,null,null,{"$f":"IF(F217=\"\",\"\",U217*AA217)","v":""}]
[]
[]
[]
[null,{"$f":"IF(B82=\"\",\"\",B82)","v":""},null,{"$f":"IF(D82=\"\",\"\",D82)","v":""},null,{"$f":"IF(F82=\"\",\"\",F82)","v":""},null,null,null,null,null,null,null,null,null,null,null,null,null,null,{"$f":"IF(U82=\"\",\"\",U82)","v":""},null,null,{"$f":"IF(X82=\"\",\"\",X82)","v":""},null,null,{"$f":"IF(AA82=\"\",\"\",AA82)","v":""},null,null,null,null,{"$f":"IF(F221=\"\",\"\",U221*AA221)","v":""}]
[]
[]
[]
[null,{"$f":"IF(B86=\"\",\"\",B86)","v":""},null,{"$f":"IF(D86=\"\",\"\",D86)","v":""},null,{"$f":"IF(F86=\"\",\"\",F86)","v":""},null,null,null,null,null,null,null,null,null,null,null,null,null,null,{"$f":"IF(U86=\"\",\"\",U86)","v":""},null,null,{"$f":"IF(X86=\"\",\"\",X86)","v":""},null,null,{"$f":"IF(AA86=\"\",\"\",AA86)","v":""},null,null,null,null,{"$f":"IF(F225=\"\",\"\",U225*AA225)","v":""}]
[]
[]
[]
[null,{"$f":"IF(B90=\"\",\"\",B90)","v":""},null,{"$f":"IF(D90=\"\",\"\",D90)","v":""},null,{"$f":"IF(F90=\"\",\"\",F90)","v":""},null,null,null,null,null,null,null,null,null,null,null,null,null,null,{"$f":"IF(U90=\"\",\"\",U90)","v":""},null,null,{"$f":"IF(X90=\"\",\"\",X90)","v":""},null,null,{"$f":"IF(AA90=\"\",\"\",AA90)","v":""},null,null,null,null,{"$f":"IF(F229=\"\",\"\",U229*AA229)","v":""}]
[]
[]
[]
[null,{"$f":"IF(B94=\"\",\"\",B94)","v":""},null,{"$f":"IF(D94=\"\",\"\",D94)","v":""},null,{"$f":"IF(F94=\"\",\"\",F94)","v":""},null,null,null,null,null,null,null,null,null,null,null,null,null,null,{"$f":"IF(U94=\"\",\"\",U94)","v":""},null,null,{"$f":"IF(X94=\"\",\"\",X94)","v":""},null,null,{"$f":"IF(AA94=\"\",\"\",AA94)","v":""},null,null,null,null,{"$f":"IF(F233=\"\",\"\",U233*AA233)","v":""}]
[]
[]
[]
[null,{"$f":"IF(B98=\"\",\"\",B98)","v":""},null,{"$f":"IF(D98=\"\",\"\",D98)","v":""},null,{"$f":"IF(F98=\"\",\"\",F98)","v":""},null,null,null,null,null,null,null,null,null,null,null,null,null,null,{"$f":"IF(U98=\"\",\"\",U98)","v":""},null,null,{"$f":"IF(X98=\"\",\"\",X98)","v":""},null,null,{"$f":"IF(AA98=\"\",\"\",AA98)","v":""},null,null,null,null,{"$f":"IF(F237=\"\",\"\",U237*AA237)","v":""}]
[]
[]
[]
[null,{"$f":"IF(B102=\"\",\"\",B102)","v":""},null,{"$f":"IF(D102=\"\",\"\",D102)","v":""},null,{"$f":"IF(F102=\"\",\"\",F102)","v":""},null,null,null,null,null,null,null,null,null,null,null,null,null,null,{"$f":"IF(U102=\"\",\"\",U102)","v":""},null,null,{"$f":"IF(X102=\"\",\"\",X102)","v":""},null,null,{"$f":"IF(AA102=\"\",\"\",AA102)","v":""},null,null,null,null,{"$f":"IF(F241=\"\",\"\",U241*AA241)","v":""}]
[]
[]
[]
[null,{"$f":"IF(B106=\"\",\"\",B106)","v":""},null,{"$f":"IF(D106=\"\",\"\",D106)","v":""},null,{"$f":"IF(F106=\"\",\"\",F106)","v":""},null,null,null,null,null,null,null,null,null,null,null,null,null,null,{"$f":"IF(U106=\"\",\"\",U106)","v":""},null,null,{"$f":"IF(X106=\"\",\"\",X106)","v":""},null,null,{"$f":"IF(AA106=\"\",\"\",AA106)","v":""},null,null,null,null,{"$f":"IF(F245=\"\",\"\",U245*AA245)","v":""}]
[]
[]
[]
[null,null,null,null,null,null,null,null,null,null,null,null,null,null,null,null,null,null,null,null,"金額(税抜)",null,null,null,null,null,null,null,null,null,null,{"$f":"IF(AF173=\"\",\"\",SUM(AF173:AF245))","v":""}]
[]
[]
[]
[]
[null,null,null,null,null,null,null,null,null,null,null,null,null,null,null,null,null,null,null,null,"消費税",null,null,null,null,null,"税率",null,null,"税調",null,{"$f":"IF(AF115=\"\",\"\",AF115)","v":""}]
[]
[null,null,null,null,null,null,null,null,null,null,null,null,null,null,null,null,null,null,null,null,null,null,null,null,null,null,{"$f":"IF(AA117=\"\",\"\",AA117)","v":""},null,{"$f":"IF(AC117=\"\",\"\",AC117)","v":""},{"$f":"IF(AD117=\"\",\"\",AD117)","v":""}]
[]
[]
[null,"備考・通信欄"]

{"sheet":"細1-4","index":5,"n_rows":259,"n_cols":35,"rows_kept":259,"cut":false,"hidden":false,"merged":[[258,1,275,2],[253,20,256,25],[253,26,254,28],[248,20,251,30],[244,1,247,2],[244,3,247,4],[244,5,247,19],[244,20,247,22],[244,23,247,25],[244,26,247,30],[244,31,247,36],[253,31,256,36],[255,26,256,27],[255,28,256,28],[255,29,256,30],[253,29,254,30],[248,31,251,36],[236,1,239,2],[236,3,239,4],[236,5,239,19],[236,20,239,22],[236,23,239,25],[236,26,239,30],[236,31,239,36],[240,1,243,2],[240,3,243,4],[240,5,243,19],[240,20,243,22],[240,23,243,25],[240,26,243,30],[240,31,243,36],[228,1,231,2],[228,3,231,4],[228,5,231,19],[228,20,231,22],[228,23,231,25],[228,26,231,30],[228,31,231,36],[232,1,235,2],[232,3,235,4],[232,5,235,19],[232,20,235,22],[232,23,235,25],[232,26,235,30],[232,31,235,36],[220,1,223,2],[220,3,223,4],[220,5,223,19],[220,20,223,22],[220,23,223,25],[220,26,223,30],[220,31,223,36],[224,1,227,2],[224,3,227,4],[224,5,227,19],[224,20,227,22],[224,23,227,25],[224,26,227,30],[224,31,227,36],[188,1,191,2],[188,3,191,4],[188,5,191,19],[188,20,191,22],[188,23,191,25],[188,26,191,30],[188,31,191,36],[212,31,215,36],[216,1,219,2],[216,3,219,4],[216,5,219,19],[216,20,219,22],[216,23,219,25],[216,26,219,30],[216,31,219,36],[200,1,203,2],[200,3,203,4],[200,5,203,19],[200,20,203,22],[200,23,203,25],[200,26,203,30],[200,31,203,36],[204,1,207,2],[204,3,207,4],[180,1,183,2],[180,3,183,4],[180,5,183,19],[180,20,183,22],[180,23,183,25],[180,26,183,30],[180,31,183,36],[184,1,187,2],[184,3,187,4],[184,5,187,19],[184,20,187,22],[184,23,187,25],[184,26,187,30],[184,31,187,36],[172,1,175,2],[172,3,175,4],[172,5,175,19],[172,20,175,22],[172,23,175,25],[172,26,175,30],[172,31,175,36],[176,1,179,2],[176,3,179,4],[176,5,179,19],[176,20,179,22],[176,23,179,25],[176,26,179,30],[176,31,179,36],[163,1,166,4],[163,5,166,8],[163,9,166,12],[163,13,166,36],[168,1,171,4],[168,5,171,19],[168,20,171,22],[168,23,171,25],[168,26,171,30],[168,31,171,36],[105,1,108,2],[105,3,108,4],[105,5,108,19],[105,20,108,22],[105,23,108,25],[105,26,108,30],[105,31,108,36],[101,1,104,2],[101,3,104,4],[101,5,104,19],[81,1,84,2],[81,3,84,4],[81,5,84,19],[81,20,84,22],[81,23,84,25],[81,26,84,30],[81,31,84,36],[101,20,104,22],[101,23,104,25],[101,26,104,30],[101,31,104,36],[93,1,96,2],[93,3,96,4],[93,5,96,19],[93,20,96,22],[93,23,96,25],[93,26,96,30],[93,31,96,36],[97,1,100,2],[97,3,100,4],[97,5,100,19],[97,20,100,22],[97,23,100,25],[97,26,100,30],[73,1,76,2],[73,3,76,4],[73,5,76,19],[73,20,76,22],[73,23,76,25],[73,26,76,30],[73,31,76,36],[77,1,80,2],[77,3,80,4],[77,5,80,19],[77,20,80,22],[77,23,80,25],[77,26,80,30],[77,31,80,36],[65,1,68,2],[65,3,68,4],[65,5,68,19],[65,20,68,22],[65,23,68,25],[65,26,68,30],[65,31,68,36],[69,1,72,2],[69,3,72,4],[69,5,72,19],[69,20,72,22],[69,23,72,25],[69,26,72,30],[69,31,72,36],[57,1,60,2],[57,3,60,4],[57,5,60,19],[57,20,60,22],[57,23,60,25],[57,26,60,30],[57,31,60,36],[61,1,64,2],[61,3,64,4],[61,5,64,19],[61,20,64,22],[61,23,64,25],[61,26,64,30],[61,31,64,36],[49,1,52,2],[49,3,52,4],[49,5,52,19],[49,20,52,22],[49,23,52,25],[49,26,52,30],[49,31,52,36],[53,1,56,2],[53,3,56,4],[53,5,56,19],[53,20,56,22],[53,23,56,25],[53,26,56,30],[53,31,56,36],[41,1,44,2],[41,3,44,4],[41,5,44,19],[41,20,44,22],[41,23,44,25],[41,26,44,30],[41,31,44,36],[45,1,48,2],[45,3,48,4],[45,5,48,19],[45,20,48,22],[45,23,48,25],[45,26,48,30],[45,31,48,36],[33,1,36,2],[33,3,36,4],[33,5,36,19],[33,20,36,22],[33,23,36,25],[33,26,36,30],[33,31,36,36],[37,1,40,2],[37,3,40,4],[37,5,40,19],[37,20,40,22],[37,23,40,25],[37,26,40,30],[37,31,40,36],[24,5,27,8],[24,9,27,12],[24,13,27,36],[29,1,32,4],[29,5,32,19],[29,20,32,22],[29,23,32,25],[29,26,32,30],[29,31,32,36],[2,12,5,25],[10,1,13,12],[85,5,88,19],[85,20,88,22],[85,23,88,25],[85,26,88,30],[85,31,88,36],[89,5,92,19],[89,20,92,22],[89,23,92,25],[89,26,92,30],[85,1,88,2],[85,3,88,4],[89,1,92,2],[89,3,92,4],[89,31,92,36],[10,13,13,14],[11,22,13,26],[11,27,13,30],[11,31,13,33],[11,34,13,36],[17,1,20,4],[17,5,20,17],[24,1,27,4],[149,1,152,12],[149,13,152,14],[150,22,152,26],[150,27,152,30],[150,31,152,33],[150,34,152,36],[156,1,159,4],[156,5,159,17],[97,31,100,36],[109,20,112,30],[109,31,112,36],[110,1,111,8],[110,9,111,13],[110,14,111,18],[112,1,117,8],[112,9,117,13],[112,14,117,18],[114,20,117,25],[114,26,115,28],[114,29,115,30],[114,31,117,36],[116,26,117,27],[116,28,117,28],[116,29,117,30],[204,31,207,36],[208,1,211,2],[208,3,211,4],[208,5,211,19],[208,20,211,22],[208,23,211,25],[208,26,211,30],[208,31,211,36],[119,1,136,2],[141,12,144,25],[196,1,199,2],[196,3,199,4],[196,5,199,19],[196,20,199,22],[196,23,199,25],[196,26,199,30],[196,31,199,36],[192,1,195,2],[192,3,195,4],[192,5,195,19],[192,20,195,22],[192,23,195,25],[192,26,195,30],[192,31,195,36],[212,1,215,2],[212,3,215,4],[212,5,215,19],[212,20,215,22],[212,23,215,25],[212,26,215,30],[204,5,207,19],[204,20,207,22],[204,23,207,25],[204,26,207,30]]}
[]
[]
[null,null,null,null,null,null,null,null,null,null,null,null,"請求明細書 (正)"]
[]
[]
[]
[]
[]
[]
[]
[null,"株 式 会 社 小 田 道 路",null,null,null,null,null,null,null,null,null,null,null,"御中"]
[null,null,null,null,null,null,null,null,null,null,null,null,null,null,null,null,null,null,null,null,null,null,"請求年月日",null,null,null,null,{"$f":"IF(年=\"\",\"\",年)","v":""},null,null,null,{"$f":"IF(月=\"\",\"\",月)","v":""},null,null,{"$f":"IF(日=\"\",\"\",日)","v":""}]
[]
[]
[]
[]
[]
[null,"業者名",null,null,null,{"$f":"IF(社名=\"\",\"\",社名)","v":""}]
[]
[]
[]
[]
[]
[]
[null,"工事番号",null,null,null,null,null,null,null,"工事名"]
[]
[]
[]
[]
[null,"月 日",null,null,null,"品 名・内 訳",null,null,null,null,null,null,null,null,null,null,null,null,null,null,"数 量",null,null,"単位",null,null,"単価",null,null,null,null,"金額(税抜)"]
[]
[]
[]
[null,null,null,null,null,null,null,null,null,null,null,null,null,null,null,null,null,null,null,null,null,null,null,null,null,null,null,null,null,null,null,{"$f":"IF(F34=\"\",\"\",ROUND(U34*AA34,0))","v":""}]
[]
[]
[]
[null,null,null,null,null,null,null,null,null,null,null,null,null,null,null,null,null,null,null,null,null,null,null,null,null,null,null,null,null,null,null,{"$f":"IF(F38=\"\",\"\",ROUND(U38*AA38,0))","v":""}]
[]
[]
[]
[null,null,null,null,null,null,null,null,null,null,null,null,null,null,null,null,null,null,null,null,null,null,null,null,null,null,null,null,null,null,null,{"$f":"IF(F42=\"\",\"\",ROUND(U42*AA42,0))","v":""}]
[]
[]
[]
[null,null,null,null,null,null,null,null,null,null,null,null,null,null,null,null,null,null,null,null,null,null,null,null,null,null,null,null,null,null,null,{"$f":"IF(F46=\"\",\"\",ROUND(U46*AA46,0))","v":""}]
[]
[]
[]
[null,null,null,null,null,null,null,null,null,null,null,null,null,null,null,null,null,null,null,null,null,null,null,null,null,null,null,null,null,null,null,{"$f":"IF(F50=\"\",\"\",ROUND(U50*AA50,0))","v":""}]
[]
[]
[]
[null,null,null,null,null,null,null,null,null,null,null,null,null,null,null,null,null,null,null,null,null,null,null,null,null,null,null,null,null,null,null,{"$f":"IF(F54=\"\",\"\",ROUND(U54*AA54,0))","v":""}]
[]
[]
[]
[null,null,null,null,null,null,null,null,null,null,null,null,null,null,null,null,null,null,null,null,null,null,null,null,null,null,null,null,null,null,null,{"$f":"IF(F58=\"\",\"\",ROUND(U58*AA58,0))","v":""}]
[]
[]
[]
[null,null,null,null,null,null,null,null,null,null,null,null,null,null,null,null,null,null,null,null,null,null,null,null,null,null,null,null,null,null,null,{"$f":"IF(F62=\"\",\"\",ROUND(U62*AA62,0))","v":""}]
[]
[]
[]
[null,null,null,null,null,null,null,null,null,null,null,null,null,null,null,null,null,null,null,null,null,null,null,null,null,null,null,null,null,null,null,{"$f":"IF(F66=\"\",\"\",ROUND(U66*AA66,0))","v":""}]
[]
[]
[]
[null,null,null,null,null,null,null,null,null,null,null,null,null,null,null,null,null,null,null,null,null,null,null,null,null,null,null,null,null,null,null,{"$f":"IF(F70=\"\",\"\",ROUND(U70*AA70,0))","v":""}]
[]
[]
[]
[null,null,null,null,null,null,null,null,null,null,null,null,null,null,null,null,null,null,null,null,null,null,null,null,null,null,null,null,null,null,null,{"$f":"IF(F74=\"\",\"\",ROUND(U74*AA74,0))","v":""}]
[]
[]
[]
[null,null,null,null,null,null,null,null,null,null,null,null,null,null,null,null,null,null,null,null,null,null,null,null,null,null,null,null,null,null,null,{"$f":"IF(F78=\"\",\"\",ROUND(U78*AA78,0))","v":""}]
[]
[]
[]
[null,null,null,null,null,null,null,null,null,null,null,null,null,null,null,null,null,null,null,null,null,null,null,null,null,null,null,null,null,null,null,{"$f":"IF(F82=\"\",\"\",ROUND(U82*AA82,0))","v":""}]
[]
[]
[]
[null,null,null,null,null,null,null,null,null,null,null,null,null,null,null,null,null,null,null,null,null,null,null,null,null,null,null,null,null,null,null,{"$f":"IF(F86=\"\",\"\",ROUND(U86*AA86,0))","v":""}]
[]
[]
[]
[null,null,null,null,null,null,null,null,null,null,null,null,null,null,null,null,null,null,null,null,null,null,null,null,null,null,null,null,null,null,null,{"$f":"IF(F90=\"\",\"\",ROUND(U90*AA90,0))","v":""}]
[]
[]
[]
[null,null,null,null,null,null,null,null,null,null,null,null,null,null,null,null,null,null,null,null,null,null,null,null,null,null,null,null,null,null,null,{"$f":"IF(F94=\"\",\"\",ROUND(U94*AA94,0))","v":""}]
[]
[]
[]
[null,null,null,null,null,null,null,null,null,null,null,null,null,null,null,null,null,null,null,null,null,null,null,null,null,null,null,null,null,null,null,{"$f":"IF(F98=\"\",\"\",ROUND(U98*AA98,0))","v":""}]
[]
[]
[]
[null,null,null,null,null,null,null,null,null,null,null,null,null,null,null,null,null,null,null,null,null,null,null,null,null,null,null,null,null,null,null,{"$f":"IF(F102=\"\",\"\",ROUND(U102*AA102,0))","v":""}]
[]
[]
[]
[null,null,null,null,null,null,null,null,null,null,null,null,null,null,null,null,null,null,null,null,null,null,null,null,null,null,null,null,null,null,null,{"$f":"IF(F106=\"\",\"\",ROUND(U106*AA106,0))","v":""}]
[]
[]
[]
[null,null,null,null,null,null,null,null,null,null,null,null,null,null,null,null,null,null,null,null,"金額(税抜)",null,null,null,null,null,null,null,null,null,null,{"$f":"IF(AF34=\"\",\"\",SUM(AF34:AF106))","v":""}]
[null,"部長",null,null,null,null,null,null,null,"担当者",null,null,null,null,"受付"]
[]
[]
[]
[null,null,null,null,null,null,null,null,null,null,null,null,null,null,null,null,null,null,null,null,"消費税",null,null,null,null,null,"税率",null,null,"税調",null,{"$f":"IF(AF110=\"\",\"\",IF(AA117=\"\",\"\",IF(AA117=8.1,ROUND(AF110*8/100,0)+AD117,ROUND(AF110*AA117/100,0)+AD117)))","v":""}]
[]
[null,null,null,null,null,null,null,null,null,null,null,null,null,null,null,null,null,null,null,null,null,null,null,null,null,null,null,null,{"$f":"IF(AA117=\"\",\"\",IF(AA117=8.1,\"旧\",IF(AA117=8,\"軽\",IF(AA117=0,\"非\",\"\"))))","v":""}]
[]
[]
[null,"備考・通信欄"]
[]
[]
[]
[]
[]
[]
[]
[]
[]
[]
[]
[]
[]
[]
[]
[]
[]
[]
[]
[]
[]
[null,null,null,null,null,null,null,null,null,null,null,null,"請求明細書 (貴社控)"]
[]
[]
[]
[]
[]
[]
[]
[null,"株 式 会 社 小 田 道 路",null,null,null,null,null,null,null,null,null,null,null,"御中"]
[null,null,null,null,null,null,null,null,null,null,null,null,null,null,null,null,null,null,null,null,null,null,"請求年月日",null,null,null,null,{"$f":"IF(年=\"\",\"\",年)","v":""},null,null,null,{"$f":"IF(月=\"\",\"\",月)","v":""},null,null,{"$f":"IF(日=\"\",\"\",日)","v":""}]
[]
[]
[]
[]
[]
[null,"業者名",null,null,null,{"$f":"IF(社名=\"\",\"\",社名)","v":""}]
[]
[]
[]
[]
[]
[]
[null,"工事番号",null,null,null,{"$f":"IF(F25=\"\",\"\",F25)","v":""},null,null,null,"工事名",null,null,null,{"$f":"IF(N25=\"\",\"\",N25)","v":""}]
[]
[]
[]
[]
[null,"月　日",null,null,null,"摘要･品名",null,null,null,null,null,null,null,null,null,null,null,null,null,null,"数 量",null,null,"単位",null,null,"単価",null,null,null,null,"金額(税抜)"]
[]
[]
[]
[null,{"$f":"IF(B34=\"\",\"\",B34)","v":""},null,{"$f":"IF(D34=\"\",\"\",D34)","v":""},null,{"$f":"IF(F34=\"\",\"\",F34)","v":""},null,null,null,null,null,null,null,null,null,null,null,null,null,null,{"$f":"IF(U34=\"\",\"\",U34)","v":""},null,null,{"$f":"IF(X34=\"\",\"\",X34)","v":""},null,null,{"$f":"IF(AA34=\"\",\"\",AA34)","v":""},null,null,null,null,{"$f":"IF(F173=\"\",\"\",U173*AA173)","v":""}]
[]
[]
[]
[null,{"$f":"IF(B38=\"\",\"\",B38)","v":""},null,{"$f":"IF(D38=\"\",\"\",D38)","v":""},null,{"$f":"IF(F38=\"\",\"\",F38)","v":""},null,null,null,null,null,null,null,null,null,null,null,null,null,null,{"$f":"IF(U38=\"\",\"\",U38)","v":""},null,null,{"$f":"IF(X38=\"\",\"\",X38)","v":""},null,null,{"$f":"IF(AA38=\"\",\"\",AA38)","v":""},null,null,null,null,{"$f":"IF(F177=\"\",\"\",U177*AA177)","v":""}]
[]
[]
[]
[null,{"$f":"IF(B42=\"\",\"\",B42)","v":""},null,{"$f":"IF(D42=\"\",\"\",D42)","v":""},null,{"$f":"IF(F42=\"\",\"\",F42)","v":""},null,null,null,null,null,null,null,null,null,null,null,null,null,null,{"$f":"IF(U42=\"\",\"\",U42)","v":""},null,null,{"$f":"IF(X42=\"\",\"\",X42)","v":""},null,null,{"$f":"IF(AA42=\"\",\"\",AA42)","v":""},null,null,null,null,{"$f":"IF(F181=\"\",\"\",U181*AA181)","v":""}]
[]
[]
[]
[null,{"$f":"IF(B46=\"\",\"\",B46)","v":""},null,{"$f":"IF(D46=\"\",\"\",D46)","v":""},null,{"$f":"IF(F46=\"\",\"\",F46)","v":""},null,null,null,null,null,null,null,null,null,null,null,null,null,null,{"$f":"IF(U46=\"\",\"\",U46)","v":""},null,null,{"$f":"IF(X46=\"\",\"\",X46)","v":""},null,null,{"$f":"IF(AA46=\"\",\"\",AA46)","v":""},null,null,null,null,{"$f":"IF(F185=\"\",\"\",U185*AA185)","v":""}]
[]
[]
[]
[null,{"$f":"IF(B50=\"\",\"\",B50)","v":""},null,{"$f":"IF(D50=\"\",\"\",D50)","v":""},null,{"$f":"IF(F50=\"\",\"\",F50)","v":""},null,null,null,null,null,null,null,null,null,null,null,null,null,null,{"$f":"IF(U50=\"\",\"\",U50)","v":""},null,null,{"$f":"IF(X50=\"\",\"\",X50)","v":""},null,null,{"$f":"IF(AA50=\"\",\"\",AA50)","v":""},null,null,null,null,{"$f":"IF(F189=\"\",\"\",U189*AA189)","v":""}]
[]
[]
[]
[null,{"$f":"IF(B54=\"\",\"\",B54)","v":""},null,{"$f":"IF(D54=\"\",\"\",D54)","v":""},null,{"$f":"IF(F54=\"\",\"\",F54)","v":""},null,null,null,null,null,null,null,null,null,null,null,null,null,null,{"$f":"IF(U54=\"\",\"\",U54)","v":""},null,null,{"$f":"IF(X54=\"\",\"\",X54)","v":""},null,null,{"$f":"IF(AA54=\"\",\"\",AA54)","v":""},null,null,null,null,{"$f":"IF(F193=\"\",\"\",U193*AA193)","v":""}]
[]
[]
[]
[null,{"$f":"IF(B58=\"\",\"\",B58)","v":""},null,{"$f":"IF(D58=\"\",\"\",D58)","v":""},null,{"$f":"IF(F58=\"\",\"\",F58)","v":""},null,null,null,null,null,null,null,null,null,null,null,null,null,null,{"$f":"IF(U58=\"\",\"\",U58)","v":""},null,null,{"$f":"IF(X58=\"\",\"\",X58)","v":""},null,null,{"$f":"IF(AA58=\"\",\"\",AA58)","v":""},null,null,null,null,{"$f":"IF(F197=\"\",\"\",U197*AA197)","v":""}]
[]
[]
[]
[null,{"$f":"IF(B62=\"\",\"\",B62)","v":""},null,{"$f":"IF(D62=\"\",\"\",D62)","v":""},null,{"$f":"IF(F62=\"\",\"\",F62)","v":""},null,null,null,null,null,null,null,null,null,null,null,null,null,null,{"$f":"IF(U62=\"\",\"\",U62)","v":""},null,null,{"$f":"IF(X62=\"\",\"\",X62)","v":""},null,null,{"$f":"IF(AA62=\"\",\"\",AA62)","v":""},null,null,null,null,{"$f":"IF(F201=\"\",\"\",U201*AA201)","v":""}]
[]
[]
[]
[null,{"$f":"IF(B66=\"\",\"\",B66)","v":""},null,{"$f":"IF(D66=\"\",\"\",D66)","v":""},null,{"$f":"IF(F66=\"\",\"\",F66)","v":""},null,null,null,null,null,null,null,null,null,null,null,null,null,null,{"$f":"IF(U66=\"\",\"\",U66)","v":""},null,null,{"$f":"IF(X66=\"\",\"\",X66)","v":""},null,null,{"$f":"IF(AA66=\"\",\"\",AA66)","v":""},null,null,null,null,{"$f":"IF(F205=\"\",\"\",U205*AA205)","v":""}]
[]
[]
[]
[null,{"$f":"IF(B70=\"\",\"\",B70)","v":""},null,{"$f":"IF(D70=\"\",\"\",D70)","v":""},null,{"$f":"IF(F70=\"\",\"\",F70)","v":""},null,null,null,null,null,null,null,null,null,null,null,null,null,null,{"$f":"IF(U70=\"\",\"\",U70)","v":""},null,null,{"$f":"IF(X70=\"\",\"\",X70)","v":""},null,null,{"$f":"IF(AA70=\"\",\"\",AA70)","v":""},null,null,null,null,{"$f":"IF(F209=\"\",\"\",U209*AA209)","v":""}]
[]
[]
[]
[null,{"$f":"IF(B74=\"\",\"\",B74)","v":""},null,{"$f":"IF(D74=\"\",\"\",D74)","v":""},null,{"$f":"IF(F74=\"\",\"\",F74)","v":""},null,null,null,null,null,null,null,null,null,null,null,null,null,null,{"$f":"IF(U74=\"\",\"\",U74)","v":""},null,null,{"$f":"IF(X74=\"\",\"\",X74)","v":""},null,null,{"$f":"IF(AA74=\"\",\"\",AA74)","v":""},null,null,null,null,{"$f":"IF(F213=\"\",\"\",U213*AA213)","v":""}]
[]
[]
[]
[null,{"$f":"IF(B78=\"\",\"\",B78)","v":""},null,{"$f":"IF(D78=\"\",\"\",D78)","v":""},null,{"$f":"IF(F78=\"\",\"\",F78)","v":""},null,null,null,null,null,null,null,null,null,null,null,null,null,null,{"$f":"IF(U78=\"\",\"\",U78)","v":""},null,null,{"$f":"IF(X78=\"\",\"\",X78)","v":""},null,null,{"$f":"IF(AA78=\"\",\"\",AA78)","v":""},null,null,null,null,{"$f":"IF(F217=\"\",\"\",U217*AA217)","v":""}]
[]
[]
[]
[null,{"$f":"IF(B82=\"\",\"\",B82)","v":""},null,{"$f":"IF(D82=\"\",\"\",D82)","v":""},null,{"$f":"IF(F82=\"\",\"\",F82)","v":""},null,null,null,null,null,null,null,null,null,null,null,null,null,null,{"$f":"IF(U82=\"\",\"\",U82)","v":""},null,null,{"$f":"IF(X82=\"\",\"\",X82)","v":""},null,null,{"$f":"IF(AA82=\"\",\"\",AA82)","v":""},null,null,null,null,{"$f":"IF(F221=\"\",\"\",U221*AA221)","v":""}]
[]
[]
[]
[null,{"$f":"IF(B86=\"\",\"\",B86)","v":""},null,{"$f":"IF(D86=\"\",\"\",D86)","v":""},null,{"$f":"IF(F86=\"\",\"\",F86)","v":""},null,null,null,null,null,null,null,null,null,null,null,null,null,null,{"$f":"IF(U86=\"\",\"\",U86)","v":""},null,null,{"$f":"IF(X86=\"\",\"\",X86)","v":""},null,null,{"$f":"IF(AA86=\"\",\"\",AA86)","v":""},null,null,null,null,{"$f":"IF(F225=\"\",\"\",U225*AA225)","v":""}]
[]
[]
[]
[null,{"$f":"IF(B90=\"\",\"\",B90)","v":""},null,{"$f":"IF(D90=\"\",\"\",D90)","v":""},null,{"$f":"IF(F90=\"\",\"\",F90)","v":""},null,null,null,null,null,null,null,null,null,null,null,null,null,null,{"$f":"IF(U90=\"\",\"\",U90)","v":""},null,null,{"$f":"IF(X90=\"\",\"\",X90)","v":""},null,null,{"$f":"IF(AA90=\"\",\"\",AA90)","v":""},null,null,null,null,{"$f":"IF(F229=\"\",\"\",U229*AA229)","v":""}]
[]
[]
[]
[null,{"$f":"IF(B94=\"\",\"\",B94)","v":""},null,{"$f":"IF(D94=\"\",\"\",D94)","v":""},null,{"$f":"IF(F94=\"\",\"\",F94)","v":""},null,null,null,null,null,null,null,null,null,null,null,null,null,null,{"$f":"IF(U94=\"\",\"\",U94)","v":""},null,null,{"$f":"IF(X94=\"\",\"\",X94)","v":""},null,null,{"$f":"IF(AA94=\"\",\"\",AA94)","v":""},null,null,null,null,{"$f":"IF(F233=\"\",\"\",U233*AA233)","v":""}]
[]
[]
[]
[null,{"$f":"IF(B98=\"\",\"\",B98)","v":""},null,{"$f":"IF(D98=\"\",\"\",D98)","v":""},null,{"$f":"IF(F98=\"\",\"\",F98)","v":""},null,null,null,null,null,null,null,null,null,null,null,null,null,null,{"$f":"IF(U98=\"\",\"\",U98)","v":""},null,null,{"$f":"IF(X98=\"\",\"\",X98)","v":""},null,null,{"$f":"IF(AA98=\"\",\"\",AA98)","v":""},null,null,null,null,{"$f":"IF(F237=\"\",\"\",U237*AA237)","v":""}]
[]
[]
[]
[null,{"$f":"IF(B102=\"\",\"\",B102)","v":""},null,{"$f":"IF(D102=\"\",\"\",D102)","v":""},null,{"$f":"IF(F102=\"\",\"\",F102)","v":""},null,null,null,null,null,null,null,null,null,null,null,null,null,null,{"$f":"IF(U102=\"\",\"\",U102)","v":""},null,null,{"$f":"IF(X102=\"\",\"\",X102)","v":""},null,null,{"$f":"IF(AA102=\"\",\"\",AA102)","v":""},null,null,null,null,{"$f":"IF(F241=\"\",\"\",U241*AA241)","v":""}]
[]
[]
[]
[null,{"$f":"IF(B106=\"\",\"\",B106)","v":""},null,{"$f":"IF(D106=\"\",\"\",D106)","v":""},null,{"$f":"IF(F106=\"\",\"\",F106)","v":""},null,null,null,null,null,null,null,null,null,null,null,null,null,null,{"$f":"IF(U106=\"\",\"\",U106)","v":""},null,null,{"$f":"IF(X106=\"\",\"\",X106)","v":""},null,null,{"$f":"IF(AA106=\"\",\"\",AA106)","v":""},null,null,null,null,{"$f":"IF(F245=\"\",\"\",U245*AA245)","v":""}]
[]
[]
[]
[null,null,null,null,null,null,null,null,null,null,null,null,null,null,null,null,null,null,null,null,"金額(税抜)",null,null,null,null,null,null,null,null,null,null,{"$f":"IF(AF173=\"\",\"\",SUM(AF173:AF245))","v":""}]
[]
[]
[]
[]
[null,null,null,null,null,null,null,null,null,null,null,null,null,null,null,null,null,null,null,null,"消費税",null,null,null,null,null,"税率",null,null,"税調",null,{"$f":"IF(AF115=\"\",\"\",AF115)","v":""}]
[]
[null,null,null,null,null,null,null,null,null,null,null,null,null,null,null,null,null,null,null,null,null,null,null,null,null,null,{"$f":"IF(AA117=\"\",\"\",AA117)","v":""},null,{"$f":"IF(AC117=\"\",\"\",AC117)","v":""},{"$f":"IF(AD117=\"\",\"\",AD117)","v":""}]
[]
[]
[null,"備考・通信欄"]

{"sheet":"細1-5","index":6,"n_rows":259,"n_cols":35,"rows_kept":259,"cut":false,"hidden":false,"merged":[[258,1,275,2],[253,20,256,25],[253,26,254,28],[248,20,251,30],[244,1,247,2],[244,3,247,4],[244,5,247,19],[244,20,247,22],[244,23,247,25],[244,26,247,30],[244,31,247,36],[253,31,256,36],[255,26,256,27],[255,28,256,28],[255,29,256,30],[253,29,254,30],[248,31,251,36],[236,1,239,2],[236,3,239,4],[236,5,239,19],[236,20,239,22],[236,23,239,25],[236,26,239,30],[236,31,239,36],[240,1,243,2],[240,3,243,4],[240,5,243,19],[240,20,243,22],[240,23,243,25],[240,26,243,30],[240,31,243,36],[228,1,231,2],[228,3,231,4],[228,5,231,19],[228,20,231,22],[228,23,231,25],[228,26,231,30],[228,31,231,36],[232,1,235,2],[232,3,235,4],[232,5,235,19],[232,20,235,22],[232,23,235,25],[232,26,235,30],[232,31,235,36],[220,1,223,2],[220,3,223,4],[220,5,223,19],[220,20,223,22],[220,23,223,25],[220,26,223,30],[220,31,223,36],[224,1,227,2],[224,3,227,4],[224,5,227,19],[224,20,227,22],[224,23,227,25],[224,26,227,30],[224,31,227,36],[188,1,191,2],[188,3,191,4],[188,5,191,19],[188,20,191,22],[188,23,191,25],[188,26,191,30],[188,31,191,36],[212,31,215,36],[216,1,219,2],[216,3,219,4],[216,5,219,19],[216,20,219,22],[216,23,219,25],[216,26,219,30],[216,31,219,36],[200,1,203,2],[200,3,203,4],[200,5,203,19],[200,20,203,22],[200,23,203,25],[200,26,203,30],[200,31,203,36],[204,1,207,2],[204,3,207,4],[180,1,183,2],[180,3,183,4],[180,5,183,19],[180,20,183,22],[180,23,183,25],[180,26,183,30],[180,31,183,36],[184,1,187,2],[184,3,187,4],[184,5,187,19],[184,20,187,22],[184,23,187,25],[184,26,187,30],[184,31,187,36],[172,1,175,2],[172,3,175,4],[172,5,175,19],[172,20,175,22],[172,23,175,25],[172,26,175,30],[172,31,175,36],[176,1,179,2],[176,3,179,4],[176,5,179,19],[176,20,179,22],[176,23,179,25],[176,26,179,30],[176,31,179,36],[163,1,166,4],[163,5,166,8],[163,9,166,12],[163,13,166,36],[168,1,171,4],[168,5,171,19],[168,20,171,22],[168,23,171,25],[168,26,171,30],[168,31,171,36],[105,1,108,2],[105,3,108,4],[105,5,108,19],[105,20,108,22],[105,23,108,25],[105,26,108,30],[105,31,108,36],[101,1,104,2],[101,3,104,4],[101,5,104,19],[81,1,84,2],[81,3,84,4],[81,5,84,19],[81,20,84,22],[81,23,84,25],[81,26,84,30],[81,31,84,36],[101,20,104,22],[101,23,104,25],[101,26,104,30],[101,31,104,36],[93,1,96,2],[93,3,96,4],[93,5,96,19],[93,20,96,22],[93,23,96,25],[93,26,96,30],[93,31,96,36],[97,1,100,2],[97,3,100,4],[97,5,100,19],[97,20,100,22],[97,23,100,25],[97,26,100,30],[73,1,76,2],[73,3,76,4],[73,5,76,19],[73,20,76,22],[73,23,76,25],[73,26,76,30],[73,31,76,36],[77,1,80,2],[77,3,80,4],[77,5,80,19],[77,20,80,22],[77,23,80,25],[77,26,80,30],[77,31,80,36],[65,1,68,2],[65,3,68,4],[65,5,68,19],[65,20,68,22],[65,23,68,25],[65,26,68,30],[65,31,68,36],[69,1,72,2],[69,3,72,4],[69,5,72,19],[69,20,72,22],[69,23,72,25],[69,26,72,30],[69,31,72,36],[57,1,60,2],[57,3,60,4],[57,5,60,19],[57,20,60,22],[57,23,60,25],[57,26,60,30],[57,31,60,36],[61,1,64,2],[61,3,64,4],[61,5,64,19],[61,20,64,22],[61,23,64,25],[61,26,64,30],[61,31,64,36],[49,1,52,2],[49,3,52,4],[49,5,52,19],[49,20,52,22],[49,23,52,25],[49,26,52,30],[49,31,52,36],[53,1,56,2],[53,3,56,4],[53,5,56,19],[53,20,56,22],[53,23,56,25],[53,26,56,30],[53,31,56,36],[41,1,44,2],[41,3,44,4],[41,5,44,19],[41,20,44,22],[41,23,44,25],[41,26,44,30],[41,31,44,36],[45,1,48,2],[45,3,48,4],[45,5,48,19],[45,20,48,22],[45,23,48,25],[45,26,48,30],[45,31,48,36],[33,1,36,2],[33,3,36,4],[33,5,36,19],[33,20,36,22],[33,23,36,25],[33,26,36,30],[33,31,36,36],[37,1,40,2],[37,3,40,4],[37,5,40,19],[37,20,40,22],[37,23,40,25],[37,26,40,30],[37,31,40,36],[24,5,27,8],[24,9,27,12],[24,13,27,36],[29,1,32,4],[29,5,32,19],[29,20,32,22],[29,23,32,25],[29,26,32,30],[29,31,32,36],[2,12,5,25],[10,1,13,12],[85,5,88,19],[85,20,88,22],[85,23,88,25],[85,26,88,30],[85,31,88,36],[89,5,92,19],[89,20,92,22],[89,23,92,25],[89,26,92,30],[85,1,88,2],[85,3,88,4],[89,1,92,2],[89,3,92,4],[89,31,92,36],[10,13,13,14],[11,22,13,26],[11,27,13,30],[11,31,13,33],[11,34,13,36],[17,1,20,4],[17,5,20,17],[24,1,27,4],[149,1,152,12],[149,13,152,14],[150,22,152,26],[150,27,152,30],[150,31,152,33],[150,34,152,36],[156,1,159,4],[156,5,159,17],[97,31,100,36],[109,20,112,30],[109,31,112,36],[110,1,111,8],[110,9,111,13],[110,14,111,18],[112,1,117,8],[112,9,117,13],[112,14,117,18],[114,20,117,25],[114,26,115,28],[114,29,115,30],[114,31,117,36],[116,26,117,27],[116,28,117,28],[116,29,117,30],[204,31,207,36],[208,1,211,2],[208,3,211,4],[208,5,211,19],[208,20,211,22],[208,23,211,25],[208,26,211,30],[208,31,211,36],[119,1,136,2],[141,12,144,25],[196,1,199,2],[196,3,199,4],[196,5,199,19],[196,20,199,22],[196,23,199,25],[196,26,199,30],[196,31,199,36],[192,1,195,2],[192,3,195,4],[192,5,195,19],[192,20,195,22],[192,23,195,25],[192,26,195,30],[192,31,195,36],[212,1,215,2],[212,3,215,4],[212,5,215,19],[212,20,215,22],[212,23,215,25],[212,26,215,30],[204,5,207,19],[204,20,207,22],[204,23,207,25],[204,26,207,30]]}
[]
[]
[null,null,null,null,null,null,null,null,null,null,null,null,"請求明細書 (正)"]
[]
[]
[]
[]
[]
[]
[]
[null,"株 式 会 社 小 田 道 路",null,null,null,null,null,null,null,null,null,null,null,"御中"]
[null,null,null,null,null,null,null,null,null,null,null,null,null,null,null,null,null,null,null,null,null,null,"請求年月日",null,null,null,null,{"$f":"IF(年=\"\",\"\",年)","v":""},null,null,null,{"$f":"IF(月=\"\",\"\",月)","v":""},null,null,{"$f":"IF(日=\"\",\"\",日)","v":""}]
[]
[]
[]
[]
[]
[null,"業者名",null,null,null,{"$f":"IF(社名=\"\",\"\",社名)","v":""}]
[]
[]
[]
[]
[]
[]
[null,"工事番号",null,null,null,null,null,null,null,"工事名"]
[]
[]
[]
[]
[null,"月 日",null,null,null,"品 名・内 訳",null,null,null,null,null,null,null,null,null,null,null,null,null,null,"数 量",null,null,"単位",null,null,"単価",null,null,null,null,"金額(税抜)"]
[]
[]
[]
[null,null,null,null,null,null,null,null,null,null,null,null,null,null,null,null,null,null,null,null,null,null,null,null,null,null,null,null,null,null,null,{"$f":"IF(F34=\"\",\"\",ROUND(U34*AA34,0))","v":""}]
[]
[]
[]
[null,null,null,null,null,null,null,null,null,null,null,null,null,null,null,null,null,null,null,null,null,null,null,null,null,null,null,null,null,null,null,{"$f":"IF(F38=\"\",\"\",ROUND(U38*AA38,0))","v":""}]
[]
[]
[]
[null,null,null,null,null,null,null,null,null,null,null,null,null,null,null,null,null,null,null,null,null,null,null,null,null,null,null,null,null,null,null,{"$f":"IF(F42=\"\",\"\",ROUND(U42*AA42,0))","v":""}]
[]
[]
[]
[null,null,null,null,null,null,null,null,null,null,null,null,null,null,null,null,null,null,null,null,null,null,null,null,null,null,null,null,null,null,null,{"$f":"IF(F46=\"\",\"\",ROUND(U46*AA46,0))","v":""}]
[]
[]
[]
[null,null,null,null,null,null,null,null,null,null,null,null,null,null,null,null,null,null,null,null,null,null,null,null,null,null,null,null,null,null,null,{"$f":"IF(F50=\"\",\"\",ROUND(U50*AA50,0))","v":""}]
[]
[]
[]
[null,null,null,null,null,null,null,null,null,null,null,null,null,null,null,null,null,null,null,null,null,null,null,null,null,null,null,null,null,null,null,{"$f":"IF(F54=\"\",\"\",ROUND(U54*AA54,0))","v":""}]
[]
[]
[]
[null,null,null,null,null,null,null,null,null,null,null,null,null,null,null,null,null,null,null,null,null,null,null,null,null,null,null,null,null,null,null,{"$f":"IF(F58=\"\",\"\",ROUND(U58*AA58,0))","v":""}]
[]
[]
[]
[null,null,null,null,null,null,null,null,null,null,null,null,null,null,null,null,null,null,null,null,null,null,null,null,null,null,null,null,null,null,null,{"$f":"IF(F62=\"\",\"\",ROUND(U62*AA62,0))","v":""}]
[]
[]
[]
[null,null,null,null,null,null,null,null,null,null,null,null,null,null,null,null,null,null,null,null,null,null,null,null,null,null,null,null,null,null,null,{"$f":"IF(F66=\"\",\"\",ROUND(U66*AA66,0))","v":""}]
[]
[]
[]
[null,null,null,null,null,null,null,null,null,null,null,null,null,null,null,null,null,null,null,null,null,null,null,null,null,null,null,null,null,null,null,{"$f":"IF(F70=\"\",\"\",ROUND(U70*AA70,0))","v":""}]
[]
[]
[]
[null,null,null,null,null,null,null,null,null,null,null,null,null,null,null,null,null,null,null,null,null,null,null,null,null,null,null,null,null,null,null,{"$f":"IF(F74=\"\",\"\",ROUND(U74*AA74,0))","v":""}]
[]
[]
[]
[null,null,null,null,null,null,null,null,null,null,null,null,null,null,null,null,null,null,null,null,null,null,null,null,null,null,null,null,null,null,null,{"$f":"IF(F78=\"\",\"\",ROUND(U78*AA78,0))","v":""}]
[]
[]
[]
[null,null,null,null,null,null,null,null,null,null,null,null,null,null,null,null,null,null,null,null,null,null,null,null,null,null,null,null,null,null,null,{"$f":"IF(F82=\"\",\"\",ROUND(U82*AA82,0))","v":""}]
[]
[]
[]
[null,null,null,null,null,null,null,null,null,null,null,null,null,null,null,null,null,null,null,null,null,null,null,null,null,null,null,null,null,null,null,{"$f":"IF(F86=\"\",\"\",ROUND(U86*AA86,0))","v":""}]
[]
[]
[]
[null,null,null,null,null,null,null,null,null,null,null,null,null,null,null,null,null,null,null,null,null,null,null,null,null,null,null,null,null,null,null,{"$f":"IF(F90=\"\",\"\",ROUND(U90*AA90,0))","v":""}]
[]
[]
[]
[null,null,null,null,null,null,null,null,null,null,null,null,null,null,null,null,null,null,null,null,null,null,null,null,null,null,null,null,null,null,null,{"$f":"IF(F94=\"\",\"\",ROUND(U94*AA94,0))","v":""}]
[]
[]
[]
[null,null,null,null,null,null,null,null,null,null,null,null,null,null,null,null,null,null,null,null,null,null,null,null,null,null,null,null,null,null,null,{"$f":"IF(F98=\"\",\"\",ROUND(U98*AA98,0))","v":""}]
[]
[]
[]
[null,null,null,null,null,null,null,null,null,null,null,null,null,null,null,null,null,null,null,null,null,null,null,null,null,null,null,null,null,null,null,{"$f":"IF(F102=\"\",\"\",ROUND(U102*AA102,0))","v":""}]
[]
[]
[]
[null,null,null,null,null,null,null,null,null,null,null,null,null,null,null,null,null,null,null,null,null,null,null,null,null,null,null,null,null,null,null,{"$f":"IF(F106=\"\",\"\",ROUND(U106*AA106,0))","v":""}]
[]
[]
[]
[null,null,null,null,null,null,null,null,null,null,null,null,null,null,null,null,null,null,null,null,"金額(税抜)",null,null,null,null,null,null,null,null,null,null,{"$f":"IF(AF34=\"\",\"\",SUM(AF34:AF106))","v":""}]
[null,"部長",null,null,null,null,null,null,null,"担当者",null,null,null,null,"受付"]
[]
[]
[]
[null,null,null,null,null,null,null,null,null,null,null,null,null,null,null,null,null,null,null,null,"消費税",null,null,null,null,null,"税率",null,null,"税調",null,{"$f":"IF(AF110=\"\",\"\",IF(AA117=\"\",\"\",IF(AA117=8.1,ROUND(AF110*8/100,0)+AD117,ROUND(AF110*AA117/100,0)+AD117)))","v":""}]
[]
[null,null,null,null,null,null,null,null,null,null,null,null,null,null,null,null,null,null,null,null,null,null,null,null,null,null,null,null,{"$f":"IF(AA117=\"\",\"\",IF(AA117=8.1,\"旧\",IF(AA117=8,\"軽\",IF(AA117=0,\"非\",\"\"))))","v":""}]
[]
[]
[null,"備考・通信欄"]
[]
[]
[]
[]
[]
[]
[]
[]
[]
[]
[]
[]
[]
[]
[]
[]
[]
[]
[]
[]
[]
[null,null,null,null,null,null,null,null,null,null,null,null,"請求明細書 (貴社控)"]
[]
[]
[]
[]
[]
[]
[]
[null,"株 式 会 社 小 田 道 路",null,null,null,null,null,null,null,null,null,null,null,"御中"]
[null,null,null,null,null,null,null,null,null,null,null,null,null,null,null,null,null,null,null,null,null,null,"請求年月日",null,null,null,null,{"$f":"IF(年=\"\",\"\",年)","v":""},null,null,null,{"$f":"IF(月=\"\",\"\",月)","v":""},null,null,{"$f":"IF(日=\"\",\"\",日)","v":""}]
[]
[]
[]
[]
[]
[null,"業者名",null,null,null,{"$f":"IF(社名=\"\",\"\",社名)","v":""}]
[]
[]
[]
[]
[]
[]
[null,"工事番号",null,null,null,{"$f":"IF(F25=\"\",\"\",F25)","v":""},null,null,null,"工事名",null,null,null,{"$f":"IF(N25=\"\",\"\",N25)","v":""}]
[]
[]
[]
[]
[null,"月　日",null,null,null,"摘要･品名",null,null,null,null,null,null,null,null,null,null,null,null,null,null,"数 量",null,null,"単位",null,null,"単価",null,null,null,null,"金額(税抜)"]
[]
[]
[]
[null,{"$f":"IF(B34=\"\",\"\",B34)","v":""},null,{"$f":"IF(D34=\"\",\"\",D34)","v":""},null,{"$f":"IF(F34=\"\",\"\",F34)","v":""},null,null,null,null,null,null,null,null,null,null,null,null,null,null,{"$f":"IF(U34=\"\",\"\",U34)","v":""},null,null,{"$f":"IF(X34=\"\",\"\",X34)","v":""},null,null,{"$f":"IF(AA34=\"\",\"\",AA34)","v":""},null,null,null,null,{"$f":"IF(F173=\"\",\"\",U173*AA173)","v":""}]
[]
[]
[]
[null,{"$f":"IF(B38=\"\",\"\",B38)","v":""},null,{"$f":"IF(D38=\"\",\"\",D38)","v":""},null,{"$f":"IF(F38=\"\",\"\",F38)","v":""},null,null,null,null,null,null,null,null,null,null,null,null,null,null,{"$f":"IF(U38=\"\",\"\",U38)","v":""},null,null,{"$f":"IF(X38=\"\",\"\",X38)","v":""},null,null,{"$f":"IF(AA38=\"\",\"\",AA38)","v":""},null,null,null,null,{"$f":"IF(F177=\"\",\"\",U177*AA177)","v":""}]
[]
[]
[]
[null,{"$f":"IF(B42=\"\",\"\",B42)","v":""},null,{"$f":"IF(D42=\"\",\"\",D42)","v":""},null,{"$f":"IF(F42=\"\",\"\",F42)","v":""},null,null,null,null,null,null,null,null,null,null,null,null,null,null,{"$f":"IF(U42=\"\",\"\",U42)","v":""},null,null,{"$f":"IF(X42=\"\",\"\",X42)","v":""},null,null,{"$f":"IF(AA42=\"\",\"\",AA42)","v":""},null,null,null,null,{"$f":"IF(F181=\"\",\"\",U181*AA181)","v":""}]
[]
[]
[]
[null,{"$f":"IF(B46=\"\",\"\",B46)","v":""},null,{"$f":"IF(D46=\"\",\"\",D46)","v":""},null,{"$f":"IF(F46=\"\",\"\",F46)","v":""},null,null,null,null,null,null,null,null,null,null,null,null,null,null,{"$f":"IF(U46=\"\",\"\",U46)","v":""},null,null,{"$f":"IF(X46=\"\",\"\",X46)","v":""},null,null,{"$f":"IF(AA46=\"\",\"\",AA46)","v":""},null,null,null,null,{"$f":"IF(F185=\"\",\"\",U185*AA185)","v":""}]
[]
[]
[]
[null,{"$f":"IF(B50=\"\",\"\",B50)","v":""},null,{"$f":"IF(D50=\"\",\"\",D50)","v":""},null,{"$f":"IF(F50=\"\",\"\",F50)","v":""},null,null,null,null,null,null,null,null,null,null,null,null,null,null,{"$f":"IF(U50=\"\",\"\",U50)","v":""},null,null,{"$f":"IF(X50=\"\",\"\",X50)","v":""},null,null,{"$f":"IF(AA50=\"\",\"\",AA50)","v":""},null,null,null,null,{"$f":"IF(F189=\"\",\"\",U189*AA189)","v":""}]
[]
[]
[]
[null,{"$f":"IF(B54=\"\",\"\",B54)","v":""},null,{"$f":"IF(D54=\"\",\"\",D54)","v":""},null,{"$f":"IF(F54=\"\",\"\",F54)","v":""},null,null,null,null,null,null,null,null,null,null,null,null,null,null,{"$f":"IF(U54=\"\",\"\",U54)","v":""},null,null,{"$f":"IF(X54=\"\",\"\",X54)","v":""},null,null,{"$f":"IF(AA54=\"\",\"\",AA54)","v":""},null,null,null,null,{"$f":"IF(F193=\"\",\"\",U193*AA193)","v":""}]
[]
[]
[]
[null,{"$f":"IF(B58=\"\",\"\",B58)","v":""},null,{"$f":"IF(D58=\"\",\"\",D58)","v":""},null,{"$f":"IF(F58=\"\",\"\",F58)","v":""},null,null,null,null,null,null,null,null,null,null,null,null,null,null,{"$f":"IF(U58=\"\",\"\",U58)","v":""},null,null,{"$f":"IF(X58=\"\",\"\",X58)","v":""},null,null,{"$f":"IF(AA58=\"\",\"\",AA58)","v":""},null,null,null,null,{"$f":"IF(F197=\"\",\"\",U197*AA197)","v":""}]
[]
[]
[]
[null,{"$f":"IF(B62=\"\",\"\",B62)","v":""},null,{"$f":"IF(D62=\"\",\"\",D62)","v":""},null,{"$f":"IF(F62=\"\",\"\",F62)","v":""},null,null,null,null,null,null,null,null,null,null,null,null,null,null,{"$f":"IF(U62=\"\",\"\",U62)","v":""},null,null,{"$f":"IF(X62=\"\",\"\",X62)","v":""},null,null,{"$f":"IF(AA62=\"\",\"\",AA62)","v":""},null,null,null,null,{"$f":"IF(F201=\"\",\"\",U201*AA201)","v":""}]
[]
[]
[]
[null,{"$f":"IF(B66=\"\",\"\",B66)","v":""},null,{"$f":"IF(D66=\"\",\"\",D66)","v":""},null,{"$f":"IF(F66=\"\",\"\",F66)","v":""},null,null,null,null,null,null,null,null,null,null,null,null,null,null,{"$f":"IF(U66=\"\",\"\",U66)","v":""},null,null,{"$f":"IF(X66=\"\",\"\",X66)","v":""},null,null,{"$f":"IF(AA66=\"\",\"\",AA66)","v":""},null,null,null,null,{"$f":"IF(F205=\"\",\"\",U205*AA205)","v":""}]
[]
[]
[]
[null,{"$f":"IF(B70=\"\",\"\",B70)","v":""},null,{"$f":"IF(D70=\"\",\"\",D70)","v":""},null,{"$f":"IF(F70=\"\",\"\",F70)","v":""},null,null,null,null,null,null,null,null,null,null,null,null,null,null,{"$f":"IF(U70=\"\",\"\",U70)","v":""},null,null,{"$f":"IF(X70=\"\",\"\",X70)","v":""},null,null,{"$f":"IF(AA70=\"\",\"\",AA70)","v":""},null,null,null,null,{"$f":"IF(F209=\"\",\"\",U209*AA209)","v":""}]
[]
[]
[]
[null,{"$f":"IF(B74=\"\",\"\",B74)","v":""},null,{"$f":"IF(D74=\"\",\"\",D74)","v":""},null,{"$f":"IF(F74=\"\",\"\",F74)","v":""},null,null,null,null,null,null,null,null,null,null,null,null,null,null,{"$f":"IF(U74=\"\",\"\",U74)","v":""},null,null,{"$f":"IF(X74=\"\",\"\",X74)","v":""},null,null,{"$f":"IF(AA74=\"\",\"\",AA74)","v":""},null,null,null,null,{"$f":"IF(F213=\"\",\"\",U213*AA213)","v":""}]
[]
[]
[]
[null,{"$f":"IF(B78=\"\",\"\",B78)","v":""},null,{"$f":"IF(D78=\"\",\"\",D78)","v":""},null,{"$f":"IF(F78=\"\",\"\",F78)","v":""},null,null,null,null,null,null,null,null,null,null,null,null,null,null,{"$f":"IF(U78=\"\",\"\",U78)","v":""},null,null,{"$f":"IF(X78=\"\",\"\",X78)","v":""},null,null,{"$f":"IF(AA78=\"\",\"\",AA78)","v":""},null,null,null,null,{"$f":"IF(F217=\"\",\"\",U217*AA217)","v":""}]
[]
[]
[]
[null,{"$f":"IF(B82=\"\",\"\",B82)","v":""},null,{"$f":"IF(D82=\"\",\"\",D82)","v":""},null,{"$f":"IF(F82=\"\",\"\",F82)","v":""},null,null,null,null,null,null,null,null,null,null,null,null,null,null,{"$f":"IF(U82=\"\",\"\",U82)","v":""},null,null,{"$f":"IF(X82=\"\",\"\",X82)","v":""},null,null,{"$f":"IF(AA82=\"\",\"\",AA82)","v":""},null,null,null,null,{"$f":"IF(F221=\"\",\"\",U221*AA221)","v":""}]
[]
[]
[]
[null,{"$f":"IF(B86=\"\",\"\",B86)","v":""},null,{"$f":"IF(D86=\"\",\"\",D86)","v":""},null,{"$f":"IF(F86=\"\",\"\",F86)","v":""},null,null,null,null,null,null,null,null,null,null,null,null,null,null,{"$f":"IF(U86=\"\",\"\",U86)","v":""},null,null,{"$f":"IF(X86=\"\",\"\",X86)","v":""},null,null,{"$f":"IF(AA86=\"\",\"\",AA86)","v":""},null,null,null,null,{"$f":"IF(F225=\"\",\"\",U225*AA225)","v":""}]
[]
[]
[]
[null,{"$f":"IF(B90=\"\",\"\",B90)","v":""},null,{"$f":"IF(D90=\"\",\"\",D90)","v":""},null,{"$f":"IF(F90=\"\",\"\",F90)","v":""},null,null,null,null,null,null,null,null,null,null,null,null,null,null,{"$f":"IF(U90=\"\",\"\",U90)","v":""},null,null,{"$f":"IF(X90=\"\",\"\",X90)","v":""},null,null,{"$f":"IF(AA90=\"\",\"\",AA90)","v":""},null,null,null,null,{"$f":"IF(F229=\"\",\"\",U229*AA229)","v":""}]
[]
[]
[]
[null,{"$f":"IF(B94=\"\",\"\",B94)","v":""},null,{"$f":"IF(D94=\"\",\"\",D94)","v":""},null,{"$f":"IF(F94=\"\",\"\",F94)","v":""},null,null,null,null,null,null,null,null,null,null,null,null,null,null,{"$f":"IF(U94=\"\",\"\",U94)","v":""},null,null,{"$f":"IF(X94=\"\",\"\",X94)","v":""},null,null,{"$f":"IF(AA94=\"\",\"\",AA94)","v":""},null,null,null,null,{"$f":"IF(F233=\"\",\"\",U233*AA233)","v":""}]
[]
[]
[]
[null,{"$f":"IF(B98=\"\",\"\",B98)","v":""},null,{"$f":"IF(D98=\"\",\"\",D98)","v":""},null,{"$f":"IF(F98=\"\",\"\",F98)","v":""},null,null,null,null,null,null,null,null,null,null,null,null,null,null,{"$f":"IF(U98=\"\",\"\",U98)","v":""},null,null,{"$f":"IF(X98=\"\",\"\",X98)","v":""},null,null,{"$f":"IF(AA98=\"\",\"\",AA98)","v":""},null,null,null,null,{"$f":"IF(F237=\"\",\"\",U237*AA237)","v":""}]
[]
[]
[]
[null,{"$f":"IF(B102=\"\",\"\",B102)","v":""},null,{"$f":"IF(D102=\"\",\"\",D102)","v":""},null,{"$f":"IF(F102=\"\",\"\",F102)","v":""},null,null,null,null,null,null,null,null,null,null,null,null,null,null,{"$f":"IF(U102=\"\",\"\",U102)","v":""},null,null,{"$f":"IF(X102=\"\",\"\",X102)","v":""},null,null,{"$f":"IF(AA102=\"\",\"\",AA102)","v":""},null,null,null,null,{"$f":"IF(F241=\"\",\"\",U241*AA241)","v":""}]
[]
[]
[]
[null,{"$f":"IF(B106=\"\",\"\",B106)","v":""},null,{"$f":"IF(D106=\"\",\"\",D106)","v":""},null,{"$f":"IF(F106=\"\",\"\",F106)","v":""},null,null,null,null,null,null,null,null,null,null,null,null,null,null,{"$f":"IF(U106=\"\",\"\",U106)","v":""},null,null,{"$f":"IF(X106=\"\",\"\",X106)","v":""},null,null,{"$f":"IF(AA106=\"\",\"\",AA106)","v":""},null,null,null,null,{"$f":"IF(F245=\"\",\"\",U245*AA245)","v":""}]
[]
[]
[]
[null,null,null,null,null,null,null,null,null,null,null,null,null,null,null,null,null,null,null,null,"金額(税抜)",null,null,null,null,null,null,null,null,null,null,{"$f":"IF(AF173=\"\",\"\",SUM(AF173:AF245))","v":""}]
[]
[]
[]
[]
[null,null,null,null,null,null,null,null,null,null,null,null,null,null,null,null,null,null,null,null,"消費税",null,null,null,null,null,"税率",null,null,"税調",null,{"$f":"IF(AF115=\"\",\"\",AF115)","v":""}]
[]
[null,null,null,null,null,null,null,null,null,null,null,null,null,null,null,null,null,null,null,null,null,null,null,null,null,null,{"$f":"IF(AA117=\"\",\"\",AA117)","v":""},null,{"$f":"IF(AC117=\"\",\"\",AC117)","v":""},{"$f":"IF(AD117=\"\",\"\",AD117)","v":""}]
[]
[]
[null,"備考・通信欄"]

{"sheet":"細1-6","index":7,"n_rows":259,"n_cols":35,"rows_kept":259,"cut":false,"hidden":false,"merged":[[258,1,275,2],[253,20,256,25],[253,26,254,28],[253,29,254,30],[255,26,256,27],[255,28,256,28],[255,29,256,30],[240,1,243,2],[240,3,243,4],[240,5,243,19],[240,20,243,22],[240,23,243,25],[240,26,243,30],[248,20,251,30],[244,1,247,2],[244,3,247,4],[244,5,247,19],[244,20,247,22],[244,23,247,25],[244,26,247,30],[244,31,247,36],[232,1,235,2],[232,3,235,4],[232,5,235,19],[232,20,235,22],[232,23,235,25],[232,26,235,30],[232,31,235,36],[236,1,239,2],[236,3,239,4],[236,5,239,19],[236,20,239,22],[236,23,239,25],[236,26,239,30],[236,31,239,36],[212,1,215,2],[212,3,215,4],[212,5,215,19],[212,20,215,22],[212,23,215,25],[212,26,215,30],[212,31,215,36],[216,1,219,2],[216,3,219,4],[216,5,219,19],[216,20,219,22],[216,23,219,25],[216,26,219,30],[216,31,219,36],[192,1,195,2],[192,3,195,4],[192,5,195,19],[192,20,195,22],[192,23,195,25],[192,26,195,30],[192,31,195,36],[200,1,203,2],[200,3,203,4],[200,5,203,19],[200,20,203,22],[200,23,203,25],[200,26,203,30],[200,31,203,36],[176,1,179,2],[176,3,179,4],[176,5,179,19],[176,20,179,22],[176,23,179,25],[176,26,179,30],[176,31,179,36],[180,1,183,2],[180,3,183,4],[180,5,183,19],[180,20,183,22],[180,23,183,25],[180,26,183,30],[180,31,183,36],[168,1,171,4],[168,5,171,19],[168,20,171,22],[168,23,171,25],[168,26,171,30],[168,31,171,36],[172,1,175,2],[172,3,175,4],[172,5,175,19],[172,20,175,22],[172,23,175,25],[172,26,175,30],[172,31,175,36],[149,1,152,12],[149,13,152,14],[150,22,152,26],[150,27,152,30],[150,31,152,33],[150,34,152,36],[156,1,159,4],[156,5,159,17],[163,1,166,4],[163,5,166,8],[163,9,166,12],[163,13,166,36],[105,26,108,30],[105,31,108,36],[109,20,112,30],[109,31,112,36],[110,1,111,8],[110,9,111,13],[110,14,111,18],[112,1,117,8],[112,9,117,13],[112,14,117,18],[114,20,117,25],[114,26,115,28],[114,29,115,30],[114,31,117,36],[116,26,117,27],[116,28,117,28],[116,29,117,30],[89,20,92,22],[89,23,92,25],[89,26,92,30],[89,31,92,36],[97,26,100,30],[97,31,100,36],[101,1,104,2],[101,3,104,4],[101,5,104,19],[101,20,104,22],[101,23,104,25],[101,26,104,30],[101,31,104,36],[93,26,96,30],[93,31,96,36],[89,1,92,2],[89,3,92,4],[89,5,92,19],[73,1,76,2],[73,3,76,4],[73,5,76,19],[73,20,76,22],[73,23,76,25],[73,26,76,30],[73,31,76,36],[77,1,80,2],[77,3,80,4],[77,5,80,19],[77,20,80,22],[77,23,80,25],[77,26,80,30],[77,31,80,36],[65,1,68,2],[65,3,68,4],[65,5,68,19],[65,20,68,22],[65,23,68,25],[65,26,68,30],[65,31,68,36],[69,1,72,2],[69,3,72,4],[69,5,72,19],[69,20,72,22],[69,23,72,25],[69,26,72,30],[69,31,72,36],[57,1,60,2],[57,3,60,4],[57,5,60,19],[57,20,60,22],[57,23,60,25],[57,26,60,30],[57,31,60,36],[61,1,64,2],[61,3,64,4],[61,5,64,19],[61,20,64,22],[61,23,64,25],[61,26,64,30],[61,31,64,36],[49,1,52,2],[49,3,52,4],[49,5,52,19],[49,20,52,22],[49,23,52,25],[49,26,52,30],[49,31,52,36],[53,1,56,2],[53,3,56,4],[53,5,56,19],[53,20,56,22],[53,23,56,25],[53,26,56,30],[53,31,56,36],[41,1,44,2],[41,3,44,4],[41,5,44,19],[41,20,44,22],[41,23,44,25],[41,26,44,30],[41,31,44,36],[45,1,48,2],[45,3,48,4],[45,5,48,19],[45,20,48,22],[45,23,48,25],[45,26,48,30],[45,31,48,36],[33,1,36,2],[33,3,36,4],[33,5,36,19],[33,20,36,22],[33,23,36,25],[33,26,36,30],[33,31,36,36],[37,1,40,2],[37,3,40,4],[37,5,40,19],[37,20,40,22],[37,23,40,25],[37,26,40,30],[37,31,40,36],[248,31,251,36],[253,31,256,36],[220,5,223,19],[220,20,223,22],[220,23,223,25],[220,1,223,2],[220,3,223,4],[220,26,223,30],[220,31,223,36],[224,1,227,2],[224,3,227,4],[224,5,227,19],[224,20,227,22],[224,23,227,25],[224,26,227,30],[224,31,227,36],[228,1,231,2],[228,3,231,4],[228,5,231,19],[228,20,231,22],[228,23,231,25],[228,26,231,30],[228,31,231,36],[240,31,243,36],[208,1,211,2],[208,3,211,4],[208,5,211,19],[208,20,211,22],[208,23,211,25],[208,26,211,30],[208,31,211,36],[196,1,199,2],[196,3,199,4],[196,5,199,19],[196,20,199,22],[196,23,199,25],[196,26,199,30],[196,31,199,36],[204,1,207,2],[204,3,207,4],[204,5,207,19],[204,20,207,22],[204,23,207,25],[204,26,207,30],[204,31,207,36],[184,1,187,2],[184,3,187,4],[184,5,187,19],[184,20,187,22],[184,23,187,25],[184,26,187,30],[184,31,187,36],[188,1,191,2],[188,3,191,4],[188,5,191,19],[188,20,191,22],[188,23,191,25],[188,26,191,30],[188,31,191,36],[141,12,144,25],[119,1,136,2],[105,1,108,2],[105,3,108,4],[105,5,108,19],[93,1,96,2],[93,3,96,4],[93,5,96,19],[93,20,96,22],[93,23,96,25],[105,20,108,22],[105,23,108,25],[97,1,100,2],[97,3,100,4],[97,5,100,19],[97,20,100,22],[97,23,100,25],[81,1,84,2],[81,3,84,4],[81,5,84,19],[81,20,84,22],[81,23,84,25],[81,26,84,30],[81,31,84,36],[85,1,88,2],[85,3,88,4],[85,5,88,19],[85,20,88,22],[85,23,88,25],[85,26,88,30],[85,31,88,36],[2,12,5,25],[10,1,13,12],[10,13,13,14],[11,22,13,26],[11,27,13,30],[11,31,13,33],[11,34,13,36],[29,5,32,19],[29,20,32,22],[29,23,32,25],[29,26,32,30],[29,31,32,36],[17,1,20,4],[17,5,20,17],[24,1,27,4],[24,5,27,8],[24,9,27,12],[24,13,27,36],[29,1,32,4]]}
[]
[]
[null,null,null,null,null,null,null,null,null,null,null,null,"請求明細書 (正)"]
[]
[]
[]
[]
[]
[]
[]
[null,"株 式 会 社 小 田 道 路",null,null,null,null,null,null,null,null,null,null,null,"御中"]
[null,null,null,null,null,null,null,null,null,null,null,null,null,null,null,null,null,null,null,null,null,null,"請求年月日",null,null,null,null,{"$f":"IF(年=\"\",\"\",年)","v":""},null,null,null,{"$f":"IF(月=\"\",\"\",月)","v":""},null,null,{"$f":"IF(日=\"\",\"\",日)","v":""}]
[]
[]
[]
[]
[]
[null,"業者名",null,null,null,{"$f":"IF(社名=\"\",\"\",社名)","v":""}]
[]
[]
[]
[]
[]
[]
[null,"工事番号",null,null,null,null,null,null,null,"工事名"]
[]
[]
[]
[]
[null,"月 日",null,null,null,"品 名・内 訳",null,null,null,null,null,null,null,null,null,null,null,null,null,null,"数 量",null,null,"単位",null,null,"単価",null,null,null,null,"金額(税抜)"]
[]
[]
[]
[null,null,null,null,null,null,null,null,null,null,null,null,null,null,null,null,null,null,null,null,null,null,null,null,null,null,null,null,null,null,null,{"$f":"IF(F34=\"\",\"\",ROUND(U34*AA34,0))","v":""}]
[]
[]
[]
[null,null,null,null,null,null,null,null,null,null,null,null,null,null,null,null,null,null,null,null,null,null,null,null,null,null,null,null,null,null,null,{"$f":"IF(F38=\"\",\"\",ROUND(U38*AA38,0))","v":""}]
[]
[]
[]
[null,null,null,null,null,null,null,null,null,null,null,null,null,null,null,null,null,null,null,null,null,null,null,null,null,null,null,null,null,null,null,{"$f":"IF(F42=\"\",\"\",ROUND(U42*AA42,0))","v":""}]
[]
[]
[]
[null,null,null,null,null,null,null,null,null,null,null,null,null,null,null,null,null,null,null,null,null,null,null,null,null,null,null,null,null,null,null,{"$f":"IF(F46=\"\",\"\",ROUND(U46*AA46,0))","v":""}]
[]
[]
[]
[null,null,null,null,null,null,null,null,null,null,null,null,null,null,null,null,null,null,null,null,null,null,null,null,null,null,null,null,null,null,null,{"$f":"IF(F50=\"\",\"\",ROUND(U50*AA50,0))","v":""}]
[]
[]
[]
[null,null,null,null,null,null,null,null,null,null,null,null,null,null,null,null,null,null,null,null,null,null,null,null,null,null,null,null,null,null,null,{"$f":"IF(F54=\"\",\"\",ROUND(U54*AA54,0))","v":""}]
[]
[]
[]
[null,null,null,null,null,null,null,null,null,null,null,null,null,null,null,null,null,null,null,null,null,null,null,null,null,null,null,null,null,null,null,{"$f":"IF(F58=\"\",\"\",ROUND(U58*AA58,0))","v":""}]
[]
[]
[]
[null,null,null,null,null,null,null,null,null,null,null,null,null,null,null,null,null,null,null,null,null,null,null,null,null,null,null,null,null,null,null,{"$f":"IF(F62=\"\",\"\",ROUND(U62*AA62,0))","v":""}]
[]
[]
[]
[null,null,null,null,null,null,null,null,null,null,null,null,null,null,null,null,null,null,null,null,null,null,null,null,null,null,null,null,null,null,null,{"$f":"IF(F66=\"\",\"\",ROUND(U66*AA66,0))","v":""}]
[]
[]
[]
[null,null,null,null,null,null,null,null,null,null,null,null,null,null,null,null,null,null,null,null,null,null,null,null,null,null,null,null,null,null,null,{"$f":"IF(F70=\"\",\"\",ROUND(U70*AA70,0))","v":""}]
[]
[]
[]
[null,null,null,null,null,null,null,null,null,null,null,null,null,null,null,null,null,null,null,null,null,null,null,null,null,null,null,null,null,null,null,{"$f":"IF(F74=\"\",\"\",ROUND(U74*AA74,0))","v":""}]
[]
[]
[]
[null,null,null,null,null,null,null,null,null,null,null,null,null,null,null,null,null,null,null,null,null,null,null,null,null,null,null,null,null,null,null,{"$f":"IF(F78=\"\",\"\",ROUND(U78*AA78,0))","v":""}]
[]
[]
[]
[null,null,null,null,null,null,null,null,null,null,null,null,null,null,null,null,null,null,null,null,null,null,null,null,null,null,null,null,null,null,null,{"$f":"IF(F82=\"\",\"\",ROUND(U82*AA82,0))","v":""}]
[]
[]
[]
[null,null,null,null,null,null,null,null,null,null,null,null,null,null,null,null,null,null,null,null,null,null,null,null,null,null,null,null,null,null,null,{"$f":"IF(F86=\"\",\"\",ROUND(U86*AA86,0))","v":""}]
[]
[]
[]
[null,null,null,null,null,null,null,null,null,null,null,null,null,null,null,null,null,null,null,null,null,null,null,null,null,null,null,null,null,null,null,{"$f":"IF(F90=\"\",\"\",ROUND(U90*AA90,0))","v":""}]
[]
[]
[]
[null,null,null,null,null,null,null,null,null,null,null,null,null,null,null,null,null,null,null,null,null,null,null,null,null,null,null,null,null,null,null,{"$f":"IF(F94=\"\",\"\",ROUND(U94*AA94,0))","v":""}]
[]
[]
[]
[null,null,null,null,null,null,null,null,null,null,null,null,null,null,null,null,null,null,null,null,null,null,null,null,null,null,null,null,null,null,null,{"$f":"IF(F98=\"\",\"\",ROUND(U98*AA98,0))","v":""}]
[]
[]
[]
[null,null,null,null,null,null,null,null,null,null,null,null,null,null,null,null,null,null,null,null,null,null,null,null,null,null,null,null,null,null,null,{"$f":"IF(F102=\"\",\"\",ROUND(U102*AA102,0))","v":""}]
[]
[]
[]
[null,null,null,null,null,null,null,null,null,null,null,null,null,null,null,null,null,null,null,null,null,null,null,null,null,null,null,null,null,null,null,{"$f":"IF(F106=\"\",\"\",ROUND(U106*AA106,0))","v":""}]
[]
[]
[]
[null,null,null,null,null,null,null,null,null,null,null,null,null,null,null,null,null,null,null,null,"金額(税抜)",null,null,null,null,null,null,null,null,null,null,{"$f":"IF(AF34=\"\",\"\",SUM(AF34:AF106))","v":""}]
[null,"部長",null,null,null,null,null,null,null,"担当者",null,null,null,null,"受付"]
[]
[]
[]
[null,null,null,null,null,null,null,null,null,null,null,null,null,null,null,null,null,null,null,null,"消費税",null,null,null,null,null,"税率",null,null,"税調",null,{"$f":"IF(AF110=\"\",\"\",IF(AA117=\"\",\"\",IF(AA117=8.1,ROUND(AF110*8/100,0)+AD117,ROUND(AF110*AA117/100,0)+AD117)))","v":""}]
[]
[null,null,null,null,null,null,null,null,null,null,null,null,null,null,null,null,null,null,null,null,null,null,null,null,null,null,null,null,{"$f":"IF(AA117=\"\",\"\",IF(AA117=8.1,\"旧\",IF(AA117=8,\"軽\",IF(AA117=0,\"非\",\"\"))))","v":""}]
[]
[]
[null,"備考・通信欄"]
[]
[]
[]
[]
[]
[]
[]
[]
[]
[]
[]
[]
[]
[]
[]
[]
[]
[]
[]
[]
[]
[null,null,null,null,null,null,null,null,null,null,null,null,"請求明細書 (貴社控)"]
[]
[]
[]
[]
[]
[]
[]
[null,"株 式 会 社 小 田 道 路",null,null,null,null,null,null,null,null,null,null,null,"御中"]
[null,null,null,null,null,null,null,null,null,null,null,null,null,null,null,null,null,null,null,null,null,null,"請求年月日",null,null,null,null,{"$f":"IF(年=\"\",\"\",年)","v":""},null,null,null,{"$f":"IF(月=\"\",\"\",月)","v":""},null,null,{"$f":"IF(日=\"\",\"\",日)","v":""}]
[]
[]
[]
[]
[]
[null,"業者名",null,null,null,{"$f":"IF(社名=\"\",\"\",社名)","v":""}]
[]
[]
[]
[]
[]
[]
[null,"工事番号",null,null,null,{"$f":"IF(F25=\"\",\"\",F25)","v":""},null,null,null,"工事名",null,null,null,{"$f":"IF(N25=\"\",\"\",N25)","v":""}]
[]
[]
[]
[]
[null,"月　日",null,null,null,"摘要･品名",null,null,null,null,null,null,null,null,null,null,null,null,null,null,"数 量",null,null,"単位",null,null,"単価",null,null,null,null,"金額(税抜)"]
[]
[]
[]
[null,{"$f":"IF(B34=\"\",\"\",B34)","v":""},null,{"$f":"IF(D34=\"\",\"\",D34)","v":""},null,{"$f":"IF(F34=\"\",\"\",F34)","v":""},null,null,null,null,null,null,null,null,null,null,null,null,null,null,{"$f":"IF(U34=\"\",\"\",U34)","v":""},null,null,{"$f":"IF(X34=\"\",\"\",X34)","v":""},null,null,{"$f":"IF(AA34=\"\",\"\",AA34)","v":""},null,null,null,null,{"$f":"IF(F173=\"\",\"\",U173*AA173)","v":""}]
[]
[]
[]
[null,{"$f":"IF(B38=\"\",\"\",B38)","v":""},null,{"$f":"IF(D38=\"\",\"\",D38)","v":""},null,{"$f":"IF(F38=\"\",\"\",F38)","v":""},null,null,null,null,null,null,null,null,null,null,null,null,null,null,{"$f":"IF(U38=\"\",\"\",U38)","v":""},null,null,{"$f":"IF(X38=\"\",\"\",X38)","v":""},null,null,{"$f":"IF(AA38=\"\",\"\",AA38)","v":""},null,null,null,null,{"$f":"IF(F177=\"\",\"\",U177*AA177)","v":""}]
[]
[]
[]
[null,{"$f":"IF(B42=\"\",\"\",B42)","v":""},null,{"$f":"IF(D42=\"\",\"\",D42)","v":""},null,{"$f":"IF(F42=\"\",\"\",F42)","v":""},null,null,null,null,null,null,null,null,null,null,null,null,null,null,{"$f":"IF(U42=\"\",\"\",U42)","v":""},null,null,{"$f":"IF(X42=\"\",\"\",X42)","v":""},null,null,{"$f":"IF(AA42=\"\",\"\",AA42)","v":""},null,null,null,null,{"$f":"IF(F181=\"\",\"\",U181*AA181)","v":""}]
[]
[]
[]
[null,{"$f":"IF(B46=\"\",\"\",B46)","v":""},null,{"$f":"IF(D46=\"\",\"\",D46)","v":""},null,{"$f":"IF(F46=\"\",\"\",F46)","v":""},null,null,null,null,null,null,null,null,null,null,null,null,null,null,{"$f":"IF(U46=\"\",\"\",U46)","v":""},null,null,{"$f":"IF(X46=\"\",\"\",X46)","v":""},null,null,{"$f":"IF(AA46=\"\",\"\",AA46)","v":""},null,null,null,null,{"$f":"IF(F185=\"\",\"\",U185*AA185)","v":""}]
[]
[]
[]
[null,{"$f":"IF(B50=\"\",\"\",B50)","v":""},null,{"$f":"IF(D50=\"\",\"\",D50)","v":""},null,{"$f":"IF(F50=\"\",\"\",F50)","v":""},null,null,null,null,null,null,null,null,null,null,null,null,null,null,{"$f":"IF(U50=\"\",\"\",U50)","v":""},null,null,{"$f":"IF(X50=\"\",\"\",X50)","v":""},null,null,{"$f":"IF(AA50=\"\",\"\",AA50)","v":""},null,null,null,null,{"$f":"IF(F189=\"\",\"\",U189*AA189)","v":""}]
[]
[]
[]
[null,{"$f":"IF(B54=\"\",\"\",B54)","v":""},null,{"$f":"IF(D54=\"\",\"\",D54)","v":""},null,{"$f":"IF(F54=\"\",\"\",F54)","v":""},null,null,null,null,null,null,null,null,null,null,null,null,null,null,{"$f":"IF(U54=\"\",\"\",U54)","v":""},null,null,{"$f":"IF(X54=\"\",\"\",X54)","v":""},null,null,{"$f":"IF(AA54=\"\",\"\",AA54)","v":""},null,null,null,null,{"$f":"IF(F193=\"\",\"\",U193*AA193)","v":""}]
[]
[]
[]
[null,{"$f":"IF(B58=\"\",\"\",B58)","v":""},null,{"$f":"IF(D58=\"\",\"\",D58)","v":""},null,{"$f":"IF(F58=\"\",\"\",F58)","v":""},null,null,null,null,null,null,null,null,null,null,null,null,null,null,{"$f":"IF(U58=\"\",\"\",U58)","v":""},null,null,{"$f":"IF(X58=\"\",\"\",X58)","v":""},null,null,{"$f":"IF(AA58=\"\",\"\",AA58)","v":""},null,null,null,null,{"$f":"IF(F197=\"\",\"\",U197*AA197)","v":""}]
[]
[]
[]
[null,{"$f":"IF(B62=\"\",\"\",B62)","v":""},null,{"$f":"IF(D62=\"\",\"\",D62)","v":""},null,{"$f":"IF(F62=\"\",\"\",F62)","v":""},null,null,null,null,null,null,null,null,null,null,null,null,null,null,{"$f":"IF(U62=\"\",\"\",U62)","v":""},null,null,{"$f":"IF(X62=\"\",\"\",X62)","v":""},null,null,{"$f":"IF(AA62=\"\",\"\",AA62)","v":""},null,null,null,null,{"$f":"IF(F201=\"\",\"\",U201*AA201)","v":""}]
[]
[]
[]
[null,{"$f":"IF(B66=\"\",\"\",B66)","v":""},null,{"$f":"IF(D66=\"\",\"\",D66)","v":""},null,{"$f":"IF(F66=\"\",\"\",F66)","v":""},null,null,null,null,null,null,null,null,null,null,null,null,null,null,{"$f":"IF(U66=\"\",\"\",U66)","v":""},null,null,{"$f":"IF(X66=\"\",\"\",X66)","v":""},null,null,{"$f":"IF(AA66=\"\",\"\",AA66)","v":""},null,null,null,null,{"$f":"IF(F205=\"\",\"\",U205*AA205)","v":""}]
[]
[]
[]
[null,{"$f":"IF(B70=\"\",\"\",B70)","v":""},null,{"$f":"IF(D70=\"\",\"\",D70)","v":""},null,{"$f":"IF(F70=\"\",\"\",F70)","v":""},null,null,null,null,null,null,null,null,null,null,null,null,null,null,{"$f":"IF(U70=\"\",\"\",U70)","v":""},null,null,{"$f":"IF(X70=\"\",\"\",X70)","v":""},null,null,{"$f":"IF(AA70=\"\",\"\",AA70)","v":""},null,null,null,null,{"$f":"IF(F209=\"\",\"\",U209*AA209)","v":""}]
[]
[]
[]
[null,{"$f":"IF(B74=\"\",\"\",B74)","v":""},null,{"$f":"IF(D74=\"\",\"\",D74)","v":""},null,{"$f":"IF(F74=\"\",\"\",F74)","v":""},null,null,null,null,null,null,null,null,null,null,null,null,null,null,{"$f":"IF(U74=\"\",\"\",U74)","v":""},null,null,{"$f":"IF(X74=\"\",\"\",X74)","v":""},null,null,{"$f":"IF(AA74=\"\",\"\",AA74)","v":""},null,null,null,null,{"$f":"IF(F213=\"\",\"\",U213*AA213)","v":""}]
[]
[]
[]
[null,{"$f":"IF(B78=\"\",\"\",B78)","v":""},null,{"$f":"IF(D78=\"\",\"\",D78)","v":""},null,{"$f":"IF(F78=\"\",\"\",F78)","v":""},null,null,null,null,null,null,null,null,null,null,null,null,null,null,{"$f":"IF(U78=\"\",\"\",U78)","v":""},null,null,{"$f":"IF(X78=\"\",\"\",X78)","v":""},null,null,{"$f":"IF(AA78=\"\",\"\",AA78)","v":""},null,null,null,null,{"$f":"IF(F217=\"\",\"\",U217*AA217)","v":""}]
[]
[]
[]
[null,{"$f":"IF(B82=\"\",\"\",B82)","v":""},null,{"$f":"IF(D82=\"\",\"\",D82)","v":""},null,{"$f":"IF(F82=\"\",\"\",F82)","v":""},null,null,null,null,null,null,null,null,null,null,null,null,null,null,{"$f":"IF(U82=\"\",\"\",U82)","v":""},null,null,{"$f":"IF(X82=\"\",\"\",X82)","v":""},null,null,{"$f":"IF(AA82=\"\",\"\",AA82)","v":""},null,null,null,null,{"$f":"IF(F221=\"\",\"\",U221*AA221)","v":""}]
[]
[]
[]
[null,{"$f":"IF(B86=\"\",\"\",B86)","v":""},null,{"$f":"IF(D86=\"\",\"\",D86)","v":""},null,{"$f":"IF(F86=\"\",\"\",F86)","v":""},null,null,null,null,null,null,null,null,null,null,null,null,null,null,{"$f":"IF(U86=\"\",\"\",U86)","v":""},null,null,{"$f":"IF(X86=\"\",\"\",X86)","v":""},null,null,{"$f":"IF(AA86=\"\",\"\",AA86)","v":""},null,null,null,null,{"$f":"IF(F225=\"\",\"\",U225*AA225)","v":""}]
[]
[]
[]
[null,{"$f":"IF(B90=\"\",\"\",B90)","v":""},null,{"$f":"IF(D90=\"\",\"\",D90)","v":""},null,{"$f":"IF(F90=\"\",\"\",F90)","v":""},null,null,null,null,null,null,null,null,null,null,null,null,null,null,{"$f":"IF(U90=\"\",\"\",U90)","v":""},null,null,{"$f":"IF(X90=\"\",\"\",X90)","v":""},null,null,{"$f":"IF(AA90=\"\",\"\",AA90)","v":""},null,null,null,null,{"$f":"IF(F229=\"\",\"\",U229*AA229)","v":""}]
[]
[]
[]
[null,{"$f":"IF(B94=\"\",\"\",B94)","v":""},null,{"$f":"IF(D94=\"\",\"\",D94)","v":""},null,{"$f":"IF(F94=\"\",\"\",F94)","v":""},null,null,null,null,null,null,null,null,null,null,null,null,null,null,{"$f":"IF(U94=\"\",\"\",U94)","v":""},null,null,{"$f":"IF(X94=\"\",\"\",X94)","v":""},null,null,{"$f":"IF(AA94=\"\",\"\",AA94)","v":""},null,null,null,null,{"$f":"IF(F233=\"\",\"\",U233*AA233)","v":""}]
[]
[]
[]
[null,{"$f":"IF(B98=\"\",\"\",B98)","v":""},null,{"$f":"IF(D98=\"\",\"\",D98)","v":""},null,{"$f":"IF(F98=\"\",\"\",F98)","v":""},null,null,null,null,null,null,null,null,null,null,null,null,null,null,{"$f":"IF(U98=\"\",\"\",U98)","v":""},null,null,{"$f":"IF(X98=\"\",\"\",X98)","v":""},null,null,{"$f":"IF(AA98=\"\",\"\",AA98)","v":""},null,null,null,null,{"$f":"IF(F237=\"\",\"\",U237*AA237)","v":""}]
[]
[]
[]
[null,{"$f":"IF(B102=\"\",\"\",B102)","v":""},null,{"$f":"IF(D102=\"\",\"\",D102)","v":""},null,{"$f":"IF(F102=\"\",\"\",F102)","v":""},null,null,null,null,null,null,null,null,null,null,null,null,null,null,{"$f":"IF(U102=\"\",\"\",U102)","v":""},null,null,{"$f":"IF(X102=\"\",\"\",X102)","v":""},null,null,{"$f":"IF(AA102=\"\",\"\",AA102)","v":""},null,null,null,null,{"$f":"IF(F241=\"\",\"\",U241*AA241)","v":""}]
[]
[]
[]
[null,{"$f":"IF(B106=\"\",\"\",B106)","v":""},null,{"$f":"IF(D106=\"\",\"\",D106)","v":""},null,{"$f":"IF(F106=\"\",\"\",F106)","v":""},null,null,null,null,null,null,null,null,null,null,null,null,null,null,{"$f":"IF(U106=\"\",\"\",U106)","v":""},null,null,{"$f":"IF(X106=\"\",\"\",X106)","v":""},null,null,{"$f":"IF(AA106=\"\",\"\",AA106)","v":""},null,null,null,null,{"$f":"IF(F245=\"\",\"\",U245*AA245)","v":""}]
[]
[]
[]
[null,null,null,null,null,null,null,null,null,null,null,null,null,null,null,null,null,null,null,null,"金額(税抜)",null,null,null,null,null,null,null,null,null,null,{"$f":"IF(AF173=\"\",\"\",SUM(AF173:AF245))","v":""}]
[]
[]
[]
[]
[null,null,null,null,null,null,null,null,null,null,null,null,null,null,null,null,null,null,null,null,"消費税",null,null,null,null,null,"税率",null,null,"税調",null,{"$f":"IF(AF115=\"\",\"\",AF115)","v":""}]
[]
[null,null,null,null,null,null,null,null,null,null,null,null,null,null,null,null,null,null,null,null,null,null,null,null,null,null,{"$f":"IF(AA117=\"\",\"\",AA117)","v":""},null,{"$f":"IF(AC117=\"\",\"\",AC117)","v":""},{"$f":"IF(AD117=\"\",\"\",AD117)","v":""}]
[]
[]
[null,"備考・通信欄"]

{"sheet":"細1-7","index":8,"n_rows":259,"n_cols":35,"rows_kept":259,"cut":false,"hidden":false,"merged":[[258,1,275,2],[253,20,256,25],[253,26,254,28],[248,20,251,30],[244,1,247,2],[244,3,247,4],[244,5,247,19],[244,20,247,22],[244,23,247,25],[244,26,247,30],[244,31,247,36],[253,31,256,36],[255,26,256,27],[255,28,256,28],[255,29,256,30],[253,29,254,30],[248,31,251,36],[236,1,239,2],[236,3,239,4],[236,5,239,19],[236,20,239,22],[236,23,239,25],[236,26,239,30],[236,31,239,36],[240,1,243,2],[240,3,243,4],[240,5,243,19],[240,20,243,22],[240,23,243,25],[240,26,243,30],[240,31,243,36],[228,1,231,2],[228,3,231,4],[228,5,231,19],[228,20,231,22],[228,23,231,25],[228,26,231,30],[228,31,231,36],[232,1,235,2],[232,3,235,4],[232,5,235,19],[232,20,235,22],[232,23,235,25],[232,26,235,30],[232,31,235,36],[220,1,223,2],[220,3,223,4],[220,5,223,19],[220,20,223,22],[220,23,223,25],[220,26,223,30],[220,31,223,36],[224,1,227,2],[224,3,227,4],[224,5,227,19],[224,20,227,22],[224,23,227,25],[224,26,227,30],[224,31,227,36],[188,1,191,2],[188,3,191,4],[188,5,191,19],[188,20,191,22],[188,23,191,25],[188,26,191,30],[188,31,191,36],[212,31,215,36],[216,1,219,2],[216,3,219,4],[216,5,219,19],[216,20,219,22],[216,23,219,25],[216,26,219,30],[216,31,219,36],[200,1,203,2],[200,3,203,4],[200,5,203,19],[200,20,203,22],[200,23,203,25],[200,26,203,30],[200,31,203,36],[204,1,207,2],[204,3,207,4],[180,1,183,2],[180,3,183,4],[180,5,183,19],[180,20,183,22],[180,23,183,25],[180,26,183,30],[180,31,183,36],[184,1,187,2],[184,3,187,4],[184,5,187,19],[184,20,187,22],[184,23,187,25],[184,26,187,30],[184,31,187,36],[172,1,175,2],[172,3,175,4],[172,5,175,19],[172,20,175,22],[172,23,175,25],[172,26,175,30],[172,31,175,36],[176,1,179,2],[176,3,179,4],[176,5,179,19],[176,20,179,22],[176,23,179,25],[176,26,179,30],[176,31,179,36],[163,1,166,4],[163,5,166,8],[163,9,166,12],[163,13,166,36],[168,1,171,4],[168,5,171,19],[168,20,171,22],[168,23,171,25],[168,26,171,30],[168,31,171,36],[105,1,108,2],[105,3,108,4],[105,5,108,19],[105,20,108,22],[105,23,108,25],[105,26,108,30],[105,31,108,36],[101,1,104,2],[101,3,104,4],[101,5,104,19],[81,1,84,2],[81,3,84,4],[81,5,84,19],[81,20,84,22],[81,23,84,25],[81,26,84,30],[81,31,84,36],[101,20,104,22],[101,23,104,25],[101,26,104,30],[101,31,104,36],[93,1,96,2],[93,3,96,4],[93,5,96,19],[93,20,96,22],[93,23,96,25],[93,26,96,30],[93,31,96,36],[97,1,100,2],[97,3,100,4],[97,5,100,19],[97,20,100,22],[97,23,100,25],[97,26,100,30],[73,1,76,2],[73,3,76,4],[73,5,76,19],[73,20,76,22],[73,23,76,25],[73,26,76,30],[73,31,76,36],[77,1,80,2],[77,3,80,4],[77,5,80,19],[77,20,80,22],[77,23,80,25],[77,26,80,30],[77,31,80,36],[65,1,68,2],[65,3,68,4],[65,5,68,19],[65,20,68,22],[65,23,68,25],[65,26,68,30],[65,31,68,36],[69,1,72,2],[69,3,72,4],[69,5,72,19],[69,20,72,22],[69,23,72,25],[69,26,72,30],[69,31,72,36],[57,1,60,2],[57,3,60,4],[57,5,60,19],[57,20,60,22],[57,23,60,25],[57,26,60,30],[57,31,60,36],[61,1,64,2],[61,3,64,4],[61,5,64,19],[61,20,64,22],[61,23,64,25],[61,26,64,30],[61,31,64,36],[49,1,52,2],[49,3,52,4],[49,5,52,19],[49,20,52,22],[49,23,52,25],[49,26,52,30],[49,31,52,36],[53,1,56,2],[53,3,56,4],[53,5,56,19],[53,20,56,22],[53,23,56,25],[53,26,56,30],[53,31,56,36],[41,1,44,2],[41,3,44,4],[41,5,44,19],[41,20,44,22],[41,23,44,25],[41,26,44,30],[41,31,44,36],[45,1,48,2],[45,3,48,4],[45,5,48,19],[45,20,48,22],[45,23,48,25],[45,26,48,30],[45,31,48,36],[33,1,36,2],[33,3,36,4],[33,5,36,19],[33,20,36,22],[33,23,36,25],[33,26,36,30],[33,31,36,36],[37,1,40,2],[37,3,40,4],[37,5,40,19],[37,20,40,22],[37,23,40,25],[37,26,40,30],[37,31,40,36],[24,5,27,8],[24,9,27,12],[24,13,27,36],[29,1,32,4],[29,5,32,19],[29,20,32,22],[29,23,32,25],[29,26,32,30],[29,31,32,36],[2,12,5,25],[10,1,13,12],[85,5,88,19],[85,20,88,22],[85,23,88,25],[85,26,88,30],[85,31,88,36],[89,5,92,19],[89,20,92,22],[89,23,92,25],[89,26,92,30],[85,1,88,2],[85,3,88,4],[89,1,92,2],[89,3,92,4],[89,31,92,36],[10,13,13,14],[11,22,13,26],[11,27,13,30],[11,31,13,33],[11,34,13,36],[17,1,20,4],[17,5,20,17],[24,1,27,4],[149,1,152,12],[149,13,152,14],[150,22,152,26],[150,27,152,30],[150,31,152,33],[150,34,152,36],[156,1,159,4],[156,5,159,17],[97,31,100,36],[109,20,112,30],[109,31,112,36],[110,1,111,8],[110,9,111,13],[110,14,111,18],[112,1,117,8],[112,9,117,13],[112,14,117,18],[114,20,117,25],[114,26,115,28],[114,29,115,30],[114,31,117,36],[116,26,117,27],[116,28,117,28],[116,29,117,30],[204,31,207,36],[208,1,211,2],[208,3,211,4],[208,5,211,19],[208,20,211,22],[208,23,211,25],[208,26,211,30],[208,31,211,36],[119,1,136,2],[141,12,144,25],[196,1,199,2],[196,3,199,4],[196,5,199,19],[196,20,199,22],[196,23,199,25],[196,26,199,30],[196,31,199,36],[192,1,195,2],[192,3,195,4],[192,5,195,19],[192,20,195,22],[192,23,195,25],[192,26,195,30],[192,31,195,36],[212,1,215,2],[212,3,215,4],[212,5,215,19],[212,20,215,22],[212,23,215,25],[212,26,215,30],[204,5,207,19],[204,20,207,22],[204,23,207,25],[204,26,207,30]]}
[]
[]
[null,null,null,null,null,null,null,null,null,null,null,null,"請求明細書 (正)"]
[]
[]
[]
[]
[]
[]
[]
[null,"株 式 会 社 小 田 道 路",null,null,null,null,null,null,null,null,null,null,null,"御中"]
[null,null,null,null,null,null,null,null,null,null,null,null,null,null,null,null,null,null,null,null,null,null,"請求年月日",null,null,null,null,{"$f":"IF(年=\"\",\"\",年)","v":""},null,null,null,{"$f":"IF(月=\"\",\"\",月)","v":""},null,null,{"$f":"IF(日=\"\",\"\",日)","v":""}]
[]
[]
[]
[]
[]
[null,"業者名",null,null,null,{"$f":"IF(社名=\"\",\"\",社名)","v":""}]
[]
[]
[]
[]
[]
[]
[null,"工事番号",null,null,null,null,null,null,null,"工事名"]
[]
[]
[]
[]
[null,"月 日",null,null,null,"品 名・内 訳",null,null,null,null,null,null,null,null,null,null,null,null,null,null,"数 量",null,null,"単位",null,null,"単価",null,null,null,null,"金額(税抜)"]
[]
[]
[]
[null,null,null,null,null,null,null,null,null,null,null,null,null,null,null,null,null,null,null,null,null,null,null,null,null,null,null,null,null,null,null,{"$f":"IF(F34=\"\",\"\",ROUND(U34*AA34,0))","v":""}]
[]
[]
[]
[null,null,null,null,null,null,null,null,null,null,null,null,null,null,null,null,null,null,null,null,null,null,null,null,null,null,null,null,null,null,null,{"$f":"IF(F38=\"\",\"\",ROUND(U38*AA38,0))","v":""}]
[]
[]
[]
[null,null,null,null,null,null,null,null,null,null,null,null,null,null,null,null,null,null,null,null,null,null,null,null,null,null,null,null,null,null,null,{"$f":"IF(F42=\"\",\"\",ROUND(U42*AA42,0))","v":""}]
[]
[]
[]
[null,null,null,null,null,null,null,null,null,null,null,null,null,null,null,null,null,null,null,null,null,null,null,null,null,null,null,null,null,null,null,{"$f":"IF(F46=\"\",\"\",ROUND(U46*AA46,0))","v":""}]
[]
[]
[]
[null,null,null,null,null,null,null,null,null,null,null,null,null,null,null,null,null,null,null,null,null,null,null,null,null,null,null,null,null,null,null,{"$f":"IF(F50=\"\",\"\",ROUND(U50*AA50,0))","v":""}]
[]
[]
[]
[null,null,null,null,null,null,null,null,null,null,null,null,null,null,null,null,null,null,null,null,null,null,null,null,null,null,null,null,null,null,null,{"$f":"IF(F54=\"\",\"\",ROUND(U54*AA54,0))","v":""}]
[]
[]
[]
[null,null,null,null,null,null,null,null,null,null,null,null,null,null,null,null,null,null,null,null,null,null,null,null,null,null,null,null,null,null,null,{"$f":"IF(F58=\"\",\"\",ROUND(U58*AA58,0))","v":""}]
[]
[]
[]
[null,null,null,null,null,null,null,null,null,null,null,null,null,null,null,null,null,null,null,null,null,null,null,null,null,null,null,null,null,null,null,{"$f":"IF(F62=\"\",\"\",ROUND(U62*AA62,0))","v":""}]
[]
[]
[]
[null,null,null,null,null,null,null,null,null,null,null,null,null,null,null,null,null,null,null,null,null,null,null,null,null,null,null,null,null,null,null,{"$f":"IF(F66=\"\",\"\",ROUND(U66*AA66,0))","v":""}]
[]
[]
[]
[null,null,null,null,null,null,null,null,null,null,null,null,null,null,null,null,null,null,null,null,null,null,null,null,null,null,null,null,null,null,null,{"$f":"IF(F70=\"\",\"\",ROUND(U70*AA70,0))","v":""}]
[]
[]
[]
[null,null,null,null,null,null,null,null,null,null,null,null,null,null,null,null,null,null,null,null,null,null,null,null,null,null,null,null,null,null,null,{"$f":"IF(F74=\"\",\"\",ROUND(U74*AA74,0))","v":""}]
[]
[]
[]
[null,null,null,null,null,null,null,null,null,null,null,null,null,null,null,null,null,null,null,null,null,null,null,null,null,null,null,null,null,null,null,{"$f":"IF(F78=\"\",\"\",ROUND(U78*AA78,0))","v":""}]
[]
[]
[]
[null,null,null,null,null,null,null,null,null,null,null,null,null,null,null,null,null,null,null,null,null,null,null,null,null,null,null,null,null,null,null,{"$f":"IF(F82=\"\",\"\",ROUND(U82*AA82,0))","v":""}]
[]
[]
[]
[null,null,null,null,null,null,null,null,null,null,null,null,null,null,null,null,null,null,null,null,null,null,null,null,null,null,null,null,null,null,null,{"$f":"IF(F86=\"\",\"\",ROUND(U86*AA86,0))","v":""}]
[]
[]
[]
[null,null,null,null,null,null,null,null,null,null,null,null,null,null,null,null,null,null,null,null,null,null,null,null,null,null,null,null,null,null,null,{"$f":"IF(F90=\"\",\"\",ROUND(U90*AA90,0))","v":""}]
[]
[]
[]
[null,null,null,null,null,null,null,null,null,null,null,null,null,null,null,null,null,null,null,null,null,null,null,null,null,null,null,null,null,null,null,{"$f":"IF(F94=\"\",\"\",ROUND(U94*AA94,0))","v":""}]
[]
[]
[]
[null,null,null,null,null,null,null,null,null,null,null,null,null,null,null,null,null,null,null,null,null,null,null,null,null,null,null,null,null,null,null,{"$f":"IF(F98=\"\",\"\",ROUND(U98*AA98,0))","v":""}]
[]
[]
[]
[null,null,null,null,null,null,null,null,null,null,null,null,null,null,null,null,null,null,null,null,null,null,null,null,null,null,null,null,null,null,null,{"$f":"IF(F102=\"\",\"\",ROUND(U102*AA102,0))","v":""}]
[]
[]
[]
[null,null,null,null,null,null,null,null,null,null,null,null,null,null,null,null,null,null,null,null,null,null,null,null,null,null,null,null,null,null,null,{"$f":"IF(F106=\"\",\"\",ROUND(U106*AA106,0))","v":""}]
[]
[]
[]
[null,null,null,null,null,null,null,null,null,null,null,null,null,null,null,null,null,null,null,null,"金額(税抜)",null,null,null,null,null,null,null,null,null,null,{"$f":"IF(AF34=\"\",\"\",SUM(AF34:AF106))","v":""}]
[null,"部長",null,null,null,null,null,null,null,"担当者",null,null,null,null,"受付"]
[]
[]
[]
[null,null,null,null,null,null,null,null,null,null,null,null,null,null,null,null,null,null,null,null,"消費税",null,null,null,null,null,"税率",null,null,"税調",null,{"$f":"IF(AF110=\"\",\"\",IF(AA117=\"\",\"\",IF(AA117=8.1,ROUND(AF110*8/100,0)+AD117,ROUND(AF110*AA117/100,0)+AD117)))","v":""}]
[]
[null,null,null,null,null,null,null,null,null,null,null,null,null,null,null,null,null,null,null,null,null,null,null,null,null,null,null,null,{"$f":"IF(AA117=\"\",\"\",IF(AA117=8.1,\"旧\",IF(AA117=8,\"軽\",IF(AA117=0,\"非\",\"\"))))","v":""}]
[]
[]
[null,"備考・通信欄"]
[]
[]
[]
[]
[]
[]
[]
[]
[]
[]
[]
[]
[]
[]
[]
[]
[]
[]
[]
[]
[]
[null,null,null,null,null,null,null,null,null,null,null,null,"請求明細書 (貴社控)"]
[]
[]
[]
[]
[]
[]
[]
[null,"株 式 会 社 小 田 道 路",null,null,null,null,null,null,null,null,null,null,null,"御中"]
[null,null,null,null,null,null,null,null,null,null,null,null,null,null,null,null,null,null,null,null,null,null,"請求年月日",null,null,null,null,{"$f":"IF(年=\"\",\"\",年)","v":""},null,null,null,{"$f":"IF(月=\"\",\"\",月)","v":""},null,null,{"$f":"IF(日=\"\",\"\",日)","v":""}]
[]
[]
[]
[]
[]
[null,"業者名",null,null,null,{"$f":"IF(社名=\"\",\"\",社名)","v":""}]
[]
[]
[]
[]
[]
[]
[null,"工事番号",null,null,null,{"$f":"IF(F25=\"\",\"\",F25)","v":""},null,null,null,"工事名",null,null,null,{"$f":"IF(N25=\"\",\"\",N25)","v":""}]
[]
[]
[]
[]
[null,"月　日",null,null,null,"摘要･品名",null,null,null,null,null,null,null,null,null,null,null,null,null,null,"数 量",null,null,"単位",null,null,"単価",null,null,null,null,"金額(税抜)"]
[]
[]
[]
[null,{"$f":"IF(B34=\"\",\"\",B34)","v":""},null,{"$f":"IF(D34=\"\",\"\",D34)","v":""},null,{"$f":"IF(F34=\"\",\"\",F34)","v":""},null,null,null,null,null,null,null,null,null,null,null,null,null,null,{"$f":"IF(U34=\"\",\"\",U34)","v":""},null,null,{"$f":"IF(X34=\"\",\"\",X34)","v":""},null,null,{"$f":"IF(AA34=\"\",\"\",AA34)","v":""},null,null,null,null,{"$f":"IF(F173=\"\",\"\",U173*AA173)","v":""}]
[]
[]
[]
[null,{"$f":"IF(B38=\"\",\"\",B38)","v":""},null,{"$f":"IF(D38=\"\",\"\",D38)","v":""},null,{"$f":"IF(F38=\"\",\"\",F38)","v":""},null,null,null,null,null,null,null,null,null,null,null,null,null,null,{"$f":"IF(U38=\"\",\"\",U38)","v":""},null,null,{"$f":"IF(X38=\"\",\"\",X38)","v":""},null,null,{"$f":"IF(AA38=\"\",\"\",AA38)","v":""},null,null,null,null,{"$f":"IF(F177=\"\",\"\",U177*AA177)","v":""}]
[]
[]
[]
[null,{"$f":"IF(B42=\"\",\"\",B42)","v":""},null,{"$f":"IF(D42=\"\",\"\",D42)","v":""},null,{"$f":"IF(F42=\"\",\"\",F42)","v":""},null,null,null,null,null,null,null,null,null,null,null,null,null,null,{"$f":"IF(U42=\"\",\"\",U42)","v":""},null,null,{"$f":"IF(X42=\"\",\"\",X42)","v":""},null,null,{"$f":"IF(AA42=\"\",\"\",AA42)","v":""},null,null,null,null,{"$f":"IF(F181=\"\",\"\",U181*AA181)","v":""}]
[]
[]
[]
[null,{"$f":"IF(B46=\"\",\"\",B46)","v":""},null,{"$f":"IF(D46=\"\",\"\",D46)","v":""},null,{"$f":"IF(F46=\"\",\"\",F46)","v":""},null,null,null,null,null,null,null,null,null,null,null,null,null,null,{"$f":"IF(U46=\"\",\"\",U46)","v":""},null,null,{"$f":"IF(X46=\"\",\"\",X46)","v":""},null,null,{"$f":"IF(AA46=\"\",\"\",AA46)","v":""},null,null,null,null,{"$f":"IF(F185=\"\",\"\",U185*AA185)","v":""}]
[]
[]
[]
[null,{"$f":"IF(B50=\"\",\"\",B50)","v":""},null,{"$f":"IF(D50=\"\",\"\",D50)","v":""},null,{"$f":"IF(F50=\"\",\"\",F50)","v":""},null,null,null,null,null,null,null,null,null,null,null,null,null,null,{"$f":"IF(U50=\"\",\"\",U50)","v":""},null,null,{"$f":"IF(X50=\"\",\"\",X50)","v":""},null,null,{"$f":"IF(AA50=\"\",\"\",AA50)","v":""},null,null,null,null,{"$f":"IF(F189=\"\",\"\",U189*AA189)","v":""}]
[]
[]
[]
[null,{"$f":"IF(B54=\"\",\"\",B54)","v":""},null,{"$f":"IF(D54=\"\",\"\",D54)","v":""},null,{"$f":"IF(F54=\"\",\"\",F54)","v":""},null,null,null,null,null,null,null,null,null,null,null,null,null,null,{"$f":"IF(U54=\"\",\"\",U54)","v":""},null,null,{"$f":"IF(X54=\"\",\"\",X54)","v":""},null,null,{"$f":"IF(AA54=\"\",\"\",AA54)","v":""},null,null,null,null,{"$f":"IF(F193=\"\",\"\",U193*AA193)","v":""}]
[]
[]
[]
[null,{"$f":"IF(B58=\"\",\"\",B58)","v":""},null,{"$f":"IF(D58=\"\",\"\",D58)","v":""},null,{"$f":"IF(F58=\"\",\"\",F58)","v":""},null,null,null,null,null,null,null,null,null,null,null,null,null,null,{"$f":"IF(U58=\"\",\"\",U58)","v":""},null,null,{"$f":"IF(X58=\"\",\"\",X58)","v":""},null,null,{"$f":"IF(AA58=\"\",\"\",AA58)","v":""},null,null,null,null,{"$f":"IF(F197=\"\",\"\",U197*AA197)","v":""}]
[]
[]
[]
[null,{"$f":"IF(B62=\"\",\"\",B62)","v":""},null,{"$f":"IF(D62=\"\",\"\",D62)","v":""},null,{"$f":"IF(F62=\"\",\"\",F62)","v":""},null,null,null,null,null,null,null,null,null,null,null,null,null,null,{"$f":"IF(U62=\"\",\"\",U62)","v":""},null,null,{"$f":"IF(X62=\"\",\"\",X62)","v":""},null,null,{"$f":"IF(AA62=\"\",\"\",AA62)","v":""},null,null,null,null,{"$f":"IF(F201=\"\",\"\",U201*AA201)","v":""}]
[]
[]
[]
[null,{"$f":"IF(B66=\"\",\"\",B66)","v":""},null,{"$f":"IF(D66=\"\",\"\",D66)","v":""},null,{"$f":"IF(F66=\"\",\"\",F66)","v":""},null,null,null,null,null,null,null,null,null,null,null,null,null,null,{"$f":"IF(U66=\"\",\"\",U66)","v":""},null,null,{"$f":"IF(X66=\"\",\"\",X66)","v":""},null,null,{"$f":"IF(AA66=\"\",\"\",AA66)","v":""},null,null,null,null,{"$f":"IF(F205=\"\",\"\",U205*AA205)","v":""}]
[]
[]
[]
[null,{"$f":"IF(B70=\"\",\"\",B70)","v":""},null,{"$f":"IF(D70=\"\",\"\",D70)","v":""},null,{"$f":"IF(F70=\"\",\"\",F70)","v":""},null,null,null,null,null,null,null,null,null,null,null,null,null,null,{"$f":"IF(U70=\"\",\"\",U70)","v":""},null,null,{"$f":"IF(X70=\"\",\"\",X70)","v":""},null,null,{"$f":"IF(AA70=\"\",\"\",AA70)","v":""},null,null,null,null,{"$f":"IF(F209=\"\",\"\",U209*AA209)","v":""}]
[]
[]
[]
[null,{"$f":"IF(B74=\"\",\"\",B74)","v":""},null,{"$f":"IF(D74=\"\",\"\",D74)","v":""},null,{"$f":"IF(F74=\"\",\"\",F74)","v":""},null,null,null,null,null,null,null,null,null,null,null,null,null,null,{"$f":"IF(U74=\"\",\"\",U74)","v":""},null,null,{"$f":"IF(X74=\"\",\"\",X74)","v":""},null,null,{"$f":"IF(AA74=\"\",\"\",AA74)","v":""},null,null,null,null,{"$f":"IF(F213=\"\",\"\",U213*AA213)","v":""}]
[]
[]
[]
[null,{"$f":"IF(B78=\"\",\"\",B78)","v":""},null,{"$f":"IF(D78=\"\",\"\",D78)","v":""},null,{"$f":"IF(F78=\"\",\"\",F78)","v":""},null,null,null,null,null,null,null,null,null,null,null,null,null,null,{"$f":"IF(U78=\"\",\"\",U78)","v":""},null,null,{"$f":"IF(X78=\"\",\"\",X78)","v":""},null,null,{"$f":"IF(AA78=\"\",\"\",AA78)","v":""},null,null,null,null,{"$f":"IF(F217=\"\",\"\",U217*AA217)","v":""}]
[]
[]
[]
[null,{"$f":"IF(B82=\"\",\"\",B82)","v":""},null,{"$f":"IF(D82=\"\",\"\",D82)","v":""},null,{"$f":"IF(F82=\"\",\"\",F82)","v":""},null,null,null,null,null,null,null,null,null,null,null,null,null,null,{"$f":"IF(U82=\"\",\"\",U82)","v":""},null,null,{"$f":"IF(X82=\"\",\"\",X82)","v":""},null,null,{"$f":"IF(AA82=\"\",\"\",AA82)","v":""},null,null,null,null,{"$f":"IF(F221=\"\",\"\",U221*AA221)","v":""}]
[]
[]
[]
[null,{"$f":"IF(B86=\"\",\"\",B86)","v":""},null,{"$f":"IF(D86=\"\",\"\",D86)","v":""},null,{"$f":"IF(F86=\"\",\"\",F86)","v":""},null,null,null,null,null,null,null,null,null,null,null,null,null,null,{"$f":"IF(U86=\"\",\"\",U86)","v":""},null,null,{"$f":"IF(X86=\"\",\"\",X86)","v":""},null,null,{"$f":"IF(AA86=\"\",\"\",AA86)","v":""},null,null,null,null,{"$f":"IF(F225=\"\",\"\",U225*AA225)","v":""}]
[]
[]
[]
[null,{"$f":"IF(B90=\"\",\"\",B90)","v":""},null,{"$f":"IF(D90=\"\",\"\",D90)","v":""},null,{"$f":"IF(F90=\"\",\"\",F90)","v":""},null,null,null,null,null,null,null,null,null,null,null,null,null,null,{"$f":"IF(U90=\"\",\"\",U90)","v":""},null,null,{"$f":"IF(X90=\"\",\"\",X90)","v":""},null,null,{"$f":"IF(AA90=\"\",\"\",AA90)","v":""},null,null,null,null,{"$f":"IF(F229=\"\",\"\",U229*AA229)","v":""}]
[]
[]
[]
[null,{"$f":"IF(B94=\"\",\"\",B94)","v":""},null,{"$f":"IF(D94=\"\",\"\",D94)","v":""},null,{"$f":"IF(F94=\"\",\"\",F94)","v":""},null,null,null,null,null,null,null,null,null,null,null,null,null,null,{"$f":"IF(U94=\"\",\"\",U94)","v":""},null,null,{"$f":"IF(X94=\"\",\"\",X94)","v":""},null,null,{"$f":"IF(AA94=\"\",\"\",AA94)","v":""},null,null,null,null,{"$f":"IF(F233=\"\",\"\",U233*AA233)","v":""}]
[]
[]
[]
[null,{"$f":"IF(B98=\"\",\"\",B98)","v":""},null,{"$f":"IF(D98=\"\",\"\",D98)","v":""},null,{"$f":"IF(F98=\"\",\"\",F98)","v":""},null,null,null,null,null,null,null,null,null,null,null,null,null,null,{"$f":"IF(U98=\"\",\"\",U98)","v":""},null,null,{"$f":"IF(X98=\"\",\"\",X98)","v":""},null,null,{"$f":"IF(AA98=\"\",\"\",AA98)","v":""},null,null,null,null,{"$f":"IF(F237=\"\",\"\",U237*AA237)","v":""}]
[]
[]
[]
[null,{"$f":"IF(B102=\"\",\"\",B102)","v":""},null,{"$f":"IF(D102=\"\",\"\",D102)","v":""},null,{"$f":"IF(F102=\"\",\"\",F102)","v":""},null,null,null,null,null,null,null,null,null,null,null,null,null,null,{"$f":"IF(U102=\"\",\"\",U102)","v":""},null,null,{"$f":"IF(X102=\"\",\"\",X102)","v":""},null,null,{"$f":"IF(AA102=\"\",\"\",AA102)","v":""},null,null,null,null,{"$f":"IF(F241=\"\",\"\",U241*AA241)","v":""}]
[]
[]
[]
[null,{"$f":"IF(B106=\"\",\"\",B106)","v":""},null,{"$f":"IF(D106=\"\",\"\",D106)","v":""},null,{"$f":"IF(F106=\"\",\"\",F106)","v":""},null,null,null,null,null,null,null,null,null,null,null,null,null,null,{"$f":"IF(U106=\"\",\"\",U106)","v":""},null,null,{"$f":"IF(X106=\"\",\"\",X106)","v":""},null,null,{"$f":"IF(AA106=\"\",\"\",AA106)","v":""},null,null,null,null,{"$f":"IF(F245=\"\",\"\",U245*AA245)","v":""}]
[]
[]
[]
[null,null,null,null,null,null,null,null,null,null,null,null,null,null,null,null,null,null,null,null,"金額(税抜)",null,null,null,null,null,null,null,null,null,null,{"$f":"IF(AF173=\"\",\"\",SUM(AF173:AF245))","v":""}]
[]
[]
[]
[]
[null,null,null,null,null,null,null,null,null,null,null,null,null,null,null,null,null,null,null,null,"消費税",null,null,null,null,null,"税率",null,null,"税調",null,{"$f":"IF(AF115=\"\",\"\",AF115)","v":""}]
[]
[null,null,null,null,null,null,null,null,null,null,null,null,null,null,null,null,null,null,null,null,null,null,null,null,null,null,{"$f":"IF(AA117=\"\",\"\",AA117)","v":""},null,{"$f":"IF(AC117=\"\",\"\",AC117)","v":""},{"$f":"IF(AD117=\"\",\"\",AD117)","v":""}]
[]
[]
[null,"備考・通信欄"]

{"sheet":"細1-8","index":9,"n_rows":259,"n_cols":35,"rows_kept":259,"cut":false,"hidden":false,"merged":[[258,1,275,2],[253,20,256,25],[253,26,254,28],[253,29,254,30],[255,26,256,27],[255,28,256,28],[255,29,256,30],[240,1,243,2],[240,3,243,4],[240,5,243,19],[240,20,243,22],[240,23,243,25],[240,26,243,30],[248,20,251,30],[244,1,247,2],[244,3,247,4],[244,5,247,19],[244,20,247,22],[244,23,247,25],[244,26,247,30],[244,31,247,36],[232,1,235,2],[232,3,235,4],[232,5,235,19],[232,20,235,22],[232,23,235,25],[232,26,235,30],[232,31,235,36],[236,1,239,2],[236,3,239,4],[236,5,239,19],[236,20,239,22],[236,23,239,25],[236,26,239,30],[236,31,239,36],[212,1,215,2],[212,3,215,4],[212,5,215,19],[212,20,215,22],[212,23,215,25],[212,26,215,30],[212,31,215,36],[216,1,219,2],[216,3,219,4],[216,5,219,19],[216,20,219,22],[216,23,219,25],[216,26,219,30],[216,31,219,36],[192,1,195,2],[192,3,195,4],[192,5,195,19],[192,20,195,22],[192,23,195,25],[192,26,195,30],[192,31,195,36],[200,1,203,2],[200,3,203,4],[200,5,203,19],[200,20,203,22],[200,23,203,25],[200,26,203,30],[200,31,203,36],[176,1,179,2],[176,3,179,4],[176,5,179,19],[176,20,179,22],[176,23,179,25],[176,26,179,30],[176,31,179,36],[180,1,183,2],[180,3,183,4],[180,5,183,19],[180,20,183,22],[180,23,183,25],[180,26,183,30],[180,31,183,36],[168,1,171,4],[168,5,171,19],[168,20,171,22],[168,23,171,25],[168,26,171,30],[168,31,171,36],[172,1,175,2],[172,3,175,4],[172,5,175,19],[172,20,175,22],[172,23,175,25],[172,26,175,30],[172,31,175,36],[149,1,152,12],[149,13,152,14],[150,22,152,26],[150,27,152,30],[150,31,152,33],[150,34,152,36],[156,1,159,4],[156,5,159,17],[163,1,166,4],[163,5,166,8],[163,9,166,12],[163,13,166,36],[105,26,108,30],[105,31,108,36],[109,20,112,30],[109,31,112,36],[110,1,111,8],[110,9,111,13],[110,14,111,18],[112,1,117,8],[112,9,117,13],[112,14,117,18],[114,20,117,25],[114,26,115,28],[114,29,115,30],[114,31,117,36],[116,26,117,27],[116,28,117,28],[116,29,117,30],[89,20,92,22],[89,23,92,25],[89,26,92,30],[89,31,92,36],[97,26,100,30],[97,31,100,36],[101,1,104,2],[101,3,104,4],[101,5,104,19],[101,20,104,22],[101,23,104,25],[101,26,104,30],[101,31,104,36],[93,26,96,30],[93,31,96,36],[89,1,92,2],[89,3,92,4],[89,5,92,19],[73,1,76,2],[73,3,76,4],[73,5,76,19],[73,20,76,22],[73,23,76,25],[73,26,76,30],[73,31,76,36],[77,1,80,2],[77,3,80,4],[77,5,80,19],[77,20,80,22],[77,23,80,25],[77,26,80,30],[77,31,80,36],[65,1,68,2],[65,3,68,4],[65,5,68,19],[65,20,68,22],[65,23,68,25],[65,26,68,30],[65,31,68,36],[69,1,72,2],[69,3,72,4],[69,5,72,19],[69,20,72,22],[69,23,72,25],[69,26,72,30],[69,31,72,36],[57,1,60,2],[57,3,60,4],[57,5,60,19],[57,20,60,22],[57,23,60,25],[57,26,60,30],[57,31,60,36],[61,1,64,2],[61,3,64,4],[61,5,64,19],[61,20,64,22],[61,23,64,25],[61,26,64,30],[61,31,64,36],[49,1,52,2],[49,3,52,4],[49,5,52,19],[49,20,52,22],[49,23,52,25],[49,26,52,30],[49,31,52,36],[53,1,56,2],[53,3,56,4],[53,5,56,19],[53,20,56,22],[53,23,56,25],[53,26,56,30],[53,31,56,36],[41,1,44,2],[41,3,44,4],[41,5,44,19],[41,20,44,22],[41,23,44,25],[41,26,44,30],[41,31,44,36],[45,1,48,2],[45,3,48,4],[45,5,48,19],[45,20,48,22],[45,23,48,25],[45,26,48,30],[45,31,48,36],[33,1,36,2],[33,3,36,4],[33,5,36,19],[33,20,36,22],[33,23,36,25],[33,26,36,30],[33,31,36,36],[37,1,40,2],[37,3,40,4],[37,5,40,19],[37,20,40,22],[37,23,40,25],[37,26,40,30],[37,31,40,36],[248,31,251,36],[253,31,256,36],[220,5,223,19],[220,20,223,22],[220,23,223,25],[220,1,223,2],[220,3,223,4],[220,26,223,30],[220,31,223,36],[224,1,227,2],[224,3,227,4],[224,5,227,19],[224,20,227,22],[224,23,227,25],[224,26,227,30],[224,31,227,36],[228,1,231,2],[228,3,231,4],[228,5,231,19],[228,20,231,22],[228,23,231,25],[228,26,231,30],[228,31,231,36],[240,31,243,36],[208,1,211,2],[208,3,211,4],[208,5,211,19],[208,20,211,22],[208,23,211,25],[208,26,211,30],[208,31,211,36],[196,1,199,2],[196,3,199,4],[196,5,199,19],[196,20,199,22],[196,23,199,25],[196,26,199,30],[196,31,199,36],[204,1,207,2],[204,3,207,4],[204,5,207,19],[204,20,207,22],[204,23,207,25],[204,26,207,30],[204,31,207,36],[184,1,187,2],[184,3,187,4],[184,5,187,19],[184,20,187,22],[184,23,187,25],[184,26,187,30],[184,31,187,36],[188,1,191,2],[188,3,191,4],[188,5,191,19],[188,20,191,22],[188,23,191,25],[188,26,191,30],[188,31,191,36],[141,12,144,25],[119,1,136,2],[105,1,108,2],[105,3,108,4],[105,5,108,19],[93,1,96,2],[93,3,96,4],[93,5,96,19],[93,20,96,22],[93,23,96,25],[105,20,108,22],[105,23,108,25],[97,1,100,2],[97,3,100,4],[97,5,100,19],[97,20,100,22],[97,23,100,25],[81,1,84,2],[81,3,84,4],[81,5,84,19],[81,20,84,22],[81,23,84,25],[81,26,84,30],[81,31,84,36],[85,1,88,2],[85,3,88,4],[85,5,88,19],[85,20,88,22],[85,23,88,25],[85,26,88,30],[85,31,88,36],[2,12,5,25],[10,1,13,12],[10,13,13,14],[11,22,13,26],[11,27,13,30],[11,31,13,33],[11,34,13,36],[29,5,32,19],[29,20,32,22],[29,23,32,25],[29,26,32,30],[29,31,32,36],[17,1,20,4],[17,5,20,17],[24,1,27,4],[24,5,27,8],[24,9,27,12],[24,13,27,36],[29,1,32,4]]}
[]
[]
[null,null,null,null,null,null,null,null,null,null,null,null,"請求明細書 (正)"]
[]
[]
[]
[]
[]
[]
[]
[null,"株 式 会 社 小 田 道 路",null,null,null,null,null,null,null,null,null,null,null,"御中"]
[null,null,null,null,null,null,null,null,null,null,null,null,null,null,null,null,null,null,null,null,null,null,"請求年月日",null,null,null,null,{"$f":"IF(年=\"\",\"\",年)","v":""},null,null,null,{"$f":"IF(月=\"\",\"\",月)","v":""},null,null,{"$f":"IF(日=\"\",\"\",日)","v":""}]
[]
[]
[]
[]
[]
[null,"業者名",null,null,null,{"$f":"IF(社名=\"\",\"\",社名)","v":""}]
[]
[]
[]
[]
[]
[]
[null,"工事番号",null,null,null,null,null,null,null,"工事名"]
[]
[]
[]
[]
[null,"月 日",null,null,null,"品 名・内 訳",null,null,null,null,null,null,null,null,null,null,null,null,null,null,"数 量",null,null,"単位",null,null,"単価",null,null,null,null,"金額(税抜)"]
[]
[]
[]
[null,null,null,null,null,null,null,null,null,null,null,null,null,null,null,null,null,null,null,null,null,null,null,null,null,null,null,null,null,null,null,{"$f":"IF(F34=\"\",\"\",ROUND(U34*AA34,0))","v":""}]
[]
[]
[]
[null,null,null,null,null,null,null,null,null,null,null,null,null,null,null,null,null,null,null,null,null,null,null,null,null,null,null,null,null,null,null,{"$f":"IF(F38=\"\",\"\",ROUND(U38*AA38,0))","v":""}]
[]
[]
[]
[null,null,null,null,null,null,null,null,null,null,null,null,null,null,null,null,null,null,null,null,null,null,null,null,null,null,null,null,null,null,null,{"$f":"IF(F42=\"\",\"\",ROUND(U42*AA42,0))","v":""}]
[]
[]
[]
[null,null,null,null,null,null,null,null,null,null,null,null,null,null,null,null,null,null,null,null,null,null,null,null,null,null,null,null,null,null,null,{"$f":"IF(F46=\"\",\"\",ROUND(U46*AA46,0))","v":""}]
[]
[]
[]
[null,null,null,null,null,null,null,null,null,null,null,null,null,null,null,null,null,null,null,null,null,null,null,null,null,null,null,null,null,null,null,{"$f":"IF(F50=\"\",\"\",ROUND(U50*AA50,0))","v":""}]
[]
[]
[]
[null,null,null,null,null,null,null,null,null,null,null,null,null,null,null,null,null,null,null,null,null,null,null,null,null,null,null,null,null,null,null,{"$f":"IF(F54=\"\",\"\",ROUND(U54*AA54,0))","v":""}]
[]
[]
[]
[null,null,null,null,null,null,null,null,null,null,null,null,null,null,null,null,null,null,null,null,null,null,null,null,null,null,null,null,null,null,null,{"$f":"IF(F58=\"\",\"\",ROUND(U58*AA58,0))","v":""}]
[]
[]
[]
[null,null,null,null,null,null,null,null,null,null,null,null,null,null,null,null,null,null,null,null,null,null,null,null,null,null,null,null,null,null,null,{"$f":"IF(F62=\"\",\"\",ROUND(U62*AA62,0))","v":""}]
[]
[]
[]
[null,null,null,null,null,null,null,null,null,null,null,null,null,null,null,null,null,null,null,null,null,null,null,null,null,null,null,null,null,null,null,{"$f":"IF(F66=\"\",\"\",ROUND(U66*AA66,0))","v":""}]
[]
[]
[]
[null,null,null,null,null,null,null,null,null,null,null,null,null,null,null,null,null,null,null,null,null,null,null,null,null,null,null,null,null,null,null,{"$f":"IF(F70=\"\",\"\",ROUND(U70*AA70,0))","v":""}]
[]
[]
[]
[null,null,null,null,null,null,null,null,null,null,null,null,null,null,null,null,null,null,null,null,null,null,null,null,null,null,null,null,null,null,null,{"$f":"IF(F74=\"\",\"\",ROUND(U74*AA74,0))","v":""}]
[]
[]
[]
[null,null,null,null,null,null,null,null,null,null,null,null,null,null,null,null,null,null,null,null,null,null,null,null,null,null,null,null,null,null,null,{"$f":"IF(F78=\"\",\"\",ROUND(U78*AA78,0))","v":""}]
[]
[]
[]
[null,null,null,null,null,null,null,null,null,null,null,null,null,null,null,null,null,null,null,null,null,null,null,null,null,null,null,null,null,null,null,{"$f":"IF(F82=\"\",\"\",ROUND(U82*AA82,0))","v":""}]
[]
[]
[]
[null,null,null,null,null,null,null,null,null,null,null,null,null,null,null,null,null,null,null,null,null,null,null,null,null,null,null,null,null,null,null,{"$f":"IF(F86=\"\",\"\",ROUND(U86*AA86,0))","v":""}]
[]
[]
[]
[null,null,null,null,null,null,null,null,null,null,null,null,null,null,null,null,null,null,null,null,null,null,null,null,null,null,null,null,null,null,null,{"$f":"IF(F90=\"\",\"\",ROUND(U90*AA90,0))","v":""}]
[]
[]
[]
[null,null,null,null,null,null,null,null,null,null,null,null,null,null,null,null,null,null,null,null,null,null,null,null,null,null,null,null,null,null,null,{"$f":"IF(F94=\"\",\"\",ROUND(U94*AA94,0))","v":""}]
[]
[]
[]
[null,null,null,null,null,null,null,null,null,null,null,null,null,null,null,null,null,null,null,null,null,null,null,null,null,null,null,null,null,null,null,{"$f":"IF(F98=\"\",\"\",ROUND(U98*AA98,0))","v":""}]
[]
[]
[]
[null,null,null,null,null,null,null,null,null,null,null,null,null,null,null,null,null,null,null,null,null,null,null,null,null,null,null,null,null,null,null,{"$f":"IF(F102=\"\",\"\",ROUND(U102*AA102,0))","v":""}]
[]
[]
[]
[null,null,null,null,null,null,null,null,null,null,null,null,null,null,null,null,null,null,null,null,null,null,null,null,null,null,null,null,null,null,null,{"$f":"IF(F106=\"\",\"\",ROUND(U106*AA106,0))","v":""}]
[]
[]
[]
[null,null,null,null,null,null,null,null,null,null,null,null,null,null,null,null,null,null,null,null,"金額(税抜)",null,null,null,null,null,null,null,null,null,null,{"$f":"IF(AF34=\"\",\"\",SUM(AF34:AF106))","v":""}]
[null,"部長",null,null,null,null,null,null,null,"担当者",null,null,null,null,"受付"]
[]
[]
[]
[null,null,null,null,null,null,null,null,null,null,null,null,null,null,null,null,null,null,null,null,"消費税",null,null,null,null,null,"税率",null,null,"税調",null,{"$f":"IF(AF110=\"\",\"\",IF(AA117=\"\",\"\",IF(AA117=8.1,ROUND(AF110*8/100,0)+AD117,ROUND(AF110*AA117/100,0)+AD117)))","v":""}]
[]
[null,null,null,null,null,null,null,null,null,null,null,null,null,null,null,null,null,null,null,null,null,null,null,null,null,null,null,null,{"$f":"IF(AA117=\"\",\"\",IF(AA117=8.1,\"旧\",IF(AA117=8,\"軽\",IF(AA117=0,\"非\",\"\"))))","v":""}]
[]
[]
[null,"備考・通信欄"]
[]
[]
[]
[]
[]
[]
[]
[]
[]
[]
[]
[]
[]
[]
[]
[]
[]
[]
[]
[]
[]
[null,null,null,null,null,null,null,null,null,null,null,null,"請求明細書 (貴社控)"]
[]
[]
[]
[]
[]
[]
[]
[null,"株 式 会 社 小 田 道 路",null,null,null,null,null,null,null,null,null,null,null,"御中"]
[null,null,null,null,null,null,null,null,null,null,null,null,null,null,null,null,null,null,null,null,null,null,"請求年月日",null,null,null,null,{"$f":"IF(年=\"\",\"\",年)","v":""},null,null,null,{"$f":"IF(月=\"\",\"\",月)","v":""},null,null,{"$f":"IF(日=\"\",\"\",日)","v":""}]
[]
[]
[]
[]
[]
[null,"業者名",null,null,null,{"$f":"IF(社名=\"\",\"\",社名)","v":""}]
[]
[]
[]
[]
[]
[]
[null,"工事番号",null,null,null,{"$f":"IF(F25=\"\",\"\",F25)","v":""},null,null,null,"工事名",null,null,null,{"$f":"IF(N25=\"\",\"\",N25)","v":""}]
[]
[]
[]
[]
[null,"月　日",null,null,null,"摘要･品名",null,null,null,null,null,null,null,null,null,null,null,null,null,null,"数 量",null,null,"単位",null,null,"単価",null,null,null,null,"金額(税抜)"]
[]
[]
[]
[null,{"$f":"IF(B34=\"\",\"\",B34)","v":""},null,{"$f":"IF(D34=\"\",\"\",D34)","v":""},null,{"$f":"IF(F34=\"\",\"\",F34)","v":""},null,null,null,null,null,null,null,null,null,null,null,null,null,null,{"$f":"IF(U34=\"\",\"\",U34)","v":""},null,null,{"$f":"IF(X34=\"\",\"\",X34)","v":""},null,null,{"$f":"IF(AA34=\"\",\"\",AA34)","v":""},null,null,null,null,{"$f":"IF(F173=\"\",\"\",U173*AA173)","v":""}]
[]
[]
[]
[null,{"$f":"IF(B38=\"\",\"\",B38)","v":""},null,{"$f":"IF(D38=\"\",\"\",D38)","v":""},null,{"$f":"IF(F38=\"\",\"\",F38)","v":""},null,null,null,null,null,null,null,null,null,null,null,null,null,null,{"$f":"IF(U38=\"\",\"\",U38)","v":""},null,null,{"$f":"IF(X38=\"\",\"\",X38)","v":""},null,null,{"$f":"IF(AA38=\"\",\"\",AA38)","v":""},null,null,null,null,{"$f":"IF(F177=\"\",\"\",U177*AA177)","v":""}]
[]
[]
[]
[null,{"$f":"IF(B42=\"\",\"\",B42)","v":""},null,{"$f":"IF(D42=\"\",\"\",D42)","v":""},null,{"$f":"IF(F42=\"\",\"\",F42)","v":""},null,null,null,null,null,null,null,null,null,null,null,null,null,null,{"$f":"IF(U42=\"\",\"\",U42)","v":""},null,null,{"$f":"IF(X42=\"\",\"\",X42)","v":""},null,null,{"$f":"IF(AA42=\"\",\"\",AA42)","v":""},null,null,null,null,{"$f":"IF(F181=\"\",\"\",U181*AA181)","v":""}]
[]
[]
[]
[null,{"$f":"IF(B46=\"\",\"\",B46)","v":""},null,{"$f":"IF(D46=\"\",\"\",D46)","v":""},null,{"$f":"IF(F46=\"\",\"\",F46)","v":""},null,null,null,null,null,null,null,null,null,null,null,null,null,null,{"$f":"IF(U46=\"\",\"\",U46)","v":""},null,null,{"$f":"IF(X46=\"\",\"\",X46)","v":""},null,null,{"$f":"IF(AA46=\"\",\"\",AA46)","v":""},null,null,null,null,{"$f":"IF(F185=\"\",\"\",U185*AA185)","v":""}]
[]
[]
[]
[null,{"$f":"IF(B50=\"\",\"\",B50)","v":""},null,{"$f":"IF(D50=\"\",\"\",D50)","v":""},null,{"$f":"IF(F50=\"\",\"\",F50)","v":""},null,null,null,null,null,null,null,null,null,null,null,null,null,null,{"$f":"IF(U50=\"\",\"\",U50)","v":""},null,null,{"$f":"IF(X50=\"\",\"\",X50)","v":""},null,null,{"$f":"IF(AA50=\"\",\"\",AA50)","v":""},null,null,null,null,{"$f":"IF(F189=\"\",\"\",U189*AA189)","v":""}]
[]
[]
[]
[null,{"$f":"IF(B54=\"\",\"\",B54)","v":""},null,{"$f":"IF(D54=\"\",\"\",D54)","v":""},null,{"$f":"IF(F54=\"\",\"\",F54)","v":""},null,null,null,null,null,null,null,null,null,null,null,null,null,null,{"$f":"IF(U54=\"\",\"\",U54)","v":""},null,null,{"$f":"IF(X54=\"\",\"\",X54)","v":""},null,null,{"$f":"IF(AA54=\"\",\"\",AA54)","v":""},null,null,null,null,{"$f":"IF(F193=\"\",\"\",U193*AA193)","v":""}]
[]
[]
[]
[null,{"$f":"IF(B58=\"\",\"\",B58)","v":""},null,{"$f":"IF(D58=\"\",\"\",D58)","v":""},null,{"$f":"IF(F58=\"\",\"\",F58)","v":""},null,null,null,null,null,null,null,null,null,null,null,null,null,null,{"$f":"IF(U58=\"\",\"\",U58)","v":""},null,null,{"$f":"IF(X58=\"\",\"\",X58)","v":""},null,null,{"$f":"IF(AA58=\"\",\"\",AA58)","v":""},null,null,null,null,{"$f":"IF(F197=\"\",\"\",U197*AA197)","v":""}]
[]
[]
[]
[null,{"$f":"IF(B62=\"\",\"\",B62)","v":""},null,{"$f":"IF(D62=\"\",\"\",D62)","v":""},null,{"$f":"IF(F62=\"\",\"\",F62)","v":""},null,null,null,null,null,null,null,null,null,null,null,null,null,null,{"$f":"IF(U62=\"\",\"\",U62)","v":""},null,null,{"$f":"IF(X62=\"\",\"\",X62)","v":""},null,null,{"$f":"IF(AA62=\"\",\"\",AA62)","v":""},null,null,null,null,{"$f":"IF(F201=\"\",\"\",U201*AA201)","v":""}]
[]
[]
[]
[null,{"$f":"IF(B66=\"\",\"\",B66)","v":""},null,{"$f":"IF(D66=\"\",\"\",D66)","v":""},null,{"$f":"IF(F66=\"\",\"\",F66)","v":""},null,null,null,null,null,null,null,null,null,null,null,null,null,null,{"$f":"IF(U66=\"\",\"\",U66)","v":""},null,null,{"$f":"IF(X66=\"\",\"\",X66)","v":""},null,null,{"$f":"IF(AA66=\"\",\"\",AA66)","v":""},null,null,null,null,{"$f":"IF(F205=\"\",\"\",U205*AA205)","v":""}]
[]
[]
[]
[null,{"$f":"IF(B70=\"\",\"\",B70)","v":""},null,{"$f":"IF(D70=\"\",\"\",D70)","v":""},null,{"$f":"IF(F70=\"\",\"\",F70)","v":""},null,null,null,null,null,null,null,null,null,null,null,null,null,null,{"$f":"IF(U70=\"\",\"\",U70)","v":""},null,null,{"$f":"IF(X70=\"\",\"\",X70)","v":""},null,null,{"$f":"IF(AA70=\"\",\"\",AA70)","v":""},null,null,null,null,{"$f":"IF(F209=\"\",\"\",U209*AA209)","v":""}]
[]
[]
[]
[null,{"$f":"IF(B74=\"\",\"\",B74)","v":""},null,{"$f":"IF(D74=\"\",\"\",D74)","v":""},null,{"$f":"IF(F74=\"\",\"\",F74)","v":""},null,null,null,null,null,null,null,null,null,null,null,null,null,null,{"$f":"IF(U74=\"\",\"\",U74)","v":""},null,null,{"$f":"IF(X74=\"\",\"\",X74)","v":""},null,null,{"$f":"IF(AA74=\"\",\"\",AA74)","v":""},null,null,null,null,{"$f":"IF(F213=\"\",\"\",U213*AA213)","v":""}]
[]
[]
[]
[null,{"$f":"IF(B78=\"\",\"\",B78)","v":""},null,{"$f":"IF(D78=\"\",\"\",D78)","v":""},null,{"$f":"IF(F78=\"\",\"\",F78)","v":""},null,null,null,null,null,null,null,null,null,null,null,null,null,null,{"$f":"IF(U78=\"\",\"\",U78)","v":""},null,null,{"$f":"IF(X78=\"\",\"\",X78)","v":""},null,null,{"$f":"IF(AA78=\"\",\"\",AA78)","v":""},null,null,null,null,{"$f":"IF(F217=\"\",\"\",U217*AA217)","v":""}]
[]
[]
[]
[null,{"$f":"IF(B82=\"\",\"\",B82)","v":""},null,{"$f":"IF(D82=\"\",\"\",D82)","v":""},null,{"$f":"IF(F82=\"\",\"\",F82)","v":""},null,null,null,null,null,null,null,null,null,null,null,null,null,null,{"$f":"IF(U82=\"\",\"\",U82)","v":""},null,null,{"$f":"IF(X82=\"\",\"\",X82)","v":""},null,null,{"$f":"IF(AA82=\"\",\"\",AA82)","v":""},null,null,null,null,{"$f":"IF(F221=\"\",\"\",U221*AA221)","v":""}]
[]
[]
[]
[null,{"$f":"IF(B86=\"\",\"\",B86)","v":""},null,{"$f":"IF(D86=\"\",\"\",D86)","v":""},null,{"$f":"IF(F86=\"\",\"\",F86)","v":""},null,null,null,null,null,null,null,null,null,null,null,null,null,null,{"$f":"IF(U86=\"\",\"\",U86)","v":""},null,null,{"$f":"IF(X86=\"\",\"\",X86)","v":""},null,null,{"$f":"IF(AA86=\"\",\"\",AA86)","v":""},null,null,null,null,{"$f":"IF(F225=\"\",\"\",U225*AA225)","v":""}]
[]
[]
[]
[null,{"$f":"IF(B90=\"\",\"\",B90)","v":""},null,{"$f":"IF(D90=\"\",\"\",D90)","v":""},null,{"$f":"IF(F90=\"\",\"\",F90)","v":""},null,null,null,null,null,null,null,null,null,null,null,null,null,null,{"$f":"IF(U90=\"\",\"\",U90)","v":""},null,null,{"$f":"IF(X90=\"\",\"\",X90)","v":""},null,null,{"$f":"IF(AA90=\"\",\"\",AA90)","v":""},null,null,null,null,{"$f":"IF(F229=\"\",\"\",U229*AA229)","v":""}]
[]
[]
[]
[null,{"$f":"IF(B94=\"\",\"\",B94)","v":""},null,{"$f":"IF(D94=\"\",\"\",D94)","v":""},null,{"$f":"IF(F94=\"\",\"\",F94)","v":""},null,null,null,null,null,null,null,null,null,null,null,null,null,null,{"$f":"IF(U94=\"\",\"\",U94)","v":""},null,null,{"$f":"IF(X94=\"\",\"\",X94)","v":""},null,null,{"$f":"IF(AA94=\"\",\"\",AA94)","v":""},null,null,null,null,{"$f":"IF(F233=\"\",\"\",U233*AA233)","v":""}]
[]
[]
[]
[null,{"$f":"IF(B98=\"\",\"\",B98)","v":""},null,{"$f":"IF(D98=\"\",\"\",D98)","v":""},null,{"$f":"IF(F98=\"\",\"\",F98)","v":""},null,null,null,null,null,null,null,null,null,null,null,null,null,null,{"$f":"IF(U98=\"\",\"\",U98)","v":""},null,null,{"$f":"IF(X98=\"\",\"\",X98)","v":""},null,null,{"$f":"IF(AA98=\"\",\"\",AA98)","v":""},null,null,null,null,{"$f":"IF(F237=\"\",\"\",U237*AA237)","v":""}]
[]
[]
[]
[null,{"$f":"IF(B102=\"\",\"\",B102)","v":""},null,{"$f":"IF(D102=\"\",\"\",D102)","v":""},null,{"$f":"IF(F102=\"\",\"\",F102)","v":""},null,null,null,null,null,null,null,null,null,null,null,null,null,null,{"$f":"IF(U102=\"\",\"\",U102)","v":""},null,null,{"$f":"IF(X102=\"\",\"\",X102)","v":""},null,null,{"$f":"IF(AA102=\"\",\"\",AA102)","v":""},null,null,null,null,{"$f":"IF(F241=\"\",\"\",U241*AA241)","v":""}]
[]
[]
[]
[null,{"$f":"IF(B106=\"\",\"\",B106)","v":""},null,{"$f":"IF(D106=\"\",\"\",D106)","v":""},null,{"$f":"IF(F106=\"\",\"\",F106)","v":""},null,null,null,null,null,null,null,null,null,null,null,null,null,null,{"$f":"IF(U106=\"\",\"\",U106)","v":""},null,null,{"$f":"IF(X106=\"\",\"\",X106)","v":""},null,null,{"$f":"IF(AA106=\"\",\"\",AA106)","v":""},null,null,null,null,{"$f":"IF(F245=\"\",\"\",U245*AA245)","v":""}]
[]
[]
[]
[null,null,null,null,null,null,null,null,null,null,null,null,null,null,null,null,null,null,null,null,"金額(税抜)",null,null,null,null,null,null,null,null,null,null,{"$f":"IF(AF173=\"\",\"\",SUM(AF173:AF245))","v":""}]
[]
[]
[]
[]
[null,null,null,null,null,null,null,null,null,null,null,null,null,null,null,null,null,null,null,null,"消費税",null,null,null,null,null,"税率",null,null,"税調",null,{"$f":"IF(AF115=\"\",\"\",AF115)","v":""}]
[]
[null,null,null,null,null,null,null,null,null,null,null,null,null,null,null,null,null,null,null,null,null,null,null,null,null,null,{"$f":"IF(AA117=\"\",\"\",AA117)","v":""},null,{"$f":"IF(AC117=\"\",\"\",AC117)","v":""},{"$f":"IF(AD117=\"\",\"\",AD117)","v":""}]
[]
[]
[null,"備考・通信欄"]

{"sheet":"細1-9","index":10,"n_rows":259,"n_cols":35,"rows_kept":259,"cut":false,"hidden":false,"merged":[[258,1,275,2],[253,20,256,25],[253,26,254,28],[248,20,251,30],[244,1,247,2],[244,3,247,4],[244,5,247,19],[244,20,247,22],[244,23,247,25],[244,26,247,30],[244,31,247,36],[253,31,256,36],[255,26,256,27],[255,28,256,28],[255,29,256,30],[253,29,254,30],[248,31,251,36],[236,1,239,2],[236,3,239,4],[236,5,239,19],[236,20,239,22],[236,23,239,25],[236,26,239,30],[236,31,239,36],[240,1,243,2],[240,3,243,4],[240,5,243,19],[240,20,243,22],[240,23,243,25],[240,26,243,30],[240,31,243,36],[228,1,231,2],[228,3,231,4],[228,5,231,19],[228,20,231,22],[228,23,231,25],[228,26,231,30],[228,31,231,36],[232,1,235,2],[232,3,235,4],[232,5,235,19],[232,20,235,22],[232,23,235,25],[232,26,235,30],[232,31,235,36],[220,1,223,2],[220,3,223,4],[220,5,223,19],[220,20,223,22],[220,23,223,25],[220,26,223,30],[220,31,223,36],[224,1,227,2],[224,3,227,4],[224,5,227,19],[224,20,227,22],[224,23,227,25],[224,26,227,30],[224,31,227,36],[188,1,191,2],[188,3,191,4],[188,5,191,19],[188,20,191,22],[188,23,191,25],[188,26,191,30],[188,31,191,36],[212,31,215,36],[216,1,219,2],[216,3,219,4],[216,5,219,19],[216,20,219,22],[216,23,219,25],[216,26,219,30],[216,31,219,36],[200,1,203,2],[200,3,203,4],[200,5,203,19],[200,20,203,22],[200,23,203,25],[200,26,203,30],[200,31,203,36],[204,1,207,2],[204,3,207,4],[180,1,183,2],[180,3,183,4],[180,5,183,19],[180,20,183,22],[180,23,183,25],[180,26,183,30],[180,31,183,36],[184,1,187,2],[184,3,187,4],[184,5,187,19],[184,20,187,22],[184,23,187,25],[184,26,187,30],[184,31,187,36],[172,1,175,2],[172,3,175,4],[172,5,175,19],[172,20,175,22],[172,23,175,25],[172,26,175,30],[172,31,175,36],[176,1,179,2],[176,3,179,4],[176,5,179,19],[176,20,179,22],[176,23,179,25],[176,26,179,30],[176,31,179,36],[163,1,166,4],[163,5,166,8],[163,9,166,12],[163,13,166,36],[168,1,171,4],[168,5,171,19],[168,20,171,22],[168,23,171,25],[168,26,171,30],[168,31,171,36],[105,1,108,2],[105,3,108,4],[105,5,108,19],[105,20,108,22],[105,23,108,25],[105,26,108,30],[105,31,108,36],[101,1,104,2],[101,3,104,4],[101,5,104,19],[81,1,84,2],[81,3,84,4],[81,5,84,19],[81,20,84,22],[81,23,84,25],[81,26,84,30],[81,31,84,36],[101,20,104,22],[101,23,104,25],[101,26,104,30],[101,31,104,36],[93,1,96,2],[93,3,96,4],[93,5,96,19],[93,20,96,22],[93,23,96,25],[93,26,96,30],[93,31,96,36],[97,1,100,2],[97,3,100,4],[97,5,100,19],[97,20,100,22],[97,23,100,25],[97,26,100,30],[73,1,76,2],[73,3,76,4],[73,5,76,19],[73,20,76,22],[73,23,76,25],[73,26,76,30],[73,31,76,36],[77,1,80,2],[77,3,80,4],[77,5,80,19],[77,20,80,22],[77,23,80,25],[77,26,80,30],[77,31,80,36],[65,1,68,2],[65,3,68,4],[65,5,68,19],[65,20,68,22],[65,23,68,25],[65,26,68,30],[65,31,68,36],[69,1,72,2],[69,3,72,4],[69,5,72,19],[69,20,72,22],[69,23,72,25],[69,26,72,30],[69,31,72,36],[57,1,60,2],[57,3,60,4],[57,5,60,19],[57,20,60,22],[57,23,60,25],[57,26,60,30],[57,31,60,36],[61,1,64,2],[61,3,64,4],[61,5,64,19],[61,20,64,22],[61,23,64,25],[61,26,64,30],[61,31,64,36],[49,1,52,2],[49,3,52,4],[49,5,52,19],[49,20,52,22],[49,23,52,25],[49,26,52,30],[49,31,52,36],[53,1,56,2],[53,3,56,4],[53,5,56,19],[53,20,56,22],[53,23,56,25],[53,26,56,30],[53,31,56,36],[41,1,44,2],[41,3,44,4],[41,5,44,19],[41,20,44,22],[41,23,44,25],[41,26,44,30],[41,31,44,36],[45,1,48,2],[45,3,48,4],[45,5,48,19],[45,20,48,22],[45,23,48,25],[45,26,48,30],[45,31,48,36],[33,1,36,2],[33,3,36,4],[33,5,36,19],[33,20,36,22],[33,23,36,25],[33,26,36,30],[33,31,36,36],[37,1,40,2],[37,3,40,4],[37,5,40,19],[37,20,40,22],[37,23,40,25],[37,26,40,30],[37,31,40,36],[24,5,27,8],[24,9,27,12],[24,13,27,36],[29,1,32,4],[29,5,32,19],[29,20,32,22],[29,23,32,25],[29,26,32,30],[29,31,32,36],[2,12,5,25],[10,1,13,12],[85,5,88,19],[85,20,88,22],[85,23,88,25],[85,26,88,30],[85,31,88,36],[89,5,92,19],[89,20,92,22],[89,23,92,25],[89,26,92,30],[85,1,88,2],[85,3,88,4],[89,1,92,2],[89,3,92,4],[89,31,92,36],[10,13,13,14],[11,22,13,26],[11,27,13,30],[11,31,13,33],[11,34,13,36],[17,1,20,4],[17,5,20,17],[24,1,27,4],[149,1,152,12],[149,13,152,14],[150,22,152,26],[150,27,152,30],[150,31,152,33],[150,34,152,36],[156,1,159,4],[156,5,159,17],[97,31,100,36],[109,20,112,30],[109,31,112,36],[110,1,111,8],[110,9,111,13],[110,14,111,18],[112,1,117,8],[112,9,117,13],[112,14,117,18],[114,20,117,25],[114,26,115,28],[114,29,115,30],[114,31,117,36],[116,26,117,27],[116,28,117,28],[116,29,117,30],[204,31,207,36],[208,1,211,2],[208,3,211,4],[208,5,211,19],[208,20,211,22],[208,23,211,25],[208,26,211,30],[208,31,211,36],[119,1,136,2],[141,12,144,25],[196,1,199,2],[196,3,199,4],[196,5,199,19],[196,20,199,22],[196,23,199,25],[196,26,199,30],[196,31,199,36],[192,1,195,2],[192,3,195,4],[192,5,195,19],[192,20,195,22],[192,23,195,25],[192,26,195,30],[192,31,195,36],[212,1,215,2],[212,3,215,4],[212,5,215,19],[212,20,215,22],[212,23,215,25],[212,26,215,30],[204,5,207,19],[204,20,207,22],[204,23,207,25],[204,26,207,30]]}
[]
[]
[null,null,null,null,null,null,null,null,null,null,null,null,"請求明細書 (正)"]
[]
[]
[]
[]
[]
[]
[]
[null,"株 式 会 社 小 田 道 路",null,null,null,null,null,null,null,null,null,null,null,"御中"]
[null,null,null,null,null,null,null,null,null,null,null,null,null,null,null,null,null,null,null,null,null,null,"請求年月日",null,null,null,null,{"$f":"IF(年=\"\",\"\",年)","v":""},null,null,null,{"$f":"IF(月=\"\",\"\",月)","v":""},null,null,{"$f":"IF(日=\"\",\"\",日)","v":""}]
[]
[]
[]
[]
[]
[null,"業者名",null,null,null,{"$f":"IF(社名=\"\",\"\",社名)","v":""}]
[]
[]
[]
[]
[]
[]
[null,"工事番号",null,null,null,null,null,null,null,"工事名"]
[]
[]
[]
[]
[null,"月 日",null,null,null,"品 名・内 訳",null,null,null,null,null,null,null,null,null,null,null,null,null,null,"数 量",null,null,"単位",null,null,"単価",null,null,null,null,"金額(税抜)"]
[]
[]
[]
[null,null,null,null,null,null,null,null,null,null,null,null,null,null,null,null,null,null,null,null,null,null,null,null,null,null,null,null,null,null,null,{"$f":"IF(F34=\"\",\"\",ROUND(U34*AA34,0))","v":""}]
[]
[]
[]
[null,null,null,null,null,null,null,null,null,null,null,null,null,null,null,null,null,null,null,null,null,null,null,null,null,null,null,null,null,null,null,{"$f":"IF(F38=\"\",\"\",ROUND(U38*AA38,0))","v":""}]
[]
[]
[]
[null,null,null,null,null,null,null,null,null,null,null,null,null,null,null,null,null,null,null,null,null,null,null,null,null,null,null,null,null,null,null,{"$f":"IF(F42=\"\",\"\",ROUND(U42*AA42,0))","v":""}]
[]
[]
[]
[null,null,null,null,null,null,null,null,null,null,null,null,null,null,null,null,null,null,null,null,null,null,null,null,null,null,null,null,null,null,null,{"$f":"IF(F46=\"\",\"\",ROUND(U46*AA46,0))","v":""}]
[]
[]
[]
[null,null,null,null,null,null,null,null,null,null,null,null,null,null,null,null,null,null,null,null,null,null,null,null,null,null,null,null,null,null,null,{"$f":"IF(F50=\"\",\"\",ROUND(U50*AA50,0))","v":""}]
[]
[]
[]
[null,null,null,null,null,null,null,null,null,null,null,null,null,null,null,null,null,null,null,null,null,null,null,null,null,null,null,null,null,null,null,{"$f":"IF(F54=\"\",\"\",ROUND(U54*AA54,0))","v":""}]
[]
[]
[]
[null,null,null,null,null,null,null,null,null,null,null,null,null,null,null,null,null,null,null,null,null,null,null,null,null,null,null,null,null,null,null,{"$f":"IF(F58=\"\",\"\",ROUND(U58*AA58,0))","v":""}]
[]
[]
[]
[null,null,null,null,null,null,null,null,null,null,null,null,null,null,null,null,null,null,null,null,null,null,null,null,null,null,null,null,null,null,null,{"$f":"IF(F62=\"\",\"\",ROUND(U62*AA62,0))","v":""}]
[]
[]
[]
[null,null,null,null,null,null,null,null,null,null,null,null,null,null,null,null,null,null,null,null,null,null,null,null,null,null,null,null,null,null,null,{"$f":"IF(F66=\"\",\"\",ROUND(U66*AA66,0))","v":""}]
[]
[]
[]
[null,null,null,null,null,null,null,null,null,null,null,null,null,null,null,null,null,null,null,null,null,null,null,null,null,null,null,null,null,null,null,{"$f":"IF(F70=\"\",\"\",ROUND(U70*AA70,0))","v":""}]
[]
[]
[]
[null,null,null,null,null,null,null,null,null,null,null,null,null,null,null,null,null,null,null,null,null,null,null,null,null,null,null,null,null,null,null,{"$f":"IF(F74=\"\",\"\",ROUND(U74*AA74,0))","v":""}]
[]
[]
[]
[null,null,null,null,null,null,null,null,null,null,null,null,null,null,null,null,null,null,null,null,null,null,null,null,null,null,null,null,null,null,null,{"$f":"IF(F78=\"\",\"\",ROUND(U78*AA78,0))","v":""}]
[]
[]
[]
[null,null,null,null,null,null,null,null,null,null,null,null,null,null,null,null,null,null,null,null,null,null,null,null,null,null,null,null,null,null,null,{"$f":"IF(F82=\"\",\"\",ROUND(U82*AA82,0))","v":""}]
[]
[]
[]
[null,null,null,null,null,null,null,null,null,null,null,null,null,null,null,null,null,null,null,null,null,null,null,null,null,null,null,null,null,null,null,{"$f":"IF(F86=\"\",\"\",ROUND(U86*AA86,0))","v":""}]
[]
[]
[]
[null,null,null,null,null,null,null,null,null,null,null,null,null,null,null,null,null,null,null,null,null,null,null,null,null,null,null,null,null,null,null,{"$f":"IF(F90=\"\",\"\",ROUND(U90*AA90,0))","v":""}]
[]
[]
[]
[null,null,null,null,null,null,null,null,null,null,null,null,null,null,null,null,null,null,null,null,null,null,null,null,null,null,null,null,null,null,null,{"$f":"IF(F94=\"\",\"\",ROUND(U94*AA94,0))","v":""}]
[]
[]
[]
[null,null,null,null,null,null,null,null,null,null,null,null,null,null,null,null,null,null,null,null,null,null,null,null,null,null,null,null,null,null,null,{"$f":"IF(F98=\"\",\"\",ROUND(U98*AA98,0))","v":""}]
[]
[]
[]
[null,null,null,null,null,null,null,null,null,null,null,null,null,null,null,null,null,null,null,null,null,null,null,null,null,null,null,null,null,null,null,{"$f":"IF(F102=\"\",\"\",ROUND(U102*AA102,0))","v":""}]
[]
[]
[]
[null,null,null,null,null,null,null,null,null,null,null,null,null,null,null,null,null,null,null,null,null,null,null,null,null,null,null,null,null,null,null,{"$f":"IF(F106=\"\",\"\",ROUND(U106*AA106,0))","v":""}]
[]
[]
[]
[null,null,null,null,null,null,null,null,null,null,null,null,null,null,null,null,null,null,null,null,"金額(税抜)",null,null,null,null,null,null,null,null,null,null,{"$f":"IF(AF34=\"\",\"\",SUM(AF34:AF106))","v":""}]
[null,"部長",null,null,null,null,null,null,null,"担当者",null,null,null,null,"受付"]
[]
[]
[]
[null,null,null,null,null,null,null,null,null,null,null,null,null,null,null,null,null,null,null,null,"消費税",null,null,null,null,null,"税率",null,null,"税調",null,{"$f":"IF(AF110=\"\",\"\",IF(AA117=\"\",\"\",IF(AA117=8.1,ROUND(AF110*8/100,0)+AD117,ROUND(AF110*AA117/100,0)+AD117)))","v":""}]
[]
[null,null,null,null,null,null,null,null,null,null,null,null,null,null,null,null,null,null,null,null,null,null,null,null,null,null,null,null,{"$f":"IF(AA117=\"\",\"\",IF(AA117=8.1,\"旧\",IF(AA117=8,\"軽\",IF(AA117=0,\"非\",\"\"))))","v":""}]
[]
[]
[null,"備考・通信欄"]
[]
[]
[]
[]
[]
[]
[]
[]
[]
[]
[]
[]
[]
[]
[]
[]
[]
[]
[]
[]
[]
[null,null,null,null,null,null,null,null,null,null,null,null,"請求明細書 (貴社控)"]
[]
[]
[]
[]
[]
[]
[]
[null,"株 式 会 社 小 田 道 路",null,null,null,null,null,null,null,null,null,null,null,"御中"]
[null,null,null,null,null,null,null,null,null,null,null,null,null,null,null,null,null,null,null,null,null,null,"請求年月日",null,null,null,null,{"$f":"IF(年=\"\",\"\",年)","v":""},null,null,null,{"$f":"IF(月=\"\",\"\",月)","v":""},null,null,{"$f":"IF(日=\"\",\"\",日)","v":""}]
[]
[]
[]
[]
[]
[null,"業者名",null,null,null,{"$f":"IF(社名=\"\",\"\",社名)","v":""}]
[]
[]
[]
[]
[]
[]
[null,"工事番号",null,null,null,{"$f":"IF(F25=\"\",\"\",F25)","v":""},null,null,null,"工事名",null,null,null,{"$f":"IF(N25=\"\",\"\",N25)","v":""}]
[]
[]
[]
[]
[null,"月　日",null,null,null,"摘要･品名",null,null,null,null,null,null,null,null,null,null,null,null,null,null,"数 量",null,null,"単位",null,null,"単価",null,null,null,null,"金額(税抜)"]
[]
[]
[]
[null,{"$f":"IF(B34=\"\",\"\",B34)","v":""},null,{"$f":"IF(D34=\"\",\"\",D34)","v":""},null,{"$f":"IF(F34=\"\",\"\",F34)","v":""},null,null,null,null,null,null,null,null,null,null,null,null,null,null,{"$f":"IF(U34=\"\",\"\",U34)","v":""},null,null,{"$f":"IF(X34=\"\",\"\",X34)","v":""},null,null,{"$f":"IF(AA34=\"\",\"\",AA34)","v":""},null,null,null,null,{"$f":"IF(F173=\"\",\"\",U173*AA173)","v":""}]
[]
[]
[]
[null,{"$f":"IF(B38=\"\",\"\",B38)","v":""},null,{"$f":"IF(D38=\"\",\"\",D38)","v":""},null,{"$f":"IF(F38=\"\",\"\",F38)","v":""},null,null,null,null,null,null,null,null,null,null,null,null,null,null,{"$f":"IF(U38=\"\",\"\",U38)","v":""},null,null,{"$f":"IF(X38=\"\",\"\",X38)","v":""},null,null,{"$f":"IF(AA38=\"\",\"\",AA38)","v":""},null,null,null,null,{"$f":"IF(F177=\"\",\"\",U177*AA177)","v":""}]
[]
[]
[]
[null,{"$f":"IF(B42=\"\",\"\",B42)","v":""},null,{"$f":"IF(D42=\"\",\"\",D42)","v":""},null,{"$f":"IF(F42=\"\",\"\",F42)","v":""},null,null,null,null,null,null,null,null,null,null,null,null,null,null,{"$f":"IF(U42=\"\",\"\",U42)","v":""},null,null,{"$f":"IF(X42=\"\",\"\",X42)","v":""},null,null,{"$f":"IF(AA42=\"\",\"\",AA42)","v":""},null,null,null,null,{"$f":"IF(F181=\"\",\"\",U181*AA181)","v":""}]
[]
[]
[]
[null,{"$f":"IF(B46=\"\",\"\",B46)","v":""},null,{"$f":"IF(D46=\"\",\"\",D46)","v":""},null,{"$f":"IF(F46=\"\",\"\",F46)","v":""},null,null,null,null,null,null,null,null,null,null,null,null,null,null,{"$f":"IF(U46=\"\",\"\",U46)","v":""},null,null,{"$f":"IF(X46=\"\",\"\",X46)","v":""},null,null,{"$f":"IF(AA46=\"\",\"\",AA46)","v":""},null,null,null,null,{"$f":"IF(F185=\"\",\"\",U185*AA185)","v":""}]
[]
[]
[]
[null,{"$f":"IF(B50=\"\",\"\",B50)","v":""},null,{"$f":"IF(D50=\"\",\"\",D50)","v":""},null,{"$f":"IF(F50=\"\",\"\",F50)","v":""},null,null,null,null,null,null,null,null,null,null,null,null,null,null,{"$f":"IF(U50=\"\",\"\",U50)","v":""},null,null,{"$f":"IF(X50=\"\",\"\",X50)","v":""},null,null,{"$f":"IF(AA50=\"\",\"\",AA50)","v":""},null,null,null,null,{"$f":"IF(F189=\"\",\"\",U189*AA189)","v":""}]
[]
[]
[]
[null,{"$f":"IF(B54=\"\",\"\",B54)","v":""},null,{"$f":"IF(D54=\"\",\"\",D54)","v":""},null,{"$f":"IF(F54=\"\",\"\",F54)","v":""},null,null,null,null,null,null,null,null,null,null,null,null,null,null,{"$f":"IF(U54=\"\",\"\",U54)","v":""},null,null,{"$f":"IF(X54=\"\",\"\",X54)","v":""},null,null,{"$f":"IF(AA54=\"\",\"\",AA54)","v":""},null,null,null,null,{"$f":"IF(F193=\"\",\"\",U193*AA193)","v":""}]
[]
[]
[]
[null,{"$f":"IF(B58=\"\",\"\",B58)","v":""},null,{"$f":"IF(D58=\"\",\"\",D58)","v":""},null,{"$f":"IF(F58=\"\",\"\",F58)","v":""},null,null,null,null,null,null,null,null,null,null,null,null,null,null,{"$f":"IF(U58=\"\",\"\",U58)","v":""},null,null,{"$f":"IF(X58=\"\",\"\",X58)","v":""},null,null,{"$f":"IF(AA58=\"\",\"\",AA58)","v":""},null,null,null,null,{"$f":"IF(F197=\"\",\"\",U197*AA197)","v":""}]
[]
[]
[]
[null,{"$f":"IF(B62=\"\",\"\",B62)","v":""},null,{"$f":"IF(D62=\"\",\"\",D62)","v":""},null,{"$f":"IF(F62=\"\",\"\",F62)","v":""},null,null,null,null,null,null,null,null,null,null,null,null,null,null,{"$f":"IF(U62=\"\",\"\",U62)","v":""},null,null,{"$f":"IF(X62=\"\",\"\",X62)","v":""},null,null,{"$f":"IF(AA62=\"\",\"\",AA62)","v":""},null,null,null,null,{"$f":"IF(F201=\"\",\"\",U201*AA201)","v":""}]
[]
[]
[]
[null,{"$f":"IF(B66=\"\",\"\",B66)","v":""},null,{"$f":"IF(D66=\"\",\"\",D66)","v":""},null,{"$f":"IF(F66=\"\",\"\",F66)","v":""},null,null,null,null,null,null,null,null,null,null,null,null,null,null,{"$f":"IF(U66=\"\",\"\",U66)","v":""},null,null,{"$f":"IF(X66=\"\",\"\",X66)","v":""},null,null,{"$f":"IF(AA66=\"\",\"\",AA66)","v":""},null,null,null,null,{"$f":"IF(F205=\"\",\"\",U205*AA205)","v":""}]
[]
[]
[]
[null,{"$f":"IF(B70=\"\",\"\",B70)","v":""},null,{"$f":"IF(D70=\"\",\"\",D70)","v":""},null,{"$f":"IF(F70=\"\",\"\",F70)","v":""},null,null,null,null,null,null,null,null,null,null,null,null,null,null,{"$f":"IF(U70=\"\",\"\",U70)","v":""},null,null,{"$f":"IF(X70=\"\",\"\",X70)","v":""},null,null,{"$f":"IF(AA70=\"\",\"\",AA70)","v":""},null,null,null,null,{"$f":"IF(F209=\"\",\"\",U209*AA209)","v":""}]
[]
[]
[]
[null,{"$f":"IF(B74=\"\",\"\",B74)","v":""},null,{"$f":"IF(D74=\"\",\"\",D74)","v":""},null,{"$f":"IF(F74=\"\",\"\",F74)","v":""},null,null,null,null,null,null,null,null,null,null,null,null,null,null,{"$f":"IF(U74=\"\",\"\",U74)","v":""},null,null,{"$f":"IF(X74=\"\",\"\",X74)","v":""},null,null,{"$f":"IF(AA74=\"\",\"\",AA74)","v":""},null,null,null,null,{"$f":"IF(F213=\"\",\"\",U213*AA213)","v":""}]
[]
[]
[]
[null,{"$f":"IF(B78=\"\",\"\",B78)","v":""},null,{"$f":"IF(D78=\"\",\"\",D78)","v":""},null,{"$f":"IF(F78=\"\",\"\",F78)","v":""},null,null,null,null,null,null,null,null,null,null,null,null,null,null,{"$f":"IF(U78=\"\",\"\",U78)","v":""},null,null,{"$f":"IF(X78=\"\",\"\",X78)","v":""},null,null,{"$f":"IF(AA78=\"\",\"\",AA78)","v":""},null,null,null,null,{"$f":"IF(F217=\"\",\"\",U217*AA217)","v":""}]
[]
[]
[]
[null,{"$f":"IF(B82=\"\",\"\",B82)","v":""},null,{"$f":"IF(D82=\"\",\"\",D82)","v":""},null,{"$f":"IF(F82=\"\",\"\",F82)","v":""},null,null,null,null,null,null,null,null,null,null,null,null,null,null,{"$f":"IF(U82=\"\",\"\",U82)","v":""},null,null,{"$f":"IF(X82=\"\",\"\",X82)","v":""},null,null,{"$f":"IF(AA82=\"\",\"\",AA82)","v":""},null,null,null,null,{"$f":"IF(F221=\"\",\"\",U221*AA221)","v":""}]
[]
[]
[]
[null,{"$f":"IF(B86=\"\",\"\",B86)","v":""},null,{"$f":"IF(D86=\"\",\"\",D86)","v":""},null,{"$f":"IF(F86=\"\",\"\",F86)","v":""},null,null,null,null,null,null,null,null,null,null,null,null,null,null,{"$f":"IF(U86=\"\",\"\",U86)","v":""},null,null,{"$f":"IF(X86=\"\",\"\",X86)","v":""},null,null,{"$f":"IF(AA86=\"\",\"\",AA86)","v":""},null,null,null,null,{"$f":"IF(F225=\"\",\"\",U225*AA225)","v":""}]
[]
[]
[]
[null,{"$f":"IF(B90=\"\",\"\",B90)","v":""},null,{"$f":"IF(D90=\"\",\"\",D90)","v":""},null,{"$f":"IF(F90=\"\",\"\",F90)","v":""},null,null,null,null,null,null,null,null,null,null,null,null,null,null,{"$f":"IF(U90=\"\",\"\",U90)","v":""},null,null,{"$f":"IF(X90=\"\",\"\",X90)","v":""},null,null,{"$f":"IF(AA90=\"\",\"\",AA90)","v":""},null,null,null,null,{"$f":"IF(F229=\"\",\"\",U229*AA229)","v":""}]
[]
[]
[]
[null,{"$f":"IF(B94=\"\",\"\",B94)","v":""},null,{"$f":"IF(D94=\"\",\"\",D94)","v":""},null,{"$f":"IF(F94=\"\",\"\",F94)","v":""},null,null,null,null,null,null,null,null,null,null,null,null,null,null,{"$f":"IF(U94=\"\",\"\",U94)","v":""},null,null,{"$f":"IF(X94=\"\",\"\",X94)","v":""},null,null,{"$f":"IF(AA94=\"\",\"\",AA94)","v":""},null,null,null,null,{"$f":"IF(F233=\"\",\"\",U233*AA233)","v":""}]
[]
[]
[]
[null,{"$f":"IF(B98=\"\",\"\",B98)","v":""},null,{"$f":"IF(D98=\"\",\"\",D98)","v":""},null,{"$f":"IF(F98=\"\",\"\",F98)","v":""},null,null,null,null,null,null,null,null,null,null,null,null,null,null,{"$f":"IF(U98=\"\",\"\",U98)","v":""},null,null,{"$f":"IF(X98=\"\",\"\",X98)","v":""},null,null,{"$f":"IF(AA98=\"\",\"\",AA98)","v":""},null,null,null,null,{"$f":"IF(F237=\"\",\"\",U237*AA237)","v":""}]
[]
[]
[]
[null,{"$f":"IF(B102=\"\",\"\",B102)","v":""},null,{"$f":"IF(D102=\"\",\"\",D102)","v":""},null,{"$f":"IF(F102=\"\",\"\",F102)","v":""},null,null,null,null,null,null,null,null,null,null,null,null,null,null,{"$f":"IF(U102=\"\",\"\",U102)","v":""},null,null,{"$f":"IF(X102=\"\",\"\",X102)","v":""},null,null,{"$f":"IF(AA102=\"\",\"\",AA102)","v":""},null,null,null,null,{"$f":"IF(F241=\"\",\"\",U241*AA241)","v":""}]
[]
[]
[]
[null,{"$f":"IF(B106=\"\",\"\",B106)","v":""},null,{"$f":"IF(D106=\"\",\"\",D106)","v":""},null,{"$f":"IF(F106=\"\",\"\",F106)","v":""},null,null,null,null,null,null,null,null,null,null,null,null,null,null,{"$f":"IF(U106=\"\",\"\",U106)","v":""},null,null,{"$f":"IF(X106=\"\",\"\",X106)","v":""},null,null,{"$f":"IF(AA106=\"\",\"\",AA106)","v":""},null,null,null,null,{"$f":"IF(F245=\"\",\"\",U245*AA245)","v":""}]
[]
[]
[]
[null,null,null,null,null,null,null,null,null,null,null,null,null,null,null,null,null,null,null,null,"金額(税抜)",null,null,null,null,null,null,null,null,null,null,{"$f":"IF(AF173=\"\",\"\",SUM(AF173:AF245))","v":""}]
[]
[]
[]
[]
[null,null,null,null,null,null,null,null,null,null,null,null,null,null,null,null,null,null,null,null,"消費税",null,null,null,null,null,"税率",null,null,"税調",null,{"$f":"IF(AF115=\"\",\"\",AF115)","v":""}]
[]
[null,null,null,null,null,null,null,null,null,null,null,null,null,null,null,null,null,null,null,null,null,null,null,null,null,null,{"$f":"IF(AA117=\"\",\"\",AA117)","v":""},null,{"$f":"IF(AC117=\"\",\"\",AC117)","v":""},{"$f":"IF(AD117=\"\",\"\",AD117)","v":""}]
[]
[]
[null,"備考・通信欄"]

{"sheet":"細1-10","index":11,"n_rows":259,"n_cols":35,"rows_kept":259,"cut":false,"hidden":false,"merged":[[258,1,275,2],[253,20,256,25],[253,26,254,28],[248,20,251,30],[244,1,247,2],[244,3,247,4],[244,5,247,19],[244,20,247,22],[244,23,247,25],[244,26,247,30],[244,31,247,36],[253,31,256,36],[255,26,256,27],[255,28,256,28],[255,29,256,30],[253,29,254,30],[248,31,251,36],[236,1,239,2],[236,3,239,4],[236,5,239,19],[236,20,239,22],[236,23,239,25],[236,26,239,30],[236,31,239,36],[240,1,243,2],[240,3,243,4],[240,5,243,19],[240,20,243,22],[240,23,243,25],[240,26,243,30],[240,31,243,36],[228,1,231,2],[228,3,231,4],[228,5,231,19],[228,20,231,22],[228,23,231,25],[228,26,231,30],[228,31,231,36],[232,1,235,2],[232,3,235,4],[232,5,235,19],[232,20,235,22],[232,23,235,25],[232,26,235,30],[232,31,235,36],[220,1,223,2],[220,3,223,4],[220,5,223,19],[220,20,223,22],[220,23,223,25],[220,26,223,30],[220,31,223,36],[224,1,227,2],[224,3,227,4],[224,5,227,19],[224,20,227,22],[224,23,227,25],[224,26,227,30],[224,31,227,36],[188,1,191,2],[188,3,191,4],[188,5,191,19],[188,20,191,22],[188,23,191,25],[188,26,191,30],[188,31,191,36],[212,31,215,36],[216,1,219,2],[216,3,219,4],[216,5,219,19],[216,20,219,22],[216,23,219,25],[216,26,219,30],[216,31,219,36],[200,1,203,2],[200,3,203,4],[200,5,203,19],[200,20,203,22],[200,23,203,25],[200,26,203,30],[200,31,203,36],[204,1,207,2],[204,3,207,4],[180,1,183,2],[180,3,183,4],[180,5,183,19],[180,20,183,22],[180,23,183,25],[180,26,183,30],[180,31,183,36],[184,1,187,2],[184,3,187,4],[184,5,187,19],[184,20,187,22],[184,23,187,25],[184,26,187,30],[184,31,187,36],[172,1,175,2],[172,3,175,4],[172,5,175,19],[172,20,175,22],[172,23,175,25],[172,26,175,30],[172,31,175,36],[176,1,179,2],[176,3,179,4],[176,5,179,19],[176,20,179,22],[176,23,179,25],[176,26,179,30],[176,31,179,36],[163,1,166,4],[163,5,166,8],[163,9,166,12],[163,13,166,36],[168,1,171,4],[168,5,171,19],[168,20,171,22],[168,23,171,25],[168,26,171,30],[168,31,171,36],[105,1,108,2],[105,3,108,4],[105,5,108,19],[105,20,108,22],[105,23,108,25],[105,26,108,30],[105,31,108,36],[101,1,104,2],[101,3,104,4],[101,5,104,19],[81,1,84,2],[81,3,84,4],[81,5,84,19],[81,20,84,22],[81,23,84,25],[81,26,84,30],[81,31,84,36],[101,20,104,22],[101,23,104,25],[101,26,104,30],[101,31,104,36],[93,1,96,2],[93,3,96,4],[93,5,96,19],[93,20,96,22],[93,23,96,25],[93,26,96,30],[93,31,96,36],[97,1,100,2],[97,3,100,4],[97,5,100,19],[97,20,100,22],[97,23,100,25],[97,26,100,30],[73,1,76,2],[73,3,76,4],[73,5,76,19],[73,20,76,22],[73,23,76,25],[73,26,76,30],[73,31,76,36],[77,1,80,2],[77,3,80,4],[77,5,80,19],[77,20,80,22],[77,23,80,25],[77,26,80,30],[77,31,80,36],[65,1,68,2],[65,3,68,4],[65,5,68,19],[65,20,68,22],[65,23,68,25],[65,26,68,30],[65,31,68,36],[69,1,72,2],[69,3,72,4],[69,5,72,19],[69,20,72,22],[69,23,72,25],[69,26,72,30],[69,31,72,36],[57,1,60,2],[57,3,60,4],[57,5,60,19],[57,20,60,22],[57,23,60,25],[57,26,60,30],[57,31,60,36],[61,1,64,2],[61,3,64,4],[61,5,64,19],[61,20,64,22],[61,23,64,25],[61,26,64,30],[61,31,64,36],[49,1,52,2],[49,3,52,4],[49,5,52,19],[49,20,52,22],[49,23,52,25],[49,26,52,30],[49,31,52,36],[53,1,56,2],[53,3,56,4],[53,5,56,19],[53,20,56,22],[53,23,56,25],[53,26,56,30],[53,31,56,36],[41,1,44,2],[41,3,44,4],[41,5,44,19],[41,20,44,22],[41,23,44,25],[41,26,44,30],[41,31,44,36],[45,1,48,2],[45,3,48,4],[45,5,48,19],[45,20,48,22],[45,23,48,25],[45,26,48,30],[45,31,48,36],[33,1,36,2],[33,3,36,4],[33,5,36,19],[33,20,36,22],[33,23,36,25],[33,26,36,30],[33,31,36,36],[37,1,40,2],[37,3,40,4],[37,5,40,19],[37,20,40,22],[37,23,40,25],[37,26,40,30],[37,31,40,36],[24,5,27,8],[24,9,27,12],[24,13,27,36],[29,1,32,4],[29,5,32,19],[29,20,32,22],[29,23,32,25],[29,26,32,30],[29,31,32,36],[2,12,5,25],[10,1,13,12],[85,5,88,19],[85,20,88,22],[85,23,88,25],[85,26,88,30],[85,31,88,36],[89,5,92,19],[89,20,92,22],[89,23,92,25],[89,26,92,30],[85,1,88,2],[85,3,88,4],[89,1,92,2],[89,3,92,4],[89,31,92,36],[10,13,13,14],[11,22,13,26],[11,27,13,30],[11,31,13,33],[11,34,13,36],[17,1,20,4],[17,5,20,17],[24,1,27,4],[149,1,152,12],[149,13,152,14],[150,22,152,26],[150,27,152,30],[150,31,152,33],[150,34,152,36],[156,1,159,4],[156,5,159,17],[97,31,100,36],[109,20,112,30],[109,31,112,36],[110,1,111,8],[110,9,111,13],[110,14,111,18],[112,1,117,8],[112,9,117,13],[112,14,117,18],[114,20,117,25],[114,26,115,28],[114,29,115,30],[114,31,117,36],[116,26,117,27],[116,28,117,28],[116,29,117,30],[204,31,207,36],[208,1,211,2],[208,3,211,4],[208,5,211,19],[208,20,211,22],[208,23,211,25],[208,26,211,30],[208,31,211,36],[119,1,136,2],[141,12,144,25],[196,1,199,2],[196,3,199,4],[196,5,199,19],[196,20,199,22],[196,23,199,25],[196,26,199,30],[196,31,199,36],[192,1,195,2],[192,3,195,4],[192,5,195,19],[192,20,195,22],[192,23,195,25],[192,26,195,30],[192,31,195,36],[212,1,215,2],[212,3,215,4],[212,5,215,19],[212,20,215,22],[212,23,215,25],[212,26,215,30],[204,5,207,19],[204,20,207,22],[204,23,207,25],[204,26,207,30]]}
[]
[]
[null,null,null,null,null,null,null,null,null,null,null,null,"請求明細書 (正)"]
[]
[]
[]
[]
[]
[]
[]
[null,"株 式 会 社 小 田 道 路",null,null,null,null,null,null,null,null,null,null,null,"御中"]
[null,null,null,null,null,null,null,null,null,null,null,null,null,null,null,null,null,null,null,null,null,null,"請求年月日",null,null,null,null,{"$f":"IF(年=\"\",\"\",年)","v":""},null,null,null,{"$f":"IF(月=\"\",\"\",月)","v":""},null,null,{"$f":"IF(日=\"\",\"\",日)","v":""}]
[]
[]
[]
[]
[]
[null,"業者名",null,null,null,{"$f":"IF(社名=\"\",\"\",社名)","v":""}]
[]
[]
[]
[]
[]
[]
[null,"工事番号",null,null,null,null,null,null,null,"工事名"]
[]
[]
[]
[]
[null,"月 日",null,null,null,"品 名・内 訳",null,null,null,null,null,null,null,null,null,null,null,null,null,null,"数 量",null,null,"単位",null,null,"単価",null,null,null,null,"金額(税抜)"]
[]
[]
[]
[null,null,null,null,null,null,null,null,null,null,null,null,null,null,null,null,null,null,null,null,null,null,null,null,null,null,null,null,null,null,null,{"$f":"IF(F34=\"\",\"\",ROUND(U34*AA34,0))","v":""}]
[]
[]
[]
[null,null,null,null,null,null,null,null,null,null,null,null,null,null,null,null,null,null,null,null,null,null,null,null,null,null,null,null,null,null,null,{"$f":"IF(F38=\"\",\"\",ROUND(U38*AA38,0))","v":""}]
[]
[]
[]
[null,null,null,null,null,null,null,null,null,null,null,null,null,null,null,null,null,null,null,null,null,null,null,null,null,null,null,null,null,null,null,{"$f":"IF(F42=\"\",\"\",ROUND(U42*AA42,0))","v":""}]
[]
[]
[]
[null,null,null,null,null,null,null,null,null,null,null,null,null,null,null,null,null,null,null,null,null,null,null,null,null,null,null,null,null,null,null,{"$f":"IF(F46=\"\",\"\",ROUND(U46*AA46,0))","v":""}]
[]
[]
[]
[null,null,null,null,null,null,null,null,null,null,null,null,null,null,null,null,null,null,null,null,null,null,null,null,null,null,null,null,null,null,null,{"$f":"IF(F50=\"\",\"\",ROUND(U50*AA50,0))","v":""}]
[]
[]
[]
[null,null,null,null,null,null,null,null,null,null,null,null,null,null,null,null,null,null,null,null,null,null,null,null,null,null,null,null,null,null,null,{"$f":"IF(F54=\"\",\"\",ROUND(U54*AA54,0))","v":""}]
[]
[]
[]
[null,null,null,null,null,null,null,null,null,null,null,null,null,null,null,null,null,null,null,null,null,null,null,null,null,null,null,null,null,null,null,{"$f":"IF(F58=\"\",\"\",ROUND(U58*AA58,0))","v":""}]
[]
[]
[]
[null,null,null,null,null,null,null,null,null,null,null,null,null,null,null,null,null,null,null,null,null,null,null,null,null,null,null,null,null,null,null,{"$f":"IF(F62=\"\",\"\",ROUND(U62*AA62,0))","v":""}]
[]
[]
[]
[null,null,null,null,null,null,null,null,null,null,null,null,null,null,null,null,null,null,null,null,null,null,null,null,null,null,null,null,null,null,null,{"$f":"IF(F66=\"\",\"\",ROUND(U66*AA66,0))","v":""}]
[]
[]
[]
[null,null,null,null,null,null,null,null,null,null,null,null,null,null,null,null,null,null,null,null,null,null,null,null,null,null,null,null,null,null,null,{"$f":"IF(F70=\"\",\"\",ROUND(U70*AA70,0))","v":""}]
[]
[]
[]
[null,null,null,null,null,null,null,null,null,null,null,null,null,null,null,null,null,null,null,null,null,null,null,null,null,null,null,null,null,null,null,{"$f":"IF(F74=\"\",\"\",ROUND(U74*AA74,0))","v":""}]
[]
[]
[]
[null,null,null,null,null,null,null,null,null,null,null,null,null,null,null,null,null,null,null,null,null,null,null,null,null,null,null,null,null,null,null,{"$f":"IF(F78=\"\",\"\",ROUND(U78*AA78,0))","v":""}]
[]
[]
[]
[null,null,null,null,null,null,null,null,null,null,null,null,null,null,null,null,null,null,null,null,null,null,null,null,null,null,null,null,null,null,null,{"$f":"IF(F82=\"\",\"\",ROUND(U82*AA82,0))","v":""}]
[]
[]
[]
[null,null,null,null,null,null,null,null,null,null,null,null,null,null,null,null,null,null,null,null,null,null,null,null,null,null,null,null,null,null,null,{"$f":"IF(F86=\"\",\"\",ROUND(U86*AA86,0))","v":""}]
[]
[]
[]
[null,null,null,null,null,null,null,null,null,null,null,null,null,null,null,null,null,null,null,null,null,null,null,null,null,null,null,null,null,null,null,{"$f":"IF(F90=\"\",\"\",ROUND(U90*AA90,0))","v":""}]
[]
[]
[]
[null,null,null,null,null,null,null,null,null,null,null,null,null,null,null,null,null,null,null,null,null,null,null,null,null,null,null,null,null,null,null,{"$f":"IF(F94=\"\",\"\",ROUND(U94*AA94,0))","v":""}]
[]
[]
[]
[null,null,null,null,null,null,null,null,null,null,null,null,null,null,null,null,null,null,null,null,null,null,null,null,null,null,null,null,null,null,null,{"$f":"IF(F98=\"\",\"\",ROUND(U98*AA98,0))","v":""}]
[]
[]
[]
[null,null,null,null,null,null,null,null,null,null,null,null,null,null,null,null,null,null,null,null,null,null,null,null,null,null,null,null,null,null,null,{"$f":"IF(F102=\"\",\"\",ROUND(U102*AA102,0))","v":""}]
[]
[]
[]
[null,null,null,null,null,null,null,null,null,null,null,null,null,null,null,null,null,null,null,null,null,null,null,null,null,null,null,null,null,null,null,{"$f":"IF(F106=\"\",\"\",ROUND(U106*AA106,0))","v":""}]
[]
[]
[]
[null,null,null,null,null,null,null,null,null,null,null,null,null,null,null,null,null,null,null,null,"金額(税抜)",null,null,null,null,null,null,null,null,null,null,{"$f":"IF(AF34=\"\",\"\",SUM(AF34:AF106))","v":""}]
[null,"部長",null,null,null,null,null,null,null,"担当者",null,null,null,null,"受付"]
[]
[]
[]
[null,null,null,null,null,null,null,null,null,null,null,null,null,null,null,null,null,null,null,null,"消費税",null,null,null,null,null,"税率",null,null,"税調",null,{"$f":"IF(AF110=\"\",\"\",IF(AA117=\"\",\"\",IF(AA117=8.1,ROUND(AF110*8/100,0)+AD117,ROUND(AF110*AA117/100,0)+AD117)))","v":""}]
[]
[null,null,null,null,null,null,null,null,null,null,null,null,null,null,null,null,null,null,null,null,null,null,null,null,null,null,null,null,{"$f":"IF(AA117=\"\",\"\",IF(AA117=8.1,\"旧\",IF(AA117=8,\"軽\",IF(AA117=0,\"非\",\"\"))))","v":""}]
[]
[]
[null,"備考・通信欄"]
[]
[]
[]
[]
[]
[]
[]
[]
[]
[]
[]
[]
[]
[]
[]
[]
[]
[]
[]
[]
[]
[null,null,null,null,null,null,null,null,null,null,null,null,"請求明細書 (貴社控)"]
[]
[]
[]
[]
[]
[]
[]
[null,"株 式 会 社 小 田 道 路",null,null,null,null,null,null,null,null,null,null,null,"御中"]
[null,null,null,null,null,null,null,null,null,null,null,null,null,null,null,null,null,null,null,null,null,null,"請求年月日",null,null,null,null,{"$f":"IF(年=\"\",\"\",年)","v":""},null,null,null,{"$f":"IF(月=\"\",\"\",月)","v":""},null,null,{"$f":"IF(日=\"\",\"\",日)","v":""}]
[]
[]
[]
[]
[]
[null,"業者名",null,null,null,{"$f":"IF(社名=\"\",\"\",社名)","v":""}]
[]
[]
[]
[]
[]
[]
[null,"工事番号",null,null,null,{"$f":"IF(F25=\"\",\"\",F25)","v":""},null,null,null,"工事名",null,null,null,{"$f":"IF(N25=\"\",\"\",N25)","v":""}]
[]
[]
[]
[]
[null,"月　日",null,null,null,"摘要･品名",null,null,null,null,null,null,null,null,null,null,null,null,null,null,"数 量",null,null,"単位",null,null,"単価",null,null,null,null,"金額(税抜)"]
[]
[]
[]
[null,{"$f":"IF(B34=\"\",\"\",B34)","v":""},null,{"$f":"IF(D34=\"\",\"\",D34)","v":""},null,{"$f":"IF(F34=\"\",\"\",F34)","v":""},null,null,null,null,null,null,null,null,null,null,null,null,null,null,{"$f":"IF(U34=\"\",\"\",U34)","v":""},null,null,{"$f":"IF(X34=\"\",\"\",X34)","v":""},null,null,{"$f":"IF(AA34=\"\",\"\",AA34)","v":""},null,null,null,null,{"$f":"IF(F173=\"\",\"\",U173*AA173)","v":""}]
[]
[]
[]
[null,{"$f":"IF(B38=\"\",\"\",B38)","v":""},null,{"$f":"IF(D38=\"\",\"\",D38)","v":""},null,{"$f":"IF(F38=\"\",\"\",F38)","v":""},null,null,null,null,null,null,null,null,null,null,null,null,null,null,{"$f":"IF(U38=\"\",\"\",U38)","v":""},null,null,{"$f":"IF(X38=\"\",\"\",X38)","v":""},null,null,{"$f":"IF(AA38=\"\",\"\",AA38)","v":""},null,null,null,null,{"$f":"IF(F177=\"\",\"\",U177*AA177)","v":""}]
[]
[]
[]
[null,{"$f":"IF(B42=\"\",\"\",B42)","v":""},null,{"$f":"IF(D42=\"\",\"\",D42)","v":""},null,{"$f":"IF(F42=\"\",\"\",F42)","v":""},null,null,null,null,null,null,null,null,null,null,null,null,null,null,{"$f":"IF(U42=\"\",\"\",U42)","v":""},null,null,{"$f":"IF(X42=\"\",\"\",X42)","v":""},null,null,{"$f":"IF(AA42=\"\",\"\",AA42)","v":""},null,null,null,null,{"$f":"IF(F181=\"\",\"\",U181*AA181)","v":""}]
[]
[]
[]
[null,{"$f":"IF(B46=\"\",\"\",B46)","v":""},null,{"$f":"IF(D46=\"\",\"\",D46)","v":""},null,{"$f":"IF(F46=\"\",\"\",F46)","v":""},null,null,null,null,null,null,null,null,null,null,null,null,null,null,{"$f":"IF(U46=\"\",\"\",U46)","v":""},null,null,{"$f":"IF(X46=\"\",\"\",X46)","v":""},null,null,{"$f":"IF(AA46=\"\",\"\",AA46)","v":""},null,null,null,null,{"$f":"IF(F185=\"\",\"\",U185*AA185)","v":""}]
[]
[]
[]
[null,{"$f":"IF(B50=\"\",\"\",B50)","v":""},null,{"$f":"IF(D50=\"\",\"\",D50)","v":""},null,{"$f":"IF(F50=\"\",\"\",F50)","v":""},null,null,null,null,null,null,null,null,null,null,null,null,null,null,{"$f":"IF(U50=\"\",\"\",U50)","v":""},null,null,{"$f":"IF(X50=\"\",\"\",X50)","v":""},null,null,{"$f":"IF(AA50=\"\",\"\",AA50)","v":""},null,null,null,null,{"$f":"IF(F189=\"\",\"\",U189*AA189)","v":""}]
[]
[]
[]
[null,{"$f":"IF(B54=\"\",\"\",B54)","v":""},null,{"$f":"IF(D54=\"\",\"\",D54)","v":""},null,{"$f":"IF(F54=\"\",\"\",F54)","v":""},null,null,null,null,null,null,null,null,null,null,null,null,null,null,{"$f":"IF(U54=\"\",\"\",U54)","v":""},null,null,{"$f":"IF(X54=\"\",\"\",X54)","v":""},null,null,{"$f":"IF(AA54=\"\",\"\",AA54)","v":""},null,null,null,null,{"$f":"IF(F193=\"\",\"\",U193*AA193)","v":""}]
[]
[]
[]
[null,{"$f":"IF(B58=\"\",\"\",B58)","v":""},null,{"$f":"IF(D58=\"\",\"\",D58)","v":""},null,{"$f":"IF(F58=\"\",\"\",F58)","v":""},null,null,null,null,null,null,null,null,null,null,null,null,null,null,{"$f":"IF(U58=\"\",\"\",U58)","v":""},null,null,{"$f":"IF(X58=\"\",\"\",X58)","v":""},null,null,{"$f":"IF(AA58=\"\",\"\",AA58)","v":""},null,null,null,null,{"$f":"IF(F197=\"\",\"\",U197*AA197)","v":""}]
[]
[]
[]
[null,{"$f":"IF(B62=\"\",\"\",B62)","v":""},null,{"$f":"IF(D62=\"\",\"\",D62)","v":""},null,{"$f":"IF(F62=\"\",\"\",F62)","v":""},null,null,null,null,null,null,null,null,null,null,null,null,null,null,{"$f":"IF(U62=\"\",\"\",U62)","v":""},null,null,{"$f":"IF(X62=\"\",\"\",X62)","v":""},null,null,{"$f":"IF(AA62=\"\",\"\",AA62)","v":""},null,null,null,null,{"$f":"IF(F201=\"\",\"\",U201*AA201)","v":""}]
[]
[]
[]
[null,{"$f":"IF(B66=\"\",\"\",B66)","v":""},null,{"$f":"IF(D66=\"\",\"\",D66)","v":""},null,{"$f":"IF(F66=\"\",\"\",F66)","v":""},null,null,null,null,null,null,null,null,null,null,null,null,null,null,{"$f":"IF(U66=\"\",\"\",U66)","v":""},null,null,{"$f":"IF(X66=\"\",\"\",X66)","v":""},null,null,{"$f":"IF(AA66=\"\",\"\",AA66)","v":""},null,null,null,null,{"$f":"IF(F205=\"\",\"\",U205*AA205)","v":""}]
[]
[]
[]
[null,{"$f":"IF(B70=\"\",\"\",B70)","v":""},null,{"$f":"IF(D70=\"\",\"\",D70)","v":""},null,{"$f":"IF(F70=\"\",\"\",F70)","v":""},null,null,null,null,null,null,null,null,null,null,null,null,null,null,{"$f":"IF(U70=\"\",\"\",U70)","v":""},null,null,{"$f":"IF(X70=\"\",\"\",X70)","v":""},null,null,{"$f":"IF(AA70=\"\",\"\",AA70)","v":""},null,null,null,null,{"$f":"IF(F209=\"\",\"\",U209*AA209)","v":""}]
[]
[]
[]
[null,{"$f":"IF(B74=\"\",\"\",B74)","v":""},null,{"$f":"IF(D74=\"\",\"\",D74)","v":""},null,{"$f":"IF(F74=\"\",\"\",F74)","v":""},null,null,null,null,null,null,null,null,null,null,null,null,null,null,{"$f":"IF(U74=\"\",\"\",U74)","v":""},null,null,{"$f":"IF(X74=\"\",\"\",X74)","v":""},null,null,{"$f":"IF(AA74=\"\",\"\",AA74)","v":""},null,null,null,null,{"$f":"IF(F213=\"\",\"\",U213*AA213)","v":""}]
[]
[]
[]
[null,{"$f":"IF(B78=\"\",\"\",B78)","v":""},null,{"$f":"IF(D78=\"\",\"\",D78)","v":""},null,{"$f":"IF(F78=\"\",\"\",F78)","v":""},null,null,null,null,null,null,null,null,null,null,null,null,null,null,{"$f":"IF(U78=\"\",\"\",U78)","v":""},null,null,{"$f":"IF(X78=\"\",\"\",X78)","v":""},null,null,{"$f":"IF(AA78=\"\",\"\",AA78)","v":""},null,null,null,null,{"$f":"IF(F217=\"\",\"\",U217*AA217)","v":""}]
[]
[]
[]
[null,{"$f":"IF(B82=\"\",\"\",B82)","v":""},null,{"$f":"IF(D82=\"\",\"\",D82)","v":""},null,{"$f":"IF(F82=\"\",\"\",F82)","v":""},null,null,null,null,null,null,null,null,null,null,null,null,null,null,{"$f":"IF(U82=\"\",\"\",U82)","v":""},null,null,{"$f":"IF(X82=\"\",\"\",X82)","v":""},null,null,{"$f":"IF(AA82=\"\",\"\",AA82)","v":""},null,null,null,null,{"$f":"IF(F221=\"\",\"\",U221*AA221)","v":""}]
[]
[]
[]
[null,{"$f":"IF(B86=\"\",\"\",B86)","v":""},null,{"$f":"IF(D86=\"\",\"\",D86)","v":""},null,{"$f":"IF(F86=\"\",\"\",F86)","v":""},null,null,null,null,null,null,null,null,null,null,null,null,null,null,{"$f":"IF(U86=\"\",\"\",U86)","v":""},null,null,{"$f":"IF(X86=\"\",\"\",X86)","v":""},null,null,{"$f":"IF(AA86=\"\",\"\",AA86)","v":""},null,null,null,null,{"$f":"IF(F225=\"\",\"\",U225*AA225)","v":""}]
[]
[]
[]
[null,{"$f":"IF(B90=\"\",\"\",B90)","v":""},null,{"$f":"IF(D90=\"\",\"\",D90)","v":""},null,{"$f":"IF(F90=\"\",\"\",F90)","v":""},null,null,null,null,null,null,null,null,null,null,null,null,null,null,{"$f":"IF(U90=\"\",\"\",U90)","v":""},null,null,{"$f":"IF(X90=\"\",\"\",X90)","v":""},null,null,{"$f":"IF(AA90=\"\",\"\",AA90)","v":""},null,null,null,null,{"$f":"IF(F229=\"\",\"\",U229*AA229)","v":""}]
[]
[]
[]
[null,{"$f":"IF(B94=\"\",\"\",B94)","v":""},null,{"$f":"IF(D94=\"\",\"\",D94)","v":""},null,{"$f":"IF(F94=\"\",\"\",F94)","v":""},null,null,null,null,null,null,null,null,null,null,null,null,null,null,{"$f":"IF(U94=\"\",\"\",U94)","v":""},null,null,{"$f":"IF(X94=\"\",\"\",X94)","v":""},null,null,{"$f":"IF(AA94=\"\",\"\",AA94)","v":""},null,null,null,null,{"$f":"IF(F233=\"\",\"\",U233*AA233)","v":""}]
[]
[]
[]
[null,{"$f":"IF(B98=\"\",\"\",B98)","v":""},null,{"$f":"IF(D98=\"\",\"\",D98)","v":""},null,{"$f":"IF(F98=\"\",\"\",F98)","v":""},null,null,null,null,null,null,null,null,null,null,null,null,null,null,{"$f":"IF(U98=\"\",\"\",U98)","v":""},null,null,{"$f":"IF(X98=\"\",\"\",X98)","v":""},null,null,{"$f":"IF(AA98=\"\",\"\",AA98)","v":""},null,null,null,null,{"$f":"IF(F237=\"\",\"\",U237*AA237)","v":""}]
[]
[]
[]
[null,{"$f":"IF(B102=\"\",\"\",B102)","v":""},null,{"$f":"IF(D102=\"\",\"\",D102)","v":""},null,{"$f":"IF(F102=\"\",\"\",F102)","v":""},null,null,null,null,null,null,null,null,null,null,null,null,null,null,{"$f":"IF(U102=\"\",\"\",U102)","v":""},null,null,{"$f":"IF(X102=\"\",\"\",X102)","v":""},null,null,{"$f":"IF(AA102=\"\",\"\",AA102)","v":""},null,null,null,null,{"$f":"IF(F241=\"\",\"\",U241*AA241)","v":""}]
[]
[]
[]
[null,{"$f":"IF(B106=\"\",\"\",B106)","v":""},null,{"$f":"IF(D106=\"\",\"\",D106)","v":""},null,{"$f":"IF(F106=\"\",\"\",F106)","v":""},null,null,null,null,null,null,null,null,null,null,null,null,null,null,{"$f":"IF(U106=\"\",\"\",U106)","v":""},null,null,{"$f":"IF(X106=\"\",\"\",X106)","v":""},null,null,{"$f":"IF(AA106=\"\",\"\",AA106)","v":""},null,null,null,null,{"$f":"IF(F245=\"\",\"\",U245*AA245)","v":""}]
[]
[]
[]
[null,null,null,null,null,null,null,null,null,null,null,null,null,null,null,null,null,null,null,null,"金額(税抜)",null,null,null,null,null,null,null,null,null,null,{"$f":"IF(AF173=\"\",\"\",SUM(AF173:AF245))","v":""}]
[]
[]
[]
[]
[null,null,null,null,null,null,null,null,null,null,null,null,null,null,null,null,null,null,null,null,"消費税",null,null,null,null,null,"税率",null,null,"税調",null,{"$f":"IF(AF115=\"\",\"\",AF115)","v":""}]
[]
[null,null,null,null,null,null,null,null,null,null,null,null,null,null,null,null,null,null,null,null,null,null,null,null,null,null,{"$f":"IF(AA117=\"\",\"\",AA117)","v":""},null,{"$f":"IF(AC117=\"\",\"\",AC117)","v":""},{"$f":"IF(AD117=\"\",\"\",AD117)","v":""}]
[]
[]
[null,"備考・通信欄"]

{"sheet":"細1-11","index":12,"n_rows":259,"n_cols":35,"rows_kept":259,"cut":false,"hidden":false,"merged":[[258,1,275,2],[253,20,256,25],[253,26,254,28],[253,29,254,30],[255,26,256,27],[255,28,256,28],[255,29,256,30],[240,1,243,2],[240,3,243,4],[240,5,243,19],[240,20,243,22],[240,23,243,25],[240,26,243,30],[248,20,251,30],[244,1,247,2],[244,3,247,4],[244,5,247,19],[244,20,247,22],[244,23,247,25],[244,26,247,30],[244,31,247,36],[232,1,235,2],[232,3,235,4],[232,5,235,19],[232,20,235,22],[232,23,235,25],[232,26,235,30],[232,31,235,36],[236,1,239,2],[236,3,239,4],[236,5,239,19],[236,20,239,22],[236,23,239,25],[236,26,239,30],[236,31,239,36],[212,1,215,2],[212,3,215,4],[212,5,215,19],[212,20,215,22],[212,23,215,25],[212,26,215,30],[212,31,215,36],[216,1,219,2],[216,3,219,4],[216,5,219,19],[216,20,219,22],[216,23,219,25],[216,26,219,30],[216,31,219,36],[192,1,195,2],[192,3,195,4],[192,5,195,19],[192,20,195,22],[192,23,195,25],[192,26,195,30],[192,31,195,36],[200,1,203,2],[200,3,203,4],[200,5,203,19],[200,20,203,22],[200,23,203,25],[200,26,203,30],[200,31,203,36],[176,1,179,2],[176,3,179,4],[176,5,179,19],[176,20,179,22],[176,23,179,25],[176,26,179,30],[176,31,179,36],[180,1,183,2],[180,3,183,4],[180,5,183,19],[180,20,183,22],[180,23,183,25],[180,26,183,30],[180,31,183,36],[168,1,171,4],[168,5,171,19],[168,20,171,22],[168,23,171,25],[168,26,171,30],[168,31,171,36],[172,1,175,2],[172,3,175,4],[172,5,175,19],[172,20,175,22],[172,23,175,25],[172,26,175,30],[172,31,175,36],[149,1,152,12],[149,13,152,14],[150,22,152,26],[150,27,152,30],[150,31,152,33],[150,34,152,36],[156,1,159,4],[156,5,159,17],[163,1,166,4],[163,5,166,8],[163,9,166,12],[163,13,166,36],[105,26,108,30],[105,31,108,36],[109,20,112,30],[109,31,112,36],[110,1,111,8],[110,9,111,13],[110,14,111,18],[112,1,117,8],[112,9,117,13],[112,14,117,18],[114,20,117,25],[114,26,115,28],[114,29,115,30],[114,31,117,36],[116,26,117,27],[116,28,117,28],[116,29,117,30],[89,20,92,22],[89,23,92,25],[89,26,92,30],[89,31,92,36],[97,26,100,30],[97,31,100,36],[101,1,104,2],[101,3,104,4],[101,5,104,19],[101,20,104,22],[101,23,104,25],[101,26,104,30],[101,31,104,36],[93,26,96,30],[93,31,96,36],[89,1,92,2],[89,3,92,4],[89,5,92,19],[73,1,76,2],[73,3,76,4],[73,5,76,19],[73,20,76,22],[73,23,76,25],[73,26,76,30],[73,31,76,36],[77,1,80,2],[77,3,80,4],[77,5,80,19],[77,20,80,22],[77,23,80,25],[77,26,80,30],[77,31,80,36],[65,1,68,2],[65,3,68,4],[65,5,68,19],[65,20,68,22],[65,23,68,25],[65,26,68,30],[65,31,68,36],[69,1,72,2],[69,3,72,4],[69,5,72,19],[69,20,72,22],[69,23,72,25],[69,26,72,30],[69,31,72,36],[57,1,60,2],[57,3,60,4],[57,5,60,19],[57,20,60,22],[57,23,60,25],[57,26,60,30],[57,31,60,36],[61,1,64,2],[61,3,64,4],[61,5,64,19],[61,20,64,22],[61,23,64,25],[61,26,64,30],[61,31,64,36],[49,1,52,2],[49,3,52,4],[49,5,52,19],[49,20,52,22],[49,23,52,25],[49,26,52,30],[49,31,52,36],[53,1,56,2],[53,3,56,4],[53,5,56,19],[53,20,56,22],[53,23,56,25],[53,26,56,30],[53,31,56,36],[41,1,44,2],[41,3,44,4],[41,5,44,19],[41,20,44,22],[41,23,44,25],[41,26,44,30],[41,31,44,36],[45,1,48,2],[45,3,48,4],[45,5,48,19],[45,20,48,22],[45,23,48,25],[45,26,48,30],[45,31,48,36],[33,1,36,2],[33,3,36,4],[33,5,36,19],[33,20,36,22],[33,23,36,25],[33,26,36,30],[33,31,36,36],[37,1,40,2],[37,3,40,4],[37,5,40,19],[37,20,40,22],[37,23,40,25],[37,26,40,30],[37,31,40,36],[248,31,251,36],[253,31,256,36],[220,5,223,19],[220,20,223,22],[220,23,223,25],[220,1,223,2],[220,3,223,4],[220,26,223,30],[220,31,223,36],[224,1,227,2],[224,3,227,4],[224,5,227,19],[224,20,227,22],[224,23,227,25],[224,26,227,30],[224,31,227,36],[228,1,231,2],[228,3,231,4],[228,5,231,19],[228,20,231,22],[228,23,231,25],[228,26,231,30],[228,31,231,36],[240,31,243,36],[208,1,211,2],[208,3,211,4],[208,5,211,19],[208,20,211,22],[208,23,211,25],[208,26,211,30],[208,31,211,36],[196,1,199,2],[196,3,199,4],[196,5,199,19],[196,20,199,22],[196,23,199,25],[196,26,199,30],[196,31,199,36],[204,1,207,2],[204,3,207,4],[204,5,207,19],[204,20,207,22],[204,23,207,25],[204,26,207,30],[204,31,207,36],[184,1,187,2],[184,3,187,4],[184,5,187,19],[184,20,187,22],[184,23,187,25],[184,26,187,30],[184,31,187,36],[188,1,191,2],[188,3,191,4],[188,5,191,19],[188,20,191,22],[188,23,191,25],[188,26,191,30],[188,31,191,36],[141,12,144,25],[119,1,136,2],[105,1,108,2],[105,3,108,4],[105,5,108,19],[93,1,96,2],[93,3,96,4],[93,5,96,19],[93,20,96,22],[93,23,96,25],[105,20,108,22],[105,23,108,25],[97,1,100,2],[97,3,100,4],[97,5,100,19],[97,20,100,22],[97,23,100,25],[81,1,84,2],[81,3,84,4],[81,5,84,19],[81,20,84,22],[81,23,84,25],[81,26,84,30],[81,31,84,36],[85,1,88,2],[85,3,88,4],[85,5,88,19],[85,20,88,22],[85,23,88,25],[85,26,88,30],[85,31,88,36],[2,12,5,25],[10,1,13,12],[10,13,13,14],[11,22,13,26],[11,27,13,30],[11,31,13,33],[11,34,13,36],[29,5,32,19],[29,20,32,22],[29,23,32,25],[29,26,32,30],[29,31,32,36],[17,1,20,4],[17,5,20,17],[24,1,27,4],[24,5,27,8],[24,9,27,12],[24,13,27,36],[29,1,32,4]]}
[]
[]
[null,null,null,null,null,null,null,null,null,null,null,null,"請求明細書 (正)"]
[]
[]
[]
[]
[]
[]
[]
[null,"株 式 会 社 小 田 道 路",null,null,null,null,null,null,null,null,null,null,null,"御中"]
[null,null,null,null,null,null,null,null,null,null,null,null,null,null,null,null,null,null,null,null,null,null,"請求年月日",null,null,null,null,{"$f":"IF(年=\"\",\"\",年)","v":""},null,null,null,{"$f":"IF(月=\"\",\"\",月)","v":""},null,null,{"$f":"IF(日=\"\",\"\",日)","v":""}]
[]
[]
[]
[]
[]
[null,"業者名",null,null,null,{"$f":"IF(社名=\"\",\"\",社名)","v":""}]
[]
[]
[]
[]
[]
[]
[null,"工事番号",null,null,null,null,null,null,null,"工事名"]
[]
[]
[]
[]
[null,"月 日",null,null,null,"品 名・内 訳",null,null,null,null,null,null,null,null,null,null,null,null,null,null,"数 量",null,null,"単位",null,null,"単価",null,null,null,null,"金額(税抜)"]
[]
[]
[]
[null,null,null,null,null,null,null,null,null,null,null,null,null,null,null,null,null,null,null,null,null,null,null,null,null,null,null,null,null,null,null,{"$f":"IF(F34=\"\",\"\",ROUND(U34*AA34,0))","v":""}]
[]
[]
[]
[null,null,null,null,null,null,null,null,null,null,null,null,null,null,null,null,null,null,null,null,null,null,null,null,null,null,null,null,null,null,null,{"$f":"IF(F38=\"\",\"\",ROUND(U38*AA38,0))","v":""}]
[]
[]
[]
[null,null,null,null,null,null,null,null,null,null,null,null,null,null,null,null,null,null,null,null,null,null,null,null,null,null,null,null,null,null,null,{"$f":"IF(F42=\"\",\"\",ROUND(U42*AA42,0))","v":""}]
[]
[]
[]
[null,null,null,null,null,null,null,null,null,null,null,null,null,null,null,null,null,null,null,null,null,null,null,null,null,null,null,null,null,null,null,{"$f":"IF(F46=\"\",\"\",ROUND(U46*AA46,0))","v":""}]
[]
[]
[]
[null,null,null,null,null,null,null,null,null,null,null,null,null,null,null,null,null,null,null,null,null,null,null,null,null,null,null,null,null,null,null,{"$f":"IF(F50=\"\",\"\",ROUND(U50*AA50,0))","v":""}]
[]
[]
[]
[null,null,null,null,null,null,null,null,null,null,null,null,null,null,null,null,null,null,null,null,null,null,null,null,null,null,null,null,null,null,null,{"$f":"IF(F54=\"\",\"\",ROUND(U54*AA54,0))","v":""}]
[]
[]
[]
[null,null,null,null,null,null,null,null,null,null,null,null,null,null,null,null,null,null,null,null,null,null,null,null,null,null,null,null,null,null,null,{"$f":"IF(F58=\"\",\"\",ROUND(U58*AA58,0))","v":""}]
[]
[]
[]
[null,null,null,null,null,null,null,null,null,null,null,null,null,null,null,null,null,null,null,null,null,null,null,null,null,null,null,null,null,null,null,{"$f":"IF(F62=\"\",\"\",ROUND(U62*AA62,0))","v":""}]
[]
[]
[]
[null,null,null,null,null,null,null,null,null,null,null,null,null,null,null,null,null,null,null,null,null,null,null,null,null,null,null,null,null,null,null,{"$f":"IF(F66=\"\",\"\",ROUND(U66*AA66,0))","v":""}]
[]
[]
[]
[null,null,null,null,null,null,null,null,null,null,null,null,null,null,null,null,null,null,null,null,null,null,null,null,null,null,null,null,null,null,null,{"$f":"IF(F70=\"\",\"\",ROUND(U70*AA70,0))","v":""}]
[]
[]
[]
[null,null,null,null,null,null,null,null,null,null,null,null,null,null,null,null,null,null,null,null,null,null,null,null,null,null,null,null,null,null,null,{"$f":"IF(F74=\"\",\"\",ROUND(U74*AA74,0))","v":""}]
[]
[]
[]
[null,null,null,null,null,null,null,null,null,null,null,null,null,null,null,null,null,null,null,null,null,null,null,null,null,null,null,null,null,null,null,{"$f":"IF(F78=\"\",\"\",ROUND(U78*AA78,0))","v":""}]
[]
[]
[]
[null,null,null,null,null,null,null,null,null,null,null,null,null,null,null,null,null,null,null,null,null,null,null,null,null,null,null,null,null,null,null,{"$f":"IF(F82=\"\",\"\",ROUND(U82*AA82,0))","v":""}]
[]
[]
[]
[null,null,null,null,null,null,null,null,null,null,null,null,null,null,null,null,null,null,null,null,null,null,null,null,null,null,null,null,null,null,null,{"$f":"IF(F86=\"\",\"\",ROUND(U86*AA86,0))","v":""}]
[]
[]
[]
[null,null,null,null,null,null,null,null,null,null,null,null,null,null,null,null,null,null,null,null,null,null,null,null,null,null,null,null,null,null,null,{"$f":"IF(F90=\"\",\"\",ROUND(U90*AA90,0))","v":""}]
[]
[]
[]
[null,null,null,null,null,null,null,null,null,null,null,null,null,null,null,null,null,null,null,null,null,null,null,null,null,null,null,null,null,null,null,{"$f":"IF(F94=\"\",\"\",ROUND(U94*AA94,0))","v":""}]
[]
[]
[]
[null,null,null,null,null,null,null,null,null,null,null,null,null,null,null,null,null,null,null,null,null,null,null,null,null,null,null,null,null,null,null,{"$f":"IF(F98=\"\",\"\",ROUND(U98*AA98,0))","v":""}]
[]
[]
[]
[null,null,null,null,null,null,null,null,null,null,null,null,null,null,null,null,null,null,null,null,null,null,null,null,null,null,null,null,null,null,null,{"$f":"IF(F102=\"\",\"\",ROUND(U102*AA102,0))","v":""}]
[]
[]
[]
[null,null,null,null,null,null,null,null,null,null,null,null,null,null,null,null,null,null,null,null,null,null,null,null,null,null,null,null,null,null,null,{"$f":"IF(F106=\"\",\"\",ROUND(U106*AA106,0))","v":""}]
[]
[]
[]
[null,null,null,null,null,null,null,null,null,null,null,null,null,null,null,null,null,null,null,null,"金額(税抜)",null,null,null,null,null,null,null,null,null,null,{"$f":"IF(AF34=\"\",\"\",SUM(AF34:AF106))","v":""}]
[null,"部長",null,null,null,null,null,null,null,"担当者",null,null,null,null,"受付"]
[]
[]
[]
[null,null,null,null,null,null,null,null,null,null,null,null,null,null,null,null,null,null,null,null,"消費税",null,null,null,null,null,"税率",null,null,"税調",null,{"$f":"IF(AF110=\"\",\"\",IF(AA117=\"\",\"\",IF(AA117=8.1,ROUND(AF110*8/100,0)+AD117,ROUND(AF110*AA117/100,0)+AD117)))","v":""}]
[]
[null,null,null,null,null,null,null,null,null,null,null,null,null,null,null,null,null,null,null,null,null,null,null,null,null,null,null,null,{"$f":"IF(AA117=\"\",\"\",IF(AA117=8.1,\"旧\",IF(AA117=8,\"軽\",IF(AA117=0,\"非\",\"\"))))","v":""}]
[]
[]
[null,"備考・通信欄"]
[]
[]
[]
[]
[]
[]
[]
[]
[]
[]
[]
[]
[]
[]
[]
[]
[]
[]
[]
[]
[]
[null,null,null,null,null,null,null,null,null,null,null,null,"請求明細書 (貴社控)"]
[]
[]
[]
[]
[]
[]
[]
[null,"株 式 会 社 小 田 道 路",null,null,null,null,null,null,null,null,null,null,null,"御中"]
[null,null,null,null,null,null,null,null,null,null,null,null,null,null,null,null,null,null,null,null,null,null,"請求年月日",null,null,null,null,{"$f":"IF(年=\"\",\"\",年)","v":""},null,null,null,{"$f":"IF(月=\"\",\"\",月)","v":""},null,null,{"$f":"IF(日=\"\",\"\",日)","v":""}]
[]
[]
[]
[]
[]
[null,"業者名",null,null,null,{"$f":"IF(社名=\"\",\"\",社名)","v":""}]
[]
[]
[]
[]
[]
[]
[null,"工事番号",null,null,null,{"$f":"IF(F25=\"\",\"\",F25)","v":""},null,null,null,"工事名",null,null,null,{"$f":"IF(N25=\"\",\"\",N25)","v":""}]
[]
[]
[]
[]
[null,"月　日",null,null,null,"摘要･品名",null,null,null,null,null,null,null,null,null,null,null,null,null,null,"数 量",null,null,"単位",null,null,"単価",null,null,null,null,"金額(税抜)"]
[]
[]
[]
[null,{"$f":"IF(B34=\"\",\"\",B34)","v":""},null,{"$f":"IF(D34=\"\",\"\",D34)","v":""},null,{"$f":"IF(F34=\"\",\"\",F34)","v":""},null,null,null,null,null,null,null,null,null,null,null,null,null,null,{"$f":"IF(U34=\"\",\"\",U34)","v":""},null,null,{"$f":"IF(X34=\"\",\"\",X34)","v":""},null,null,{"$f":"IF(AA34=\"\",\"\",AA34)","v":""},null,null,null,null,{"$f":"IF(F173=\"\",\"\",U173*AA173)","v":""}]
[]
[]
[]
[null,{"$f":"IF(B38=\"\",\"\",B38)","v":""},null,{"$f":"IF(D38=\"\",\"\",D38)","v":""},null,{"$f":"IF(F38=\"\",\"\",F38)","v":""},null,null,null,null,null,null,null,null,null,null,null,null,null,null,{"$f":"IF(U38=\"\",\"\",U38)","v":""},null,null,{"$f":"IF(X38=\"\",\"\",X38)","v":""},null,null,{"$f":"IF(AA38=\"\",\"\",AA38)","v":""},null,null,null,null,{"$f":"IF(F177=\"\",\"\",U177*AA177)","v":""}]
[]
[]
[]
[null,{"$f":"IF(B42=\"\",\"\",B42)","v":""},null,{"$f":"IF(D42=\"\",\"\",D42)","v":""},null,{"$f":"IF(F42=\"\",\"\",F42)","v":""},null,null,null,null,null,null,null,null,null,null,null,null,null,null,{"$f":"IF(U42=\"\",\"\",U42)","v":""},null,null,{"$f":"IF(X42=\"\",\"\",X42)","v":""},null,null,{"$f":"IF(AA42=\"\",\"\",AA42)","v":""},null,null,null,null,{"$f":"IF(F181=\"\",\"\",U181*AA181)","v":""}]
[]
[]
[]
[null,{"$f":"IF(B46=\"\",\"\",B46)","v":""},null,{"$f":"IF(D46=\"\",\"\",D46)","v":""},null,{"$f":"IF(F46=\"\",\"\",F46)","v":""},null,null,null,null,null,null,null,null,null,null,null,null,null,null,{"$f":"IF(U46=\"\",\"\",U46)","v":""},null,null,{"$f":"IF(X46=\"\",\"\",X46)","v":""},null,null,{"$f":"IF(AA46=\"\",\"\",AA46)","v":""},null,null,null,null,{"$f":"IF(F185=\"\",\"\",U185*AA185)","v":""}]
[]
[]
[]
[null,{"$f":"IF(B50=\"\",\"\",B50)","v":""},null,{"$f":"IF(D50=\"\",\"\",D50)","v":""},null,{"$f":"IF(F50=\"\",\"\",F50)","v":""},null,null,null,null,null,null,null,null,null,null,null,null,null,null,{"$f":"IF(U50=\"\",\"\",U50)","v":""},null,null,{"$f":"IF(X50=\"\",\"\",X50)","v":""},null,null,{"$f":"IF(AA50=\"\",\"\",AA50)","v":""},null,null,null,null,{"$f":"IF(F189=\"\",\"\",U189*AA189)","v":""}]
[]
[]
[]
[null,{"$f":"IF(B54=\"\",\"\",B54)","v":""},null,{"$f":"IF(D54=\"\",\"\",D54)","v":""},null,{"$f":"IF(F54=\"\",\"\",F54)","v":""},null,null,null,null,null,null,null,null,null,null,null,null,null,null,{"$f":"IF(U54=\"\",\"\",U54)","v":""},null,null,{"$f":"IF(X54=\"\",\"\",X54)","v":""},null,null,{"$f":"IF(AA54=\"\",\"\",AA54)","v":""},null,null,null,null,{"$f":"IF(F193=\"\",\"\",U193*AA193)","v":""}]
[]
[]
[]
[null,{"$f":"IF(B58=\"\",\"\",B58)","v":""},null,{"$f":"IF(D58=\"\",\"\",D58)","v":""},null,{"$f":"IF(F58=\"\",\"\",F58)","v":""},null,null,null,null,null,null,null,null,null,null,null,null,null,null,{"$f":"IF(U58=\"\",\"\",U58)","v":""},null,null,{"$f":"IF(X58=\"\",\"\",X58)","v":""},null,null,{"$f":"IF(AA58=\"\",\"\",AA58)","v":""},null,null,null,null,{"$f":"IF(F197=\"\",\"\",U197*AA197)","v":""}]
[]
[]
[]
[null,{"$f":"IF(B62=\"\",\"\",B62)","v":""},null,{"$f":"IF(D62=\"\",\"\",D62)","v":""},null,{"$f":"IF(F62=\"\",\"\",F62)","v":""},null,null,null,null,null,null,null,null,null,null,null,null,null,null,{"$f":"IF(U62=\"\",\"\",U62)","v":""},null,null,{"$f":"IF(X62=\"\",\"\",X62)","v":""},null,null,{"$f":"IF(AA62=\"\",\"\",AA62)","v":""},null,null,null,null,{"$f":"IF(F201=\"\",\"\",U201*AA201)","v":""}]
[]
[]
[]
[null,{"$f":"IF(B66=\"\",\"\",B66)","v":""},null,{"$f":"IF(D66=\"\",\"\",D66)","v":""},null,{"$f":"IF(F66=\"\",\"\",F66)","v":""},null,null,null,null,null,null,null,null,null,null,null,null,null,null,{"$f":"IF(U66=\"\",\"\",U66)","v":""},null,null,{"$f":"IF(X66=\"\",\"\",X66)","v":""},null,null,{"$f":"IF(AA66=\"\",\"\",AA66)","v":""},null,null,null,null,{"$f":"IF(F205=\"\",\"\",U205*AA205)","v":""}]
[]
[]
[]
[null,{"$f":"IF(B70=\"\",\"\",B70)","v":""},null,{"$f":"IF(D70=\"\",\"\",D70)","v":""},null,{"$f":"IF(F70=\"\",\"\",F70)","v":""},null,null,null,null,null,null,null,null,null,null,null,null,null,null,{"$f":"IF(U70=\"\",\"\",U70)","v":""},null,null,{"$f":"IF(X70=\"\",\"\",X70)","v":""},null,null,{"$f":"IF(AA70=\"\",\"\",AA70)","v":""},null,null,null,null,{"$f":"IF(F209=\"\",\"\",U209*AA209)","v":""}]
[]
[]
[]
[null,{"$f":"IF(B74=\"\",\"\",B74)","v":""},null,{"$f":"IF(D74=\"\",\"\",D74)","v":""},null,{"$f":"IF(F74=\"\",\"\",F74)","v":""},null,null,null,null,null,null,null,null,null,null,null,null,null,null,{"$f":"IF(U74=\"\",\"\",U74)","v":""},null,null,{"$f":"IF(X74=\"\",\"\",X74)","v":""},null,null,{"$f":"IF(AA74=\"\",\"\",AA74)","v":""},null,null,null,null,{"$f":"IF(F213=\"\",\"\",U213*AA213)","v":""}]
[]
[]
[]
[null,{"$f":"IF(B78=\"\",\"\",B78)","v":""},null,{"$f":"IF(D78=\"\",\"\",D78)","v":""},null,{"$f":"IF(F78=\"\",\"\",F78)","v":""},null,null,null,null,null,null,null,null,null,null,null,null,null,null,{"$f":"IF(U78=\"\",\"\",U78)","v":""},null,null,{"$f":"IF(X78=\"\",\"\",X78)","v":""},null,null,{"$f":"IF(AA78=\"\",\"\",AA78)","v":""},null,null,null,null,{"$f":"IF(F217=\"\",\"\",U217*AA217)","v":""}]
[]
[]
[]
[null,{"$f":"IF(B82=\"\",\"\",B82)","v":""},null,{"$f":"IF(D82=\"\",\"\",D82)","v":""},null,{"$f":"IF(F82=\"\",\"\",F82)","v":""},null,null,null,null,null,null,null,null,null,null,null,null,null,null,{"$f":"IF(U82=\"\",\"\",U82)","v":""},null,null,{"$f":"IF(X82=\"\",\"\",X82)","v":""},null,null,{"$f":"IF(AA82=\"\",\"\",AA82)","v":""},null,null,null,null,{"$f":"IF(F221=\"\",\"\",U221*AA221)","v":""}]
[]
[]
[]
[null,{"$f":"IF(B86=\"\",\"\",B86)","v":""},null,{"$f":"IF(D86=\"\",\"\",D86)","v":""},null,{"$f":"IF(F86=\"\",\"\",F86)","v":""},null,null,null,null,null,null,null,null,null,null,null,null,null,null,{"$f":"IF(U86=\"\",\"\",U86)","v":""},null,null,{"$f":"IF(X86=\"\",\"\",X86)","v":""},null,null,{"$f":"IF(AA86=\"\",\"\",AA86)","v":""},null,null,null,null,{"$f":"IF(F225=\"\",\"\",U225*AA225)","v":""}]
[]
[]
[]
[null,{"$f":"IF(B90=\"\",\"\",B90)","v":""},null,{"$f":"IF(D90=\"\",\"\",D90)","v":""},null,{"$f":"IF(F90=\"\",\"\",F90)","v":""},null,null,null,null,null,null,null,null,null,null,null,null,null,null,{"$f":"IF(U90=\"\",\"\",U90)","v":""},null,null,{"$f":"IF(X90=\"\",\"\",X90)","v":""},null,null,{"$f":"IF(AA90=\"\",\"\",AA90)","v":""},null,null,null,null,{"$f":"IF(F229=\"\",\"\",U229*AA229)","v":""}]
[]
[]
[]
[null,{"$f":"IF(B94=\"\",\"\",B94)","v":""},null,{"$f":"IF(D94=\"\",\"\",D94)","v":""},null,{"$f":"IF(F94=\"\",\"\",F94)","v":""},null,null,null,null,null,null,null,null,null,null,null,null,null,null,{"$f":"IF(U94=\"\",\"\",U94)","v":""},null,null,{"$f":"IF(X94=\"\",\"\",X94)","v":""},null,null,{"$f":"IF(AA94=\"\",\"\",AA94)","v":""},null,null,null,null,{"$f":"IF(F233=\"\",\"\",U233*AA233)","v":""}]
[]
[]
[]
[null,{"$f":"IF(B98=\"\",\"\",B98)","v":""},null,{"$f":"IF(D98=\"\",\"\",D98)","v":""},null,{"$f":"IF(F98=\"\",\"\",F98)","v":""},null,null,null,null,null,null,null,null,null,null,null,null,null,null,{"$f":"IF(U98=\"\",\"\",U98)","v":""},null,null,{"$f":"IF(X98=\"\",\"\",X98)","v":""},null,null,{"$f":"IF(AA98=\"\",\"\",AA98)","v":""},null,null,null,null,{"$f":"IF(F237=\"\",\"\",U237*AA237)","v":""}]
[]
[]
[]
[null,{"$f":"IF(B102=\"\",\"\",B102)","v":""},null,{"$f":"IF(D102=\"\",\"\",D102)","v":""},null,{"$f":"IF(F102=\"\",\"\",F102)","v":""},null,null,null,null,null,null,null,null,null,null,null,null,null,null,{"$f":"IF(U102=\"\",\"\",U102)","v":""},null,null,{"$f":"IF(X102=\"\",\"\",X102)","v":""},null,null,{"$f":"IF(AA102=\"\",\"\",AA102)","v":""},null,null,null,null,{"$f":"IF(F241=\"\",\"\",U241*AA241)","v":""}]
[]
[]
[]
[null,{"$f":"IF(B106=\"\",\"\",B106)","v":""},null,{"$f":"IF(D106=\"\",\"\",D106)","v":""},null,{"$f":"IF(F106=\"\",\"\",F106)","v":""},null,null,null,null,null,null,null,null,null,null,null,null,null,null,{"$f":"IF(U106=\"\",\"\",U106)","v":""},null,null,{"$f":"IF(X106=\"\",\"\",X106)","v":""},null,null,{"$f":"IF(AA106=\"\",\"\",AA106)","v":""},null,null,null,null,{"$f":"IF(F245=\"\",\"\",U245*AA245)","v":""}]
[]
[]
[]
[null,null,null,null,null,null,null,null,null,null,null,null,null,null,null,null,null,null,null,null,"金額(税抜)",null,null,null,null,null,null,null,null,null,null,{"$f":"IF(AF173=\"\",\"\",SUM(AF173:AF245))","v":""}]
[]
[]
[]
[]
[null,null,null,null,null,null,null,null,null,null,null,null,null,null,null,null,null,null,null,null,"消費税",null,null,null,null,null,"税率",null,null,"税調",null,{"$f":"IF(AF115=\"\",\"\",AF115)","v":""}]
[]
[null,null,null,null,null,null,null,null,null,null,null,null,null,null,null,null,null,null,null,null,null,null,null,null,null,null,{"$f":"IF(AA117=\"\",\"\",AA117)","v":""},null,{"$f":"IF(AC117=\"\",\"\",AC117)","v":""},{"$f":"IF(AD117=\"\",\"\",AD117)","v":""}]
[]
[]
[null,"備考・通信欄"]

{"sheet":"細1-12","index":13,"n_rows":259,"n_cols":35,"rows_kept":259,"cut":false,"hidden":false,"merged":[[258,1,275,2],[253,20,256,25],[253,26,254,28],[248,20,251,30],[244,1,247,2],[244,3,247,4],[244,5,247,19],[244,20,247,22],[244,23,247,25],[244,26,247,30],[244,31,247,36],[253,31,256,36],[255,26,256,27],[255,28,256,28],[255,29,256,30],[253,29,254,30],[248,31,251,36],[236,1,239,2],[236,3,239,4],[236,5,239,19],[236,20,239,22],[236,23,239,25],[236,26,239,30],[236,31,239,36],[240,1,243,2],[240,3,243,4],[240,5,243,19],[240,20,243,22],[240,23,243,25],[240,26,243,30],[240,31,243,36],[228,1,231,2],[228,3,231,4],[228,5,231,19],[228,20,231,22],[228,23,231,25],[228,26,231,30],[228,31,231,36],[232,1,235,2],[232,3,235,4],[232,5,235,19],[232,20,235,22],[232,23,235,25],[232,26,235,30],[232,31,235,36],[220,1,223,2],[220,3,223,4],[220,5,223,19],[220,20,223,22],[220,23,223,25],[220,26,223,30],[220,31,223,36],[224,1,227,2],[224,3,227,4],[224,5,227,19],[224,20,227,22],[224,23,227,25],[224,26,227,30],[224,31,227,36],[188,1,191,2],[188,3,191,4],[188,5,191,19],[188,20,191,22],[188,23,191,25],[188,26,191,30],[188,31,191,36],[212,31,215,36],[216,1,219,2],[216,3,219,4],[216,5,219,19],[216,20,219,22],[216,23,219,25],[216,26,219,30],[216,31,219,36],[200,1,203,2],[200,3,203,4],[200,5,203,19],[200,20,203,22],[200,23,203,25],[200,26,203,30],[200,31,203,36],[204,1,207,2],[204,3,207,4],[180,1,183,2],[180,3,183,4],[180,5,183,19],[180,20,183,22],[180,23,183,25],[180,26,183,30],[180,31,183,36],[184,1,187,2],[184,3,187,4],[184,5,187,19],[184,20,187,22],[184,23,187,25],[184,26,187,30],[184,31,187,36],[172,1,175,2],[172,3,175,4],[172,5,175,19],[172,20,175,22],[172,23,175,25],[172,26,175,30],[172,31,175,36],[176,1,179,2],[176,3,179,4],[176,5,179,19],[176,20,179,22],[176,23,179,25],[176,26,179,30],[176,31,179,36],[163,1,166,4],[163,5,166,8],[163,9,166,12],[163,13,166,36],[168,1,171,4],[168,5,171,19],[168,20,171,22],[168,23,171,25],[168,26,171,30],[168,31,171,36],[105,1,108,2],[105,3,108,4],[105,5,108,19],[105,20,108,22],[105,23,108,25],[105,26,108,30],[105,31,108,36],[101,1,104,2],[101,3,104,4],[101,5,104,19],[81,1,84,2],[81,3,84,4],[81,5,84,19],[81,20,84,22],[81,23,84,25],[81,26,84,30],[81,31,84,36],[101,20,104,22],[101,23,104,25],[101,26,104,30],[101,31,104,36],[93,1,96,2],[93,3,96,4],[93,5,96,19],[93,20,96,22],[93,23,96,25],[93,26,96,30],[93,31,96,36],[97,1,100,2],[97,3,100,4],[97,5,100,19],[97,20,100,22],[97,23,100,25],[97,26,100,30],[73,1,76,2],[73,3,76,4],[73,5,76,19],[73,20,76,22],[73,23,76,25],[73,26,76,30],[73,31,76,36],[77,1,80,2],[77,3,80,4],[77,5,80,19],[77,20,80,22],[77,23,80,25],[77,26,80,30],[77,31,80,36],[65,1,68,2],[65,3,68,4],[65,5,68,19],[65,20,68,22],[65,23,68,25],[65,26,68,30],[65,31,68,36],[69,1,72,2],[69,3,72,4],[69,5,72,19],[69,20,72,22],[69,23,72,25],[69,26,72,30],[69,31,72,36],[57,1,60,2],[57,3,60,4],[57,5,60,19],[57,20,60,22],[57,23,60,25],[57,26,60,30],[57,31,60,36],[61,1,64,2],[61,3,64,4],[61,5,64,19],[61,20,64,22],[61,23,64,25],[61,26,64,30],[61,31,64,36],[49,1,52,2],[49,3,52,4],[49,5,52,19],[49,20,52,22],[49,23,52,25],[49,26,52,30],[49,31,52,36],[53,1,56,2],[53,3,56,4],[53,5,56,19],[53,20,56,22],[53,23,56,25],[53,26,56,30],[53,31,56,36],[41,1,44,2],[41,3,44,4],[41,5,44,19],[41,20,44,22],[41,23,44,25],[41,26,44,30],[41,31,44,36],[45,1,48,2],[45,3,48,4],[45,5,48,19],[45,20,48,22],[45,23,48,25],[45,26,48,30],[45,31,48,36],[33,1,36,2],[33,3,36,4],[33,5,36,19],[33,20,36,22],[33,23,36,25],[33,26,36,30],[33,31,36,36],[37,1,40,2],[37,3,40,4],[37,5,40,19],[37,20,40,22],[37,23,40,25],[37,26,40,30],[37,31,40,36],[24,5,27,8],[24,9,27,12],[24,13,27,36],[29,1,32,4],[29,5,32,19],[29,20,32,22],[29,23,32,25],[29,26,32,30],[29,31,32,36],[2,12,5,25],[10,1,13,12],[85,5,88,19],[85,20,88,22],[85,23,88,25],[85,26,88,30],[85,31,88,36],[89,5,92,19],[89,20,92,22],[89,23,92,25],[89,26,92,30],[85,1,88,2],[85,3,88,4],[89,1,92,2],[89,3,92,4],[89,31,92,36],[10,13,13,14],[11,22,13,26],[11,27,13,30],[11,31,13,33],[11,34,13,36],[17,1,20,4],[17,5,20,17],[24,1,27,4],[149,1,152,12],[149,13,152,14],[150,22,152,26],[150,27,152,30],[150,31,152,33],[150,34,152,36],[156,1,159,4],[156,5,159,17],[97,31,100,36],[109,20,112,30],[109,31,112,36],[110,1,111,8],[110,9,111,13],[110,14,111,18],[112,1,117,8],[112,9,117,13],[112,14,117,18],[114,20,117,25],[114,26,115,28],[114,29,115,30],[114,31,117,36],[116,26,117,27],[116,28,117,28],[116,29,117,30],[204,31,207,36],[208,1,211,2],[208,3,211,4],[208,5,211,19],[208,20,211,22],[208,23,211,25],[208,26,211,30],[208,31,211,36],[119,1,136,2],[141,12,144,25],[196,1,199,2],[196,3,199,4],[196,5,199,19],[196,20,199,22],[196,23,199,25],[196,26,199,30],[196,31,199,36],[192,1,195,2],[192,3,195,4],[192,5,195,19],[192,20,195,22],[192,23,195,25],[192,26,195,30],[192,31,195,36],[212,1,215,2],[212,3,215,4],[212,5,215,19],[212,20,215,22],[212,23,215,25],[212,26,215,30],[204,5,207,19],[204,20,207,22],[204,23,207,25],[204,26,207,30]]}
[]
[]
[null,null,null,null,null,null,null,null,null,null,null,null,"請求明細書 (正)"]
[]
[]
[]
[]
[]
[]
[]
[null,"株 式 会 社 小 田 道 路",null,null,null,null,null,null,null,null,null,null,null,"御中"]
[null,null,null,null,null,null,null,null,null,null,null,null,null,null,null,null,null,null,null,null,null,null,"請求年月日",null,null,null,null,{"$f":"IF(年=\"\",\"\",年)","v":""},null,null,null,{"$f":"IF(月=\"\",\"\",月)","v":""},null,null,{"$f":"IF(日=\"\",\"\",日)","v":""}]
[]
[]
[]
[]
[]
[null,"業者名",null,null,null,{"$f":"IF(社名=\"\",\"\",社名)","v":""}]
[]
[]
[]
[]
[]
[]
[null,"工事番号",null,null,null,null,null,null,null,"工事名"]
[]
[]
[]
[]
[null,"月 日",null,null,null,"品 名・内 訳",null,null,null,null,null,null,null,null,null,null,null,null,null,null,"数 量",null,null,"単位",null,null,"単価",null,null,null,null,"金額(税抜)"]
[]
[]
[]
[null,null,null,null,null,null,null,null,null,null,null,null,null,null,null,null,null,null,null,null,null,null,null,null,null,null,null,null,null,null,null,{"$f":"IF(F34=\"\",\"\",ROUND(U34*AA34,0))","v":""}]
[]
[]
[]
[null,null,null,null,null,null,null,null,null,null,null,null,null,null,null,null,null,null,null,null,null,null,null,null,null,null,null,null,null,null,null,{"$f":"IF(F38=\"\",\"\",ROUND(U38*AA38,0))","v":""}]
[]
[]
[]
[null,null,null,null,null,null,null,null,null,null,null,null,null,null,null,null,null,null,null,null,null,null,null,null,null,null,null,null,null,null,null,{"$f":"IF(F42=\"\",\"\",ROUND(U42*AA42,0))","v":""}]
[]
[]
[]
[null,null,null,null,null,null,null,null,null,null,null,null,null,null,null,null,null,null,null,null,null,null,null,null,null,null,null,null,null,null,null,{"$f":"IF(F46=\"\",\"\",ROUND(U46*AA46,0))","v":""}]
[]
[]
[]
[null,null,null,null,null,null,null,null,null,null,null,null,null,null,null,null,null,null,null,null,null,null,null,null,null,null,null,null,null,null,null,{"$f":"IF(F50=\"\",\"\",ROUND(U50*AA50,0))","v":""}]
[]
[]
[]
[null,null,null,null,null,null,null,null,null,null,null,null,null,null,null,null,null,null,null,null,null,null,null,null,null,null,null,null,null,null,null,{"$f":"IF(F54=\"\",\"\",ROUND(U54*AA54,0))","v":""}]
[]
[]
[]
[null,null,null,null,null,null,null,null,null,null,null,null,null,null,null,null,null,null,null,null,null,null,null,null,null,null,null,null,null,null,null,{"$f":"IF(F58=\"\",\"\",ROUND(U58*AA58,0))","v":""}]
[]
[]
[]
[null,null,null,null,null,null,null,null,null,null,null,null,null,null,null,null,null,null,null,null,null,null,null,null,null,null,null,null,null,null,null,{"$f":"IF(F62=\"\",\"\",ROUND(U62*AA62,0))","v":""}]
[]
[]
[]
[null,null,null,null,null,null,null,null,null,null,null,null,null,null,null,null,null,null,null,null,null,null,null,null,null,null,null,null,null,null,null,{"$f":"IF(F66=\"\",\"\",ROUND(U66*AA66,0))","v":""}]
[]
[]
[]
[null,null,null,null,null,null,null,null,null,null,null,null,null,null,null,null,null,null,null,null,null,null,null,null,null,null,null,null,null,null,null,{"$f":"IF(F70=\"\",\"\",ROUND(U70*AA70,0))","v":""}]
[]
[]
[]
[null,null,null,null,null,null,null,null,null,null,null,null,null,null,null,null,null,null,null,null,null,null,null,null,null,null,null,null,null,null,null,{"$f":"IF(F74=\"\",\"\",ROUND(U74*AA74,0))","v":""}]
[]
[]
[]
[null,null,null,null,null,null,null,null,null,null,null,null,null,null,null,null,null,null,null,null,null,null,null,null,null,null,null,null,null,null,null,{"$f":"IF(F78=\"\",\"\",ROUND(U78*AA78,0))","v":""}]
[]
[]
[]
[null,null,null,null,null,null,null,null,null,null,null,null,null,null,null,null,null,null,null,null,null,null,null,null,null,null,null,null,null,null,null,{"$f":"IF(F82=\"\",\"\",ROUND(U82*AA82,0))","v":""}]
[]
[]
[]
[null,null,null,null,null,null,null,null,null,null,null,null,null,null,null,null,null,null,null,null,null,null,null,null,null,null,null,null,null,null,null,{"$f":"IF(F86=\"\",\"\",ROUND(U86*AA86,0))","v":""}]
[]
[]
[]
[null,null,null,null,null,null,null,null,null,null,null,null,null,null,null,null,null,null,null,null,null,null,null,null,null,null,null,null,null,null,null,{"$f":"IF(F90=\"\",\"\",ROUND(U90*AA90,0))","v":""}]
[]
[]
[]
[null,null,null,null,null,null,null,null,null,null,null,null,null,null,null,null,null,null,null,null,null,null,null,null,null,null,null,null,null,null,null,{"$f":"IF(F94=\"\",\"\",ROUND(U94*AA94,0))","v":""}]
[]
[]
[]
[null,null,null,null,null,null,null,null,null,null,null,null,null,null,null,null,null,null,null,null,null,null,null,null,null,null,null,null,null,null,null,{"$f":"IF(F98=\"\",\"\",ROUND(U98*AA98,0))","v":""}]
[]
[]
[]
[null,null,null,null,null,null,null,null,null,null,null,null,null,null,null,null,null,null,null,null,null,null,null,null,null,null,null,null,null,null,null,{"$f":"IF(F102=\"\",\"\",ROUND(U102*AA102,0))","v":""}]
[]
[]
[]
[null,null,null,null,null,null,null,null,null,null,null,null,null,null,null,null,null,null,null,null,null,null,null,null,null,null,null,null,null,null,null,{"$f":"IF(F106=\"\",\"\",ROUND(U106*AA106,0))","v":""}]
[]
[]
[]
[null,null,null,null,null,null,null,null,null,null,null,null,null,null,null,null,null,null,null,null,"金額(税抜)",null,null,null,null,null,null,null,null,null,null,{"$f":"IF(AF34=\"\",\"\",SUM(AF34:AF106))","v":""}]
[null,"部長",null,null,null,null,null,null,null,"担当者",null,null,null,null,"受付"]
[]
[]
[]
[null,null,null,null,null,null,null,null,null,null,null,null,null,null,null,null,null,null,null,null,"消費税",null,null,null,null,null,"税率",null,null,"税調",null,{"$f":"IF(AF110=\"\",\"\",IF(AA117=\"\",\"\",IF(AA117=8.1,ROUND(AF110*8/100,0)+AD117,ROUND(AF110*AA117/100,0)+AD117)))","v":""}]
[]
[null,null,null,null,null,null,null,null,null,null,null,null,null,null,null,null,null,null,null,null,null,null,null,null,null,null,null,null,{"$f":"IF(AA117=\"\",\"\",IF(AA117=8.1,\"旧\",IF(AA117=8,\"軽\",IF(AA117=0,\"非\",\"\"))))","v":""}]
[]
[]
[null,"備考・通信欄"]
[]
[]
[]
[]
[]
[]
[]
[]
[]
[]
[]
[]
[]
[]
[]
[]
[]
[]
[]
[]
[]
[null,null,null,null,null,null,null,null,null,null,null,null,"請求明細書 (貴社控)"]
[]
[]
[]
[]
[]
[]
[]
[null,"株 式 会 社 小 田 道 路",null,null,null,null,null,null,null,null,null,null,null,"御中"]
[null,null,null,null,null,null,null,null,null,null,null,null,null,null,null,null,null,null,null,null,null,null,"請求年月日",null,null,null,null,{"$f":"IF(年=\"\",\"\",年)","v":""},null,null,null,{"$f":"IF(月=\"\",\"\",月)","v":""},null,null,{"$f":"IF(日=\"\",\"\",日)","v":""}]
[]
[]
[]
[]
[]
[null,"業者名",null,null,null,{"$f":"IF(社名=\"\",\"\",社名)","v":""}]
[]
[]
[]
[]
[]
[]
[null,"工事番号",null,null,null,{"$f":"IF(F25=\"\",\"\",F25)","v":""},null,null,null,"工事名",null,null,null,{"$f":"IF(N25=\"\",\"\",N25)","v":""}]
[]
[]
[]
[]
[null,"月　日",null,null,null,"摘要･品名",null,null,null,null,null,null,null,null,null,null,null,null,null,null,"数 量",null,null,"単位",null,null,"単価",null,null,null,null,"金額(税抜)"]
[]
[]
[]
[null,{"$f":"IF(B34=\"\",\"\",B34)","v":""},null,{"$f":"IF(D34=\"\",\"\",D34)","v":""},null,{"$f":"IF(F34=\"\",\"\",F34)","v":""},null,null,null,null,null,null,null,null,null,null,null,null,null,null,{"$f":"IF(U34=\"\",\"\",U34)","v":""},null,null,{"$f":"IF(X34=\"\",\"\",X34)","v":""},null,null,{"$f":"IF(AA34=\"\",\"\",AA34)","v":""},null,null,null,null,{"$f":"IF(F173=\"\",\"\",U173*AA173)","v":""}]
[]
[]
[]
[null,{"$f":"IF(B38=\"\",\"\",B38)","v":""},null,{"$f":"IF(D38=\"\",\"\",D38)","v":""},null,{"$f":"IF(F38=\"\",\"\",F38)","v":""},null,null,null,null,null,null,null,null,null,null,null,null,null,null,{"$f":"IF(U38=\"\",\"\",U38)","v":""},null,null,{"$f":"IF(X38=\"\",\"\",X38)","v":""},null,null,{"$f":"IF(AA38=\"\",\"\",AA38)","v":""},null,null,null,null,{"$f":"IF(F177=\"\",\"\",U177*AA177)","v":""}]
[]
[]
[]
[null,{"$f":"IF(B42=\"\",\"\",B42)","v":""},null,{"$f":"IF(D42=\"\",\"\",D42)","v":""},null,{"$f":"IF(F42=\"\",\"\",F42)","v":""},null,null,null,null,null,null,null,null,null,null,null,null,null,null,{"$f":"IF(U42=\"\",\"\",U42)","v":""},null,null,{"$f":"IF(X42=\"\",\"\",X42)","v":""},null,null,{"$f":"IF(AA42=\"\",\"\",AA42)","v":""},null,null,null,null,{"$f":"IF(F181=\"\",\"\",U181*AA181)","v":""}]
[]
[]
[]
[null,{"$f":"IF(B46=\"\",\"\",B46)","v":""},null,{"$f":"IF(D46=\"\",\"\",D46)","v":""},null,{"$f":"IF(F46=\"\",\"\",F46)","v":""},null,null,null,null,null,null,null,null,null,null,null,null,null,null,{"$f":"IF(U46=\"\",\"\",U46)","v":""},null,null,{"$f":"IF(X46=\"\",\"\",X46)","v":""},null,null,{"$f":"IF(AA46=\"\",\"\",AA46)","v":""},null,null,null,null,{"$f":"IF(F185=\"\",\"\",U185*AA185)","v":""}]
[]
[]
[]
[null,{"$f":"IF(B50=\"\",\"\",B50)","v":""},null,{"$f":"IF(D50=\"\",\"\",D50)","v":""},null,{"$f":"IF(F50=\"\",\"\",F50)","v":""},null,null,null,null,null,null,null,null,null,null,null,null,null,null,{"$f":"IF(U50=\"\",\"\",U50)","v":""},null,null,{"$f":"IF(X50=\"\",\"\",X50)","v":""},null,null,{"$f":"IF(AA50=\"\",\"\",AA50)","v":""},null,null,null,null,{"$f":"IF(F189=\"\",\"\",U189*AA189)","v":""}]
[]
[]
[]
[null,{"$f":"IF(B54=\"\",\"\",B54)","v":""},null,{"$f":"IF(D54=\"\",\"\",D54)","v":""},null,{"$f":"IF(F54=\"\",\"\",F54)","v":""},null,null,null,null,null,null,null,null,null,null,null,null,null,null,{"$f":"IF(U54=\"\",\"\",U54)","v":""},null,null,{"$f":"IF(X54=\"\",\"\",X54)","v":""},null,null,{"$f":"IF(AA54=\"\",\"\",AA54)","v":""},null,null,null,null,{"$f":"IF(F193=\"\",\"\",U193*AA193)","v":""}]
[]
[]
[]
[null,{"$f":"IF(B58=\"\",\"\",B58)","v":""},null,{"$f":"IF(D58=\"\",\"\",D58)","v":""},null,{"$f":"IF(F58=\"\",\"\",F58)","v":""},null,null,null,null,null,null,null,null,null,null,null,null,null,null,{"$f":"IF(U58=\"\",\"\",U58)","v":""},null,null,{"$f":"IF(X58=\"\",\"\",X58)","v":""},null,null,{"$f":"IF(AA58=\"\",\"\",AA58)","v":""},null,null,null,null,{"$f":"IF(F197=\"\",\"\",U197*AA197)","v":""}]
[]
[]
[]
[null,{"$f":"IF(B62=\"\",\"\",B62)","v":""},null,{"$f":"IF(D62=\"\",\"\",D62)","v":""},null,{"$f":"IF(F62=\"\",\"\",F62)","v":""},null,null,null,null,null,null,null,null,null,null,null,null,null,null,{"$f":"IF(U62=\"\",\"\",U62)","v":""},null,null,{"$f":"IF(X62=\"\",\"\",X62)","v":""},null,null,{"$f":"IF(AA62=\"\",\"\",AA62)","v":""},null,null,null,null,{"$f":"IF(F201=\"\",\"\",U201*AA201)","v":""}]
[]
[]
[]
[null,{"$f":"IF(B66=\"\",\"\",B66)","v":""},null,{"$f":"IF(D66=\"\",\"\",D66)","v":""},null,{"$f":"IF(F66=\"\",\"\",F66)","v":""},null,null,null,null,null,null,null,null,null,null,null,null,null,null,{"$f":"IF(U66=\"\",\"\",U66)","v":""},null,null,{"$f":"IF(X66=\"\",\"\",X66)","v":""},null,null,{"$f":"IF(AA66=\"\",\"\",AA66)","v":""},null,null,null,null,{"$f":"IF(F205=\"\",\"\",U205*AA205)","v":""}]
[]
[]
[]
[null,{"$f":"IF(B70=\"\",\"\",B70)","v":""},null,{"$f":"IF(D70=\"\",\"\",D70)","v":""},null,{"$f":"IF(F70=\"\",\"\",F70)","v":""},null,null,null,null,null,null,null,null,null,null,null,null,null,null,{"$f":"IF(U70=\"\",\"\",U70)","v":""},null,null,{"$f":"IF(X70=\"\",\"\",X70)","v":""},null,null,{"$f":"IF(AA70=\"\",\"\",AA70)","v":""},null,null,null,null,{"$f":"IF(F209=\"\",\"\",U209*AA209)","v":""}]
[]
[]
[]
[null,{"$f":"IF(B74=\"\",\"\",B74)","v":""},null,{"$f":"IF(D74=\"\",\"\",D74)","v":""},null,{"$f":"IF(F74=\"\",\"\",F74)","v":""},null,null,null,null,null,null,null,null,null,null,null,null,null,null,{"$f":"IF(U74=\"\",\"\",U74)","v":""},null,null,{"$f":"IF(X74=\"\",\"\",X74)","v":""},null,null,{"$f":"IF(AA74=\"\",\"\",AA74)","v":""},null,null,null,null,{"$f":"IF(F213=\"\",\"\",U213*AA213)","v":""}]
[]
[]
[]
[null,{"$f":"IF(B78=\"\",\"\",B78)","v":""},null,{"$f":"IF(D78=\"\",\"\",D78)","v":""},null,{"$f":"IF(F78=\"\",\"\",F78)","v":""},null,null,null,null,null,null,null,null,null,null,null,null,null,null,{"$f":"IF(U78=\"\",\"\",U78)","v":""},null,null,{"$f":"IF(X78=\"\",\"\",X78)","v":""},null,null,{"$f":"IF(AA78=\"\",\"\",AA78)","v":""},null,null,null,null,{"$f":"IF(F217=\"\",\"\",U217*AA217)","v":""}]
[]
[]
[]
[null,{"$f":"IF(B82=\"\",\"\",B82)","v":""},null,{"$f":"IF(D82=\"\",\"\",D82)","v":""},null,{"$f":"IF(F82=\"\",\"\",F82)","v":""},null,null,null,null,null,null,null,null,null,null,null,null,null,null,{"$f":"IF(U82=\"\",\"\",U82)","v":""},null,null,{"$f":"IF(X82=\"\",\"\",X82)","v":""},null,null,{"$f":"IF(AA82=\"\",\"\",AA82)","v":""},null,null,null,null,{"$f":"IF(F221=\"\",\"\",U221*AA221)","v":""}]
[]
[]
[]
[null,{"$f":"IF(B86=\"\",\"\",B86)","v":""},null,{"$f":"IF(D86=\"\",\"\",D86)","v":""},null,{"$f":"IF(F86=\"\",\"\",F86)","v":""},null,null,null,null,null,null,null,null,null,null,null,null,null,null,{"$f":"IF(U86=\"\",\"\",U86)","v":""},null,null,{"$f":"IF(X86=\"\",\"\",X86)","v":""},null,null,{"$f":"IF(AA86=\"\",\"\",AA86)","v":""},null,null,null,null,{"$f":"IF(F225=\"\",\"\",U225*AA225)","v":""}]
[]
[]
[]
[null,{"$f":"IF(B90=\"\",\"\",B90)","v":""},null,{"$f":"IF(D90=\"\",\"\",D90)","v":""},null,{"$f":"IF(F90=\"\",\"\",F90)","v":""},null,null,null,null,null,null,null,null,null,null,null,null,null,null,{"$f":"IF(U90=\"\",\"\",U90)","v":""},null,null,{"$f":"IF(X90=\"\",\"\",X90)","v":""},null,null,{"$f":"IF(AA90=\"\",\"\",AA90)","v":""},null,null,null,null,{"$f":"IF(F229=\"\",\"\",U229*AA229)","v":""}]
[]
[]
[]
[null,{"$f":"IF(B94=\"\",\"\",B94)","v":""},null,{"$f":"IF(D94=\"\",\"\",D94)","v":""},null,{"$f":"IF(F94=\"\",\"\",F94)","v":""},null,null,null,null,null,null,null,null,null,null,null,null,null,null,{"$f":"IF(U94=\"\",\"\",U94)","v":""},null,null,{"$f":"IF(X94=\"\",\"\",X94)","v":""},null,null,{"$f":"IF(AA94=\"\",\"\",AA94)","v":""},null,null,null,null,{"$f":"IF(F233=\"\",\"\",U233*AA233)","v":""}]
[]
[]
[]
[null,{"$f":"IF(B98=\"\",\"\",B98)","v":""},null,{"$f":"IF(D98=\"\",\"\",D98)","v":""},null,{"$f":"IF(F98=\"\",\"\",F98)","v":""},null,null,null,null,null,null,null,null,null,null,null,null,null,null,{"$f":"IF(U98=\"\",\"\",U98)","v":""},null,null,{"$f":"IF(X98=\"\",\"\",X98)","v":""},null,null,{"$f":"IF(AA98=\"\",\"\",AA98)","v":""},null,null,null,null,{"$f":"IF(F237=\"\",\"\",U237*AA237)","v":""}]
[]
[]
[]
[null,{"$f":"IF(B102=\"\",\"\",B102)","v":""},null,{"$f":"IF(D102=\"\",\"\",D102)","v":""},null,{"$f":"IF(F102=\"\",\"\",F102)","v":""},null,null,null,null,null,null,null,null,null,null,null,null,null,null,{"$f":"IF(U102=\"\",\"\",U102)","v":""},null,null,{"$f":"IF(X102=\"\",\"\",X102)","v":""},null,null,{"$f":"IF(AA102=\"\",\"\",AA102)","v":""},null,null,null,null,{"$f":"IF(F241=\"\",\"\",U241*AA241)","v":""}]
[]
[]
[]
[null,{"$f":"IF(B106=\"\",\"\",B106)","v":""},null,{"$f":"IF(D106=\"\",\"\",D106)","v":""},null,{"$f":"IF(F106=\"\",\"\",F106)","v":""},null,null,null,null,null,null,null,null,null,null,null,null,null,null,{"$f":"IF(U106=\"\",\"\",U106)","v":""},null,null,{"$f":"IF(X106=\"\",\"\",X106)","v":""},null,null,{"$f":"IF(AA106=\"\",\"\",AA106)","v":""},null,null,null,null,{"$f":"IF(F245=\"\",\"\",U245*AA245)","v":""}]
[]
[]
[]
[null,null,null,null,null,null,null,null,null,null,null,null,null,null,null,null,null,null,null,null,"金額(税抜)",null,null,null,null,null,null,null,null,null,null,{"$f":"IF(AF173=\"\",\"\",SUM(AF173:AF245))","v":""}]
[]
[]
[]
[]
[null,null,null,null,null,null,null,null,null,null,null,null,null,null,null,null,null,null,null,null,"消費税",null,null,null,null,null,"税率",null,null,"税調",null,{"$f":"IF(AF115=\"\",\"\",AF115)","v":""}]
[]
[null,null,null,null,null,null,null,null,null,null,null,null,null,null,null,null,null,null,null,null,null,null,null,null,null,null,{"$f":"IF(AA117=\"\",\"\",AA117)","v":""},null,{"$f":"IF(AC117=\"\",\"\",AC117)","v":""},{"$f":"IF(AD117=\"\",\"\",AD117)","v":""}]
[]
[]
[null,"備考・通信欄"]